BEGIN:VCALENDAR
VERSION:2.0
PRODID:-//At Play In The Woods - ECPv6.15.20//NONSGML v1.0//EN
CALSCALE:GREGORIAN
METHOD:PUBLISH
X-WR-CALNAME:At Play In The Woods
X-ORIGINAL-URL:https://atplayinthewoods.co.uk
X-WR-CALDESC:Events for At Play In The Woods
REFRESH-INTERVAL;VALUE=DURATION:PT1H
X-Robots-Tag:noindex
X-PUBLISHED-TTL:PT1H
BEGIN:VTIMEZONE
TZID:Europe/London
BEGIN:DAYLIGHT
TZOFFSETFROM:+0000
TZOFFSETTO:+0100
TZNAME:BST
DTSTART:20240331T010000
END:DAYLIGHT
BEGIN:STANDARD
TZOFFSETFROM:+0100
TZOFFSETTO:+0000
TZNAME:GMT
DTSTART:20241027T010000
END:STANDARD
BEGIN:DAYLIGHT
TZOFFSETFROM:+0000
TZOFFSETTO:+0100
TZNAME:BST
DTSTART:20250330T010000
END:DAYLIGHT
BEGIN:STANDARD
TZOFFSETFROM:+0100
TZOFFSETTO:+0000
TZNAME:GMT
DTSTART:20251026T010000
END:STANDARD
BEGIN:DAYLIGHT
TZOFFSETFROM:+0000
TZOFFSETTO:+0100
TZNAME:BST
DTSTART:20260329T010000
END:DAYLIGHT
BEGIN:STANDARD
TZOFFSETFROM:+0100
TZOFFSETTO:+0000
TZNAME:GMT
DTSTART:20261025T010000
END:STANDARD
END:VTIMEZONE
BEGIN:VEVENT
DTSTART;VALUE=DATE:20250913
DTEND;VALUE=DATE:20250914
DTSTAMP:20260423T190757
CREATED:20250708T192455Z
LAST-MODIFIED:20250708T192455Z
UID:15366-1757721600-1757807999@atplayinthewoods.co.uk
SUMMARY:USK SHOW
DESCRIPTION:SAM AT USK SHOW ALL DAY
URL:https://atplayinthewoods.co.uk/event/usk-show/
LOCATION:North Somerset
CATEGORIES:DmEvents,Private event
END:VEVENT
BEGIN:VEVENT
DTSTART;TZID=Europe/London:20250914T140000
DTEND;TZID=Europe/London:20250914T163000
DTSTAMP:20260423T190757
CREATED:20250724T124012Z
LAST-MODIFIED:20250724T124012Z
UID:15389-1757858400-1757867400@atplayinthewoods.co.uk
SUMMARY:Kirikmaa-Wands-pm
DESCRIPTION:Content is protected.
URL:https://atplayinthewoods.co.uk/event/kirikmaa-wands-pm/
LOCATION:At Play In The Woods\, At Play In The Woods\, Brockley Lane\, Chelvey\, North Somerset\, BS48 4AH\, United Kingdom
CATEGORIES:At Play In The Woods Events
ORGANIZER;CN="At Play In The Woods":MAILTO:info@atplayinthewoods.co.uk
END:VEVENT
BEGIN:VEVENT
DTSTART;TZID=Europe/London:20250920T080000
DTEND;TZID=Europe/London:20250920T120000
DTSTAMP:20260423T190757
CREATED:20250708T192225Z
LAST-MODIFIED:20250708T192225Z
UID:15364-1758355200-1758369600@atplayinthewoods.co.uk
SUMMARY:Sam unavailable AM
DESCRIPTION:SAM UNAVAILABLE AM
URL:https://atplayinthewoods.co.uk/event/sam-unavailable-am/
LOCATION:North Somerset
CATEGORIES:Private event
END:VEVENT
BEGIN:VEVENT
DTSTART;TZID=Europe/London:20250920T103000
DTEND;TZID=Europe/London:20250920T130000
DTSTAMP:20260423T190757
CREATED:20250909T155341Z
LAST-MODIFIED:20250909T155341Z
UID:15476-1758364200-1758373200@atplayinthewoods.co.uk
SUMMARY:Wylde-Pirate-AM
DESCRIPTION:Content is protected.
URL:https://atplayinthewoods.co.uk/event/wylde-pirate-am/
LOCATION:At Play In The Woods\, At Play In The Woods\, Brockley Lane\, Chelvey\, North Somerset\, BS48 4AH\, United Kingdom
CATEGORIES:At Play In The Woods Events
ORGANIZER;CN="At Play In The Woods":MAILTO:info@atplayinthewoods.co.uk
END:VEVENT
BEGIN:VEVENT
DTSTART;TZID=Europe/London:20250920T140000
DTEND;TZID=Europe/London:20250920T163000
DTSTAMP:20260423T190757
CREATED:20250823T182333Z
LAST-MODIFIED:20250823T182333Z
UID:15436-1758376800-1758385800@atplayinthewoods.co.uk
SUMMARY:Dowson-Pirate-PM
DESCRIPTION:Content is protected.
URL:https://atplayinthewoods.co.uk/event/dowson-pirate-pm/
LOCATION:At Play In The Woods\, At Play In The Woods\, Brockley Lane\, Chelvey\, North Somerset\, BS48 4AH\, United Kingdom
CATEGORIES:At Play In The Woods Events
ORGANIZER;CN="At Play In The Woods":MAILTO:info@atplayinthewoods.co.uk
END:VEVENT
BEGIN:VEVENT
DTSTART;TZID=Europe/London:20250921T103000
DTEND;TZID=Europe/London:20250921T130000
DTSTAMP:20260423T190757
CREATED:20250720T115836Z
LAST-MODIFIED:20250830T094030Z
UID:15376-1758450600-1758459600@atplayinthewoods.co.uk
SUMMARY:Blackwood-Bespoke-am
DESCRIPTION:Content is protected.
URL:https://atplayinthewoods.co.uk/event/blackwood-bespoke-am/
LOCATION:At Play In The Woods\, At Play In The Woods\, Brockley Lane\, Chelvey\, North Somerset\, BS48 4AH\, United Kingdom
CATEGORIES:At Play In The Woods Events
ORGANIZER;CN="At Play In The Woods":MAILTO:info@atplayinthewoods.co.uk
END:VEVENT
BEGIN:VEVENT
DTSTART;TZID=Europe/London:20250927T103000
DTEND;TZID=Europe/London:20250927T130000
DTSTAMP:20260423T190757
CREATED:20250813T225551Z
LAST-MODIFIED:20250813T225551Z
UID:15418-1758969000-1758978000@atplayinthewoods.co.uk
SUMMARY:Lamgton-Dens-AM
DESCRIPTION:Content is protected.
URL:https://atplayinthewoods.co.uk/event/lamgton-dens-am/
LOCATION:At Play In The Woods\, At Play In The Woods\, Brockley Lane\, Chelvey\, North Somerset\, BS48 4AH\, United Kingdom
CATEGORIES:At Play In The Woods Events
ORGANIZER;CN="At Play In The Woods":MAILTO:info@atplayinthewoods.co.uk
END:VEVENT
BEGIN:VEVENT
DTSTART;TZID=Europe/London:20250927T140000
DTEND;TZID=Europe/London:20250927T163000
DTSTAMP:20260423T190757
CREATED:20250821T223358Z
LAST-MODIFIED:20250821T223358Z
UID:15430-1758981600-1758990600@atplayinthewoods.co.uk
SUMMARY:Warrener-pirate-PM
DESCRIPTION:Content is protected.
URL:https://atplayinthewoods.co.uk/event/warrener-pirate-pm/
LOCATION:At Play In The Woods\, At Play In The Woods\, Brockley Lane\, Chelvey\, North Somerset\, BS48 4AH\, United Kingdom
CATEGORIES:At Play In The Woods Events
ORGANIZER;CN="At Play In The Woods":MAILTO:info@atplayinthewoods.co.uk
END:VEVENT
BEGIN:VEVENT
DTSTART;TZID=Europe/London:20250928T140000
DTEND;TZID=Europe/London:20250928T163000
DTSTAMP:20260423T190757
CREATED:20250902T192349Z
LAST-MODIFIED:20250902T192349Z
UID:15455-1759068000-1759077000@atplayinthewoods.co.uk
SUMMARY:Bamford-Pirate-PM
DESCRIPTION:Content is protected.
URL:https://atplayinthewoods.co.uk/event/bamford-pirate-pm/
LOCATION:At Play In The Woods\, At Play In The Woods\, Brockley Lane\, Chelvey\, North Somerset\, BS48 4AH\, United Kingdom
CATEGORIES:At Play In The Woods Events
ORGANIZER;CN="At Play In The Woods":MAILTO:info@atplayinthewoods.co.uk
END:VEVENT
END:VCALENDAR