BEGIN:VCALENDAR
VERSION:2.0
PRODID:-//At Play In The Woods - ECPv6.15.20//NONSGML v1.0//EN
CALSCALE:GREGORIAN
METHOD:PUBLISH
X-WR-CALNAME:At Play In The Woods
X-ORIGINAL-URL:https://atplayinthewoods.co.uk
X-WR-CALDESC:Events for At Play In The Woods
REFRESH-INTERVAL;VALUE=DURATION:PT1H
X-Robots-Tag:noindex
X-PUBLISHED-TTL:PT1H
BEGIN:VTIMEZONE
TZID:Europe/London
BEGIN:DAYLIGHT
TZOFFSETFROM:+0000
TZOFFSETTO:+0100
TZNAME:BST
DTSTART:20240331T010000
END:DAYLIGHT
BEGIN:STANDARD
TZOFFSETFROM:+0100
TZOFFSETTO:+0000
TZNAME:GMT
DTSTART:20241027T010000
END:STANDARD
BEGIN:DAYLIGHT
TZOFFSETFROM:+0000
TZOFFSETTO:+0100
TZNAME:BST
DTSTART:20250330T010000
END:DAYLIGHT
BEGIN:STANDARD
TZOFFSETFROM:+0100
TZOFFSETTO:+0000
TZNAME:GMT
DTSTART:20251026T010000
END:STANDARD
BEGIN:DAYLIGHT
TZOFFSETFROM:+0000
TZOFFSETTO:+0100
TZNAME:BST
DTSTART:20260329T010000
END:DAYLIGHT
BEGIN:STANDARD
TZOFFSETFROM:+0100
TZOFFSETTO:+0000
TZNAME:GMT
DTSTART:20261025T010000
END:STANDARD
END:VTIMEZONE
BEGIN:VEVENT
DTSTART;TZID=Europe/London:20250607T140000
DTEND;TZID=Europe/London:20250607T163000
DTSTAMP:20260423T220944
CREATED:20250512T170712Z
LAST-MODIFIED:20250512T172500Z
UID:15270-1749304800-1749313800@atplayinthewoods.co.uk
SUMMARY:Ward-Wands-PM
DESCRIPTION:Content is protected.
URL:https://atplayinthewoods.co.uk/event/ward-wands-pm/
LOCATION:At Play In The Woods\, At Play In The Woods\, Brockley Lane\, Chelvey\, North Somerset\, BS48 4AH\, United Kingdom
CATEGORIES:At Play In The Woods Events
ORGANIZER;CN="At Play In The Woods":MAILTO:info@atplayinthewoods.co.uk
END:VEVENT
BEGIN:VEVENT
DTSTART;TZID=Europe/London:20250614T103000
DTEND;TZID=Europe/London:20250614T130000
DTSTAMP:20260423T220944
CREATED:20241101T214437Z
LAST-MODIFIED:20241101T214437Z
UID:15079-1749897000-1749906000@atplayinthewoods.co.uk
SUMMARY:Vallace-Dens-am
DESCRIPTION:Content is protected.
URL:https://atplayinthewoods.co.uk/event/vallace-dens-am/
LOCATION:At Play In The Woods\, At Play In The Woods\, Brockley Lane\, Chelvey\, North Somerset\, BS48 4AH\, United Kingdom
CATEGORIES:At Play In The Woods Events
ORGANIZER;CN="At Play In The Woods":MAILTO:info@atplayinthewoods.co.uk
END:VEVENT
BEGIN:VEVENT
DTSTART;TZID=Europe/London:20250615T103000
DTEND;TZID=Europe/London:20250615T130000
DTSTAMP:20260423T220944
CREATED:20250511T142040Z
LAST-MODIFIED:20250511T142040Z
UID:15258-1749983400-1749992400@atplayinthewoods.co.uk
SUMMARY:Tsafouti-dens-AM
DESCRIPTION:Content is protected.
URL:https://atplayinthewoods.co.uk/event/tsafouti-dens-am/
LOCATION:At Play In The Woods\, At Play In The Woods\, Brockley Lane\, Chelvey\, North Somerset\, BS48 4AH\, United Kingdom
CATEGORIES:At Play In The Woods Events
ORGANIZER;CN="At Play In The Woods":MAILTO:info@atplayinthewoods.co.uk
END:VEVENT
BEGIN:VEVENT
DTSTART;VALUE=DATE:20250621
DTEND;VALUE=DATE:20250622
DTSTAMP:20260423T220944
CREATED:20250418T160551Z
LAST-MODIFIED:20250418T160551Z
UID:15219-1750464000-1750550399@atplayinthewoods.co.uk
SUMMARY:Harrison
DESCRIPTION:Content is protected.
URL:https://atplayinthewoods.co.uk/event/harrison/
LOCATION:At Play In The Woods\, At Play In The Woods\, Brockley Lane\, Chelvey\, North Somerset\, BS48 4AH\, United Kingdom
CATEGORIES:Private event
ORGANIZER;CN="At Play In The Woods":MAILTO:info@atplayinthewoods.co.uk
END:VEVENT
END:VCALENDAR