BEGIN:VCALENDAR
VERSION:2.0
PRODID:-//At Play In The Woods - ECPv6.15.20//NONSGML v1.0//EN
CALSCALE:GREGORIAN
METHOD:PUBLISH
X-WR-CALNAME:At Play In The Woods
X-ORIGINAL-URL:https://atplayinthewoods.co.uk
X-WR-CALDESC:Events for At Play In The Woods
REFRESH-INTERVAL;VALUE=DURATION:PT1H
X-Robots-Tag:noindex
X-PUBLISHED-TTL:PT1H
BEGIN:VTIMEZONE
TZID:Europe/London
BEGIN:DAYLIGHT
TZOFFSETFROM:+0000
TZOFFSETTO:+0100
TZNAME:BST
DTSTART:20230326T010000
END:DAYLIGHT
BEGIN:STANDARD
TZOFFSETFROM:+0100
TZOFFSETTO:+0000
TZNAME:GMT
DTSTART:20231029T010000
END:STANDARD
BEGIN:DAYLIGHT
TZOFFSETFROM:+0000
TZOFFSETTO:+0100
TZNAME:BST
DTSTART:20240331T010000
END:DAYLIGHT
BEGIN:STANDARD
TZOFFSETFROM:+0100
TZOFFSETTO:+0000
TZNAME:GMT
DTSTART:20241027T010000
END:STANDARD
BEGIN:DAYLIGHT
TZOFFSETFROM:+0000
TZOFFSETTO:+0100
TZNAME:BST
DTSTART:20250330T010000
END:DAYLIGHT
BEGIN:STANDARD
TZOFFSETFROM:+0100
TZOFFSETTO:+0000
TZNAME:GMT
DTSTART:20251026T010000
END:STANDARD
END:VTIMEZONE
BEGIN:VEVENT
DTSTART;TZID=Europe/London:20241207T110000
DTEND;TZID=Europe/London:20241207T130000
DTSTAMP:20260424T043101
CREATED:20241020T125654Z
LAST-MODIFIED:20241020T125654Z
UID:15074-1733569200-1733576400@atplayinthewoods.co.uk
SUMMARY:Kids Party Secret Garden Nursery
DESCRIPTION:Content is protected.
URL:https://atplayinthewoods.co.uk/event/kids-party-secret-garden-nursery/
LOCATION:North Somerset
CATEGORIES:Disco event
END:VEVENT
BEGIN:VEVENT
DTSTART;TZID=Europe/London:20241214T180000
DTEND;TZID=Europe/London:20241214T235500
DTSTAMP:20260424T043101
CREATED:20240926T201943Z
LAST-MODIFIED:20240926T202217Z
UID:15057-1734199200-1734220500@atplayinthewoods.co.uk
SUMMARY:England-adult disco
DESCRIPTION:Content is protected.
URL:https://atplayinthewoods.co.uk/event/england-adult-disco/
LOCATION:North Somerset
END:VEVENT
BEGIN:VEVENT
DTSTART;TZID=Europe/London:20241228T103000
DTEND;TZID=Europe/London:20241228T130000
DTSTAMP:20260424T043101
CREATED:20240814T172343Z
LAST-MODIFIED:20240814T172343Z
UID:15028-1735381800-1735390800@atplayinthewoods.co.uk
SUMMARY:Dredge-Wands-AM
DESCRIPTION:Content is protected.
URL:https://atplayinthewoods.co.uk/event/dredge-wands-am/
LOCATION:At Play In The Woods\, At Play In The Woods\, Brockley Lane\, Chelvey\, North Somerset\, BS48 4AH\, United Kingdom
CATEGORIES:At Play In The Woods Events
ORGANIZER;CN="At Play In The Woods":MAILTO:info@atplayinthewoods.co.uk
END:VEVENT
END:VCALENDAR