BEGIN:VCALENDAR
VERSION:2.0
PRODID:-//At Play In The Woods - ECPv6.15.20//NONSGML v1.0//EN
CALSCALE:GREGORIAN
METHOD:PUBLISH
X-ORIGINAL-URL:https://atplayinthewoods.co.uk
X-WR-CALDESC:Events for At Play In The Woods
REFRESH-INTERVAL;VALUE=DURATION:PT1H
X-Robots-Tag:noindex
X-PUBLISHED-TTL:PT1H
BEGIN:VTIMEZONE
TZID:Europe/London
BEGIN:DAYLIGHT
TZOFFSETFROM:+0000
TZOFFSETTO:+0100
TZNAME:BST
DTSTART:20230326T010000
END:DAYLIGHT
BEGIN:STANDARD
TZOFFSETFROM:+0100
TZOFFSETTO:+0000
TZNAME:GMT
DTSTART:20231029T010000
END:STANDARD
BEGIN:DAYLIGHT
TZOFFSETFROM:+0000
TZOFFSETTO:+0100
TZNAME:BST
DTSTART:20240331T010000
END:DAYLIGHT
BEGIN:STANDARD
TZOFFSETFROM:+0100
TZOFFSETTO:+0000
TZNAME:GMT
DTSTART:20241027T010000
END:STANDARD
BEGIN:DAYLIGHT
TZOFFSETFROM:+0000
TZOFFSETTO:+0100
TZNAME:BST
DTSTART:20250330T010000
END:DAYLIGHT
BEGIN:STANDARD
TZOFFSETFROM:+0100
TZOFFSETTO:+0000
TZNAME:GMT
DTSTART:20251026T010000
END:STANDARD
END:VTIMEZONE
BEGIN:VEVENT
DTSTART;TZID=Europe/London:20240602T103000
DTEND;TZID=Europe/London:20240602T130000
DTSTAMP:20260424T114557
CREATED:20240428T120504Z
LAST-MODIFIED:20240428T120504Z
UID:14834-1717324200-1717333200@atplayinthewoods.co.uk
SUMMARY:Muchall-dino-am
DESCRIPTION:Content is protected.
URL:https://atplayinthewoods.co.uk/event/muchall-dino-am/
LOCATION:At Play In The Woods\, At Play In The Woods\, Brockley Lane\, Chelvey\, North Somerset\, BS48 4AH\, United Kingdom
CATEGORIES:At Play In The Woods Events
ORGANIZER;CN="At Play In The Woods":MAILTO:info@atplayinthewoods.co.uk
END:VEVENT
BEGIN:VEVENT
DTSTART;TZID=Europe/London:20240608T140000
DTEND;TZID=Europe/London:20240608T163000
DTSTAMP:20260424T114557
CREATED:20240425T191637Z
LAST-MODIFIED:20240425T191637Z
UID:14819-1717855200-1717864200@atplayinthewoods.co.uk
SUMMARY:Pike-dens-PM
DESCRIPTION:Content is protected.
URL:https://atplayinthewoods.co.uk/event/pike-dens-pm/
LOCATION:At Play In The Woods\, At Play In The Woods\, Brockley Lane\, Chelvey\, North Somerset\, BS48 4AH\, United Kingdom
CATEGORIES:At Play In The Woods Events
ORGANIZER;CN="At Play In The Woods":MAILTO:info@atplayinthewoods.co.uk
END:VEVENT
BEGIN:VEVENT
DTSTART;TZID=Europe/London:20240615T140000
DTEND;TZID=Europe/London:20240615T163000
DTSTAMP:20260424T114557
CREATED:20240201T124130Z
LAST-MODIFIED:20240201T200915Z
UID:14719-1718460000-1718469000@atplayinthewoods.co.uk
SUMMARY:Whatley-Wands-AM
DESCRIPTION:Content is protected.
URL:https://atplayinthewoods.co.uk/event/whatley-wands-am/
LOCATION:At Play In The Woods\, At Play In The Woods\, Brockley Lane\, Chelvey\, North Somerset\, BS48 4AH\, United Kingdom
CATEGORIES:At Play In The Woods Events
ORGANIZER;CN="At Play In The Woods":MAILTO:info@atplayinthewoods.co.uk
END:VEVENT
BEGIN:VEVENT
DTSTART;TZID=Europe/London:20240622T103000
DTEND;TZID=Europe/London:20240622T130000
DTSTAMP:20260424T114557
CREATED:20240516T180700Z
LAST-MODIFIED:20240516T180700Z
UID:14873-1719052200-1719061200@atplayinthewoods.co.uk
SUMMARY:Bramhall-Pirates-AM
DESCRIPTION:Content is protected.
URL:https://atplayinthewoods.co.uk/event/bramhall-pirates-am/
LOCATION:At Play In The Woods\, At Play In The Woods\, Brockley Lane\, Chelvey\, North Somerset\, BS48 4AH\, United Kingdom
CATEGORIES:At Play In The Woods Events
ORGANIZER;CN="At Play In The Woods":MAILTO:info@atplayinthewoods.co.uk
END:VEVENT
BEGIN:VEVENT
DTSTART;TZID=Europe/London:20240622T140000
DTEND;TZID=Europe/London:20240622T163000
DTSTAMP:20260424T114557
CREATED:20240523T191535Z
LAST-MODIFIED:20240523T191535Z
UID:14904-1719064800-1719073800@atplayinthewoods.co.uk
SUMMARY:King-Dens-pm
DESCRIPTION:Content is protected.
URL:https://atplayinthewoods.co.uk/event/king-dens-pm/
LOCATION:At Play In The Woods\, At Play In The Woods\, Brockley Lane\, Chelvey\, North Somerset\, BS48 4AH\, United Kingdom
CATEGORIES:At Play In The Woods Events
ORGANIZER;CN="At Play In The Woods":MAILTO:info@atplayinthewoods.co.uk
END:VEVENT
BEGIN:VEVENT
DTSTART;VALUE=DATE:20240623
DTEND;VALUE=DATE:20240624
DTSTAMP:20260424T114557
CREATED:20240516T181022Z
LAST-MODIFIED:20240609T145206Z
UID:14878-1719100800-1719187199@atplayinthewoods.co.uk
SUMMARY:Zoey birthday
DESCRIPTION:Sam not available for any functions
URL:https://atplayinthewoods.co.uk/event/sam-out-of-the-business-6/
LOCATION:North Somerset
CATEGORIES:At Play In The Woods Events
END:VEVENT
BEGIN:VEVENT
DTSTART;TZID=Europe/London:20240630T103000
DTEND;TZID=Europe/London:20240630T130000
DTSTAMP:20260424T114557
CREATED:20240501T171712Z
LAST-MODIFIED:20240501T173102Z
UID:14843-1719743400-1719752400@atplayinthewoods.co.uk
SUMMARY:Xerri-woods-Bespoke-AM
DESCRIPTION:Content is protected.
URL:https://atplayinthewoods.co.uk/event/xerri-woods-bespoke-am/
LOCATION:At Play In The Woods\, At Play In The Woods\, Brockley Lane\, Chelvey\, North Somerset\, BS48 4AH\, United Kingdom
CATEGORIES:At Play In The Woods Events
ORGANIZER;CN="At Play In The Woods":MAILTO:info@atplayinthewoods.co.uk
END:VEVENT
END:VCALENDAR