BEGIN:VCALENDAR
VERSION:2.0
PRODID:-//At Play In The Woods - ECPv6.15.20//NONSGML v1.0//EN
CALSCALE:GREGORIAN
METHOD:PUBLISH
X-ORIGINAL-URL:https://atplayinthewoods.co.uk
X-WR-CALDESC:Events for At Play In The Woods
REFRESH-INTERVAL;VALUE=DURATION:PT1H
X-Robots-Tag:noindex
X-PUBLISHED-TTL:PT1H
BEGIN:VTIMEZONE
TZID:Europe/London
BEGIN:DAYLIGHT
TZOFFSETFROM:+0000
TZOFFSETTO:+0100
TZNAME:BST
DTSTART:20230326T010000
END:DAYLIGHT
BEGIN:STANDARD
TZOFFSETFROM:+0100
TZOFFSETTO:+0000
TZNAME:GMT
DTSTART:20231029T010000
END:STANDARD
BEGIN:DAYLIGHT
TZOFFSETFROM:+0000
TZOFFSETTO:+0100
TZNAME:BST
DTSTART:20240331T010000
END:DAYLIGHT
BEGIN:STANDARD
TZOFFSETFROM:+0100
TZOFFSETTO:+0000
TZNAME:GMT
DTSTART:20241027T010000
END:STANDARD
BEGIN:DAYLIGHT
TZOFFSETFROM:+0000
TZOFFSETTO:+0100
TZNAME:BST
DTSTART:20250330T010000
END:DAYLIGHT
BEGIN:STANDARD
TZOFFSETFROM:+0100
TZOFFSETTO:+0000
TZNAME:GMT
DTSTART:20251026T010000
END:STANDARD
END:VTIMEZONE
BEGIN:VEVENT
DTSTART;TZID=Europe/London:20240302T103000
DTEND;TZID=Europe/London:20240302T130000
DTSTAMP:20260424T155116
CREATED:20240115T210921Z
LAST-MODIFIED:20240121T194432Z
UID:14704-1709375400-1709384400@atplayinthewoods.co.uk
SUMMARY:Pring-Dens-AM
DESCRIPTION:Content is protected.
URL:https://atplayinthewoods.co.uk/event/pring-dens-am/
LOCATION:At Play In The Woods\, At Play In The Woods\, Brockley Lane\, Chelvey\, North Somerset\, BS48 4AH\, United Kingdom
CATEGORIES:At Play In The Woods Events
ORGANIZER;CN="At Play In The Woods":MAILTO:info@atplayinthewoods.co.uk
END:VEVENT
BEGIN:VEVENT
DTSTART;TZID=Europe/London:20240302T140000
DTEND;TZID=Europe/London:20240302T163000
DTSTAMP:20260424T155116
CREATED:20240207T165458Z
LAST-MODIFIED:20240207T165458Z
UID:14740-1709388000-1709397000@atplayinthewoods.co.uk
SUMMARY:Westaway-Bespoke-pm
DESCRIPTION:Content is protected.
URL:https://atplayinthewoods.co.uk/event/westaway-bespoke-pm/
LOCATION:At Play In The Woods\, At Play In The Woods\, Brockley Lane\, Chelvey\, North Somerset\, BS48 4AH\, United Kingdom
CATEGORIES:At Play In The Woods Events
ORGANIZER;CN="At Play In The Woods":MAILTO:info@atplayinthewoods.co.uk
END:VEVENT
BEGIN:VEVENT
DTSTART;TZID=Europe/London:20240323T013000
DTEND;TZID=Europe/London:20240323T160000
DTSTAMP:20260424T155116
CREATED:20240212T173325Z
LAST-MODIFIED:20240212T173325Z
UID:14754-1711157400-1711209600@atplayinthewoods.co.uk
SUMMARY:Disco-Sarah Keith
DESCRIPTION:Content is protected.
URL:https://atplayinthewoods.co.uk/event/disco-sarah-keith/
LOCATION:North Somerset
CATEGORIES:Disco event
END:VEVENT
BEGIN:VEVENT
DTSTART;TZID=Europe/London:20240324T103000
DTEND;TZID=Europe/London:20240324T130000
DTSTAMP:20260424T155116
CREATED:20240214T195226Z
LAST-MODIFIED:20240214T195226Z
UID:14756-1711276200-1711285200@atplayinthewoods.co.uk
SUMMARY:Bertenshaw-Dens
DESCRIPTION:Content is protected.
URL:https://atplayinthewoods.co.uk/event/bertenshaw-dens/
LOCATION:At Play In The Woods\, At Play In The Woods\, Brockley Lane\, Chelvey\, North Somerset\, BS48 4AH\, United Kingdom
CATEGORIES:At Play In The Woods Events
ORGANIZER;CN="At Play In The Woods":MAILTO:info@atplayinthewoods.co.uk
END:VEVENT
END:VCALENDAR