BEGIN:VCALENDAR
VERSION:2.0
PRODID:-//At Play In The Woods - ECPv6.15.20//NONSGML v1.0//EN
CALSCALE:GREGORIAN
METHOD:PUBLISH
X-ORIGINAL-URL:https://atplayinthewoods.co.uk
X-WR-CALDESC:Events for At Play In The Woods
REFRESH-INTERVAL;VALUE=DURATION:PT1H
X-Robots-Tag:noindex
X-PUBLISHED-TTL:PT1H
BEGIN:VTIMEZONE
TZID:Europe/London
BEGIN:DAYLIGHT
TZOFFSETFROM:+0000
TZOFFSETTO:+0100
TZNAME:BST
DTSTART:20220327T010000
END:DAYLIGHT
BEGIN:STANDARD
TZOFFSETFROM:+0100
TZOFFSETTO:+0000
TZNAME:GMT
DTSTART:20221030T010000
END:STANDARD
BEGIN:DAYLIGHT
TZOFFSETFROM:+0000
TZOFFSETTO:+0100
TZNAME:BST
DTSTART:20230326T010000
END:DAYLIGHT
BEGIN:STANDARD
TZOFFSETFROM:+0100
TZOFFSETTO:+0000
TZNAME:GMT
DTSTART:20231029T010000
END:STANDARD
BEGIN:DAYLIGHT
TZOFFSETFROM:+0000
TZOFFSETTO:+0100
TZNAME:BST
DTSTART:20240331T010000
END:DAYLIGHT
BEGIN:STANDARD
TZOFFSETFROM:+0100
TZOFFSETTO:+0000
TZNAME:GMT
DTSTART:20241027T010000
END:STANDARD
END:VTIMEZONE
BEGIN:VEVENT
DTSTART;TZID=Europe/London:20230701T140000
DTEND;TZID=Europe/London:20230701T163000
DTSTAMP:20260425T012221
CREATED:20230527T193907Z
LAST-MODIFIED:20230527T193907Z
UID:14286-1688220000-1688229000@atplayinthewoods.co.uk
SUMMARY:Clare Wilder ~ Dino ~ PM
DESCRIPTION:Content is protected.
URL:https://atplayinthewoods.co.uk/event/clare-wilder-dino-pm/
LOCATION:At Play In The Woods\, At Play In The Woods\, Brockley Lane\, Chelvey\, North Somerset\, BS48 4AH\, United Kingdom
CATEGORIES:At Play In The Woods Events
ORGANIZER;CN="At Play In The Woods":MAILTO:info@atplayinthewoods.co.uk
END:VEVENT
BEGIN:VEVENT
DTSTART;TZID=Europe/London:20230702T103000
DTEND;TZID=Europe/London:20230702T130000
DTSTAMP:20260425T012221
CREATED:20230427T103216Z
LAST-MODIFIED:20230427T104202Z
UID:14149-1688293800-1688302800@atplayinthewoods.co.uk
SUMMARY:Tamblyn~Dens ~AM
DESCRIPTION:Content is protected.
URL:https://atplayinthewoods.co.uk/event/tamblyndens-am/
LOCATION:At Play In The Woods\, At Play In The Woods\, Brockley Lane\, Chelvey\, North Somerset\, BS48 4AH\, United Kingdom
CATEGORIES:At Play In The Woods Events
ORGANIZER;CN="At Play In The Woods":MAILTO:info@atplayinthewoods.co.uk
END:VEVENT
BEGIN:VEVENT
DTSTART;TZID=Europe/London:20230708T123000
DTEND;TZID=Europe/London:20230708T143000
DTSTAMP:20260425T012221
CREATED:20230419T154306Z
LAST-MODIFIED:20230419T154628Z
UID:14127-1688819400-1688826600@atplayinthewoods.co.uk
SUMMARY:Pillinger - Disco
DESCRIPTION:Content is protected.
URL:https://atplayinthewoods.co.uk/event/pillinger-disco/
LOCATION:North Somerset
CATEGORIES:Disco event
END:VEVENT
BEGIN:VEVENT
DTSTART;TZID=Europe/London:20230709T140000
DTEND;TZID=Europe/London:20230709T163000
DTSTAMP:20260425T012221
CREATED:20230524T164737Z
LAST-MODIFIED:20230524T165604Z
UID:14245-1688911200-1688920200@atplayinthewoods.co.uk
SUMMARY:Fran Lewis smith ~ Wands PM
DESCRIPTION:Content is protected.
URL:https://atplayinthewoods.co.uk/event/fran-lewis-smith-wands-pm/
LOCATION:At Play In The Woods\, At Play In The Woods\, Brockley Lane\, Chelvey\, North Somerset\, BS48 4AH\, United Kingdom
CATEGORIES:At Play In The Woods Events
ORGANIZER;CN="At Play In The Woods":MAILTO:info@atplayinthewoods.co.uk
END:VEVENT
BEGIN:VEVENT
DTSTART;TZID=Europe/London:20230715T140000
DTEND;TZID=Europe/London:20230715T163000
DTSTAMP:20260425T012221
CREATED:20230524T111618Z
LAST-MODIFIED:20230524T111618Z
UID:14239-1689429600-1689438600@atplayinthewoods.co.uk
SUMMARY:Joanna Brain ~ Dens ~ PM
DESCRIPTION:Content is protected.
URL:https://atplayinthewoods.co.uk/event/joanna-brain-dens-pm/
LOCATION:At Play In The Woods\, At Play In The Woods\, Brockley Lane\, Chelvey\, North Somerset\, BS48 4AH\, United Kingdom
CATEGORIES:At Play In The Woods Events
ORGANIZER;CN="At Play In The Woods":MAILTO:info@atplayinthewoods.co.uk
END:VEVENT
BEGIN:VEVENT
DTSTART;TZID=Europe/London:20230716T103000
DTEND;TZID=Europe/London:20230716T130000
DTSTAMP:20260425T012221
CREATED:20230510T145500Z
LAST-MODIFIED:20230714T210750Z
UID:14212-1689503400-1689512400@atplayinthewoods.co.uk
SUMMARY:Regels ~ Dens ~ AM
DESCRIPTION:Content is protected.
URL:https://atplayinthewoods.co.uk/event/regels-dens-am/
LOCATION:At Play In The Woods\, At Play In The Woods\, Brockley Lane\, Chelvey\, North Somerset\, BS48 4AH\, United Kingdom
ORGANIZER;CN="At Play In The Woods":MAILTO:info@atplayinthewoods.co.uk
END:VEVENT
BEGIN:VEVENT
DTSTART;TZID=Europe/London:20230716T140000
DTEND;TZID=Europe/London:20230716T163000
DTSTAMP:20260425T012221
CREATED:20230427T104427Z
LAST-MODIFIED:20230427T105123Z
UID:14155-1689516000-1689525000@atplayinthewoods.co.uk
SUMMARY:Gomez~Dens~PM
DESCRIPTION:Content is protected.
URL:https://atplayinthewoods.co.uk/event/gomezdenspm/
LOCATION:At Play In The Woods\, At Play In The Woods\, Brockley Lane\, Chelvey\, North Somerset\, BS48 4AH\, United Kingdom
CATEGORIES:At Play In The Woods Events
ORGANIZER;CN="At Play In The Woods":MAILTO:info@atplayinthewoods.co.uk
END:VEVENT
BEGIN:VEVENT
DTSTART;VALUE=DATE:20230731
DTEND;VALUE=DATE:20230801
DTSTAMP:20260425T012221
CREATED:20230719T125904Z
LAST-MODIFIED:20230719T125904Z
UID:14353-1690761600-1690847999@atplayinthewoods.co.uk
SUMMARY:Sam out of the business
DESCRIPTION:Sam out of the business
URL:https://atplayinthewoods.co.uk/event/sam-out-of-the-business/
LOCATION:North Somerset
END:VEVENT
END:VCALENDAR