BEGIN:VCALENDAR
VERSION:2.0
PRODID:-//At Play In The Woods - ECPv6.15.20//NONSGML v1.0//EN
CALSCALE:GREGORIAN
METHOD:PUBLISH
X-WR-CALNAME:At Play In The Woods
X-ORIGINAL-URL:https://atplayinthewoods.co.uk
X-WR-CALDESC:Events for At Play In The Woods
REFRESH-INTERVAL;VALUE=DURATION:PT1H
X-Robots-Tag:noindex
X-PUBLISHED-TTL:PT1H
BEGIN:VTIMEZONE
TZID:Europe/London
BEGIN:DAYLIGHT
TZOFFSETFROM:+0000
TZOFFSETTO:+0100
TZNAME:BST
DTSTART:20210328T010000
END:DAYLIGHT
BEGIN:STANDARD
TZOFFSETFROM:+0100
TZOFFSETTO:+0000
TZNAME:GMT
DTSTART:20211031T010000
END:STANDARD
BEGIN:DAYLIGHT
TZOFFSETFROM:+0000
TZOFFSETTO:+0100
TZNAME:BST
DTSTART:20220327T010000
END:DAYLIGHT
BEGIN:STANDARD
TZOFFSETFROM:+0100
TZOFFSETTO:+0000
TZNAME:GMT
DTSTART:20221030T010000
END:STANDARD
BEGIN:DAYLIGHT
TZOFFSETFROM:+0000
TZOFFSETTO:+0100
TZNAME:BST
DTSTART:20230326T010000
END:DAYLIGHT
BEGIN:STANDARD
TZOFFSETFROM:+0100
TZOFFSETTO:+0000
TZNAME:GMT
DTSTART:20231029T010000
END:STANDARD
END:VTIMEZONE
BEGIN:VEVENT
DTSTART;TZID=Europe/London:20221002T103000
DTEND;TZID=Europe/London:20221002T130000
DTSTAMP:20260425T120113
CREATED:20220624T212118Z
LAST-MODIFIED:20220728T204525Z
UID:12807-1664706600-1664715600@atplayinthewoods.co.uk
SUMMARY:Sarah Payne ~ Woodland Magic
DESCRIPTION:Content is protected.
URL:https://atplayinthewoods.co.uk/event/sarah-payne-pirate-treasure/
LOCATION:At Play In The Woods\, At Play In The Woods\, Brockley Lane\, Chelvey\, North Somerset\, BS48 4AH\, United Kingdom
CATEGORIES:At Play In The Woods Events
ORGANIZER;CN="At Play In The Woods":MAILTO:info@atplayinthewoods.co.uk
END:VEVENT
BEGIN:VEVENT
DTSTART;TZID=Europe/London:20221008T140000
DTEND;TZID=Europe/London:20221008T163000
DTSTAMP:20260425T120113
CREATED:20220915T102552Z
LAST-MODIFIED:20220921T102507Z
UID:13160-1665237600-1665246600@atplayinthewoods.co.uk
SUMMARY:Kenn Harrison ~ Bespoke
DESCRIPTION:Content is protected.
URL:https://atplayinthewoods.co.uk/event/kenn-harrison-bespoke/
LOCATION:At Play In The Woods\, At Play In The Woods\, Brockley Lane\, Chelvey\, North Somerset\, BS48 4AH\, United Kingdom
CATEGORIES:At Play In The Woods Events
ORGANIZER;CN="At Play In The Woods":MAILTO:info@atplayinthewoods.co.uk
END:VEVENT
BEGIN:VEVENT
DTSTART;TZID=Europe/London:20221009T140000
DTEND;TZID=Europe/London:20221009T163000
DTSTAMP:20260425T120113
CREATED:20220804T200815Z
LAST-MODIFIED:20220804T202051Z
UID:13031-1665324000-1665333000@atplayinthewoods.co.uk
SUMMARY:Richard Barnes ~ Go Wild Dens
DESCRIPTION:Content is protected.
URL:https://atplayinthewoods.co.uk/event/richard-barnes-go-wild-dens/
LOCATION:At Play In The Woods\, At Play In The Woods\, Brockley Lane\, Chelvey\, North Somerset\, BS48 4AH\, United Kingdom
CATEGORIES:At Play In The Woods Events
ORGANIZER;CN="At Play In The Woods":MAILTO:info@atplayinthewoods.co.uk
END:VEVENT
BEGIN:VEVENT
DTSTART;TZID=Europe/London:20221015T103000
DTEND;TZID=Europe/London:20221015T130000
DTSTAMP:20260425T120113
CREATED:20220922T195929Z
LAST-MODIFIED:20220922T195929Z
UID:13201-1665829800-1665838800@atplayinthewoods.co.uk
SUMMARY:Samantha Parker ~ Dens
DESCRIPTION:Content is protected.
URL:https://atplayinthewoods.co.uk/event/samantha-parker-dens/
LOCATION:At Play In The Woods\, At Play In The Woods\, Brockley Lane\, Chelvey\, North Somerset\, BS48 4AH\, United Kingdom
CATEGORIES:At Play In The Woods Events
ORGANIZER;CN="At Play In The Woods":MAILTO:info@atplayinthewoods.co.uk
END:VEVENT
BEGIN:VEVENT
DTSTART;TZID=Europe/London:20221022T140000
DTEND;TZID=Europe/London:20221022T163000
DTSTAMP:20260425T120113
CREATED:20220921T193535Z
LAST-MODIFIED:20221008T114808Z
UID:13190-1666447200-1666456200@atplayinthewoods.co.uk
SUMMARY:Elizabeth Arrowsmith ~ Wands
DESCRIPTION:Content is protected.
URL:https://atplayinthewoods.co.uk/event/elizabeth-arrowsmith-wands/
LOCATION:At Play In The Woods\, At Play In The Woods\, Brockley Lane\, Chelvey\, North Somerset\, BS48 4AH\, United Kingdom
CATEGORIES:At Play In The Woods Events
ORGANIZER;CN="At Play In The Woods":MAILTO:info@atplayinthewoods.co.uk
END:VEVENT
BEGIN:VEVENT
DTSTART;TZID=Europe/London:20221023T103000
DTEND;TZID=Europe/London:20221023T130000
DTSTAMP:20260425T120113
CREATED:20220829T093921Z
LAST-MODIFIED:20221023T082400Z
UID:13075-1666521000-1666530000@atplayinthewoods.co.uk
SUMMARY:Sarah Roberts ~ Dens
DESCRIPTION:Content is protected.
URL:https://atplayinthewoods.co.uk/event/sarah-roberts-dens/
LOCATION:At Play In The Woods\, At Play In The Woods\, Brockley Lane\, Chelvey\, North Somerset\, BS48 4AH\, United Kingdom
CATEGORIES:At Play In The Woods Events
ORGANIZER;CN="At Play In The Woods":MAILTO:info@atplayinthewoods.co.uk
END:VEVENT
BEGIN:VEVENT
DTSTART;TZID=Europe/London:20221027T110000
DTEND;TZID=Europe/London:20221027T123000
DTSTAMP:20260425T120113
CREATED:20220803T114841Z
LAST-MODIFIED:20220803T220118Z
UID:13000-1666868400-1666873800@atplayinthewoods.co.uk
SUMMARY:Carve a Pumpkin
DESCRIPTION:With all ghouls and girls present\, we make our way through the fairy’s orchard\, to the main campsite. \nWatch out for the pixies- they love to play tricks on newcomers! \nOnce gathered around the witch’s cauldron\, we will go hunting in the woods for our pumpkins\, avoiding \nthe fairy rings\, bridge trolls and goblins (little pests!). \nEvery child will Carve out your Jack O’Lantern\, making as hideous or as crazy a face as you can! \nIf all spooks and sprites behave\, the mini-monsters can bob for apples\, Wrap the Mummy or Toss The Spider. \n  \nWe have a discount if you order more than 1 Children’s ticket. It will be added to your cart on ordering.\nUse Coupon “HallowChild”\n \nWe look forward to seeing you all for messy Halloween fun! \nEach child will leave with their chosen pumpkin\, which is included in the price. \nGood hygiene practices are in place. \nSo\,  if you fancy some spooky fun\, book now\, before it’s too late.
URL:https://atplayinthewoods.co.uk/event/carve-a-pumpkin-3/
LOCATION:At Play In The Woods\, At Play In The Woods\, Brockley Lane\, Chelvey\, North Somerset\, BS48 4AH\, United Kingdom
CATEGORIES:At Play In The Woods Events,Holiday Sessions,Toddler Session
ATTACH;FMTTYPE=image/jpeg:https://atplayinthewoods.co.uk/wp-content/uploads/2019/09/DSC_0088.jpg
ORGANIZER;CN="At Play In The Woods":MAILTO:info@atplayinthewoods.co.uk
END:VEVENT
BEGIN:VEVENT
DTSTART;TZID=Europe/London:20221027T131500
DTEND;TZID=Europe/London:20221027T144500
DTSTAMP:20260425T120113
CREATED:20220803T115413Z
LAST-MODIFIED:20220803T214630Z
UID:13004-1666876500-1666881900@atplayinthewoods.co.uk
SUMMARY:Let's carve a pumpkin
DESCRIPTION:With all ghouls and girls present\, we make our way through the fairy’s orchard\, to the main campsite. \nWatch out for the pixies- they love to play tricks on newcomers! \nOnce gathered around the witch’s cauldron\, we will go hunting in the woods for our pumpkins\, avoiding \nthe fairy rings\, bridge trolls and goblins (little pests!). \nEvery child will Carve out your Jack O’Lantern\, making as hideous or as crazy a face as you can! \nIf all spooks and sprites behave\, the mini-monsters can bob for apples\, Wrap the Mummy or Toss The Spider. \n  \nWe have a discount if you order more than 1 Children’s ticket. It will be added to your cart on ordering.\nUse Coupon “HallowChild”\n \nWe look forward to seeing you all for messy Halloween fun! \nEach child will leave with their chosen pumpkin\, which is included in the price. \nGood hygiene practices are in place. \nSo\,  if you fancy some spooky fun\, book now\, before it’s too late.
URL:https://atplayinthewoods.co.uk/event/lets-carve-a-pumpkin/
LOCATION:At Play In The Woods\, At Play In The Woods\, Brockley Lane\, Chelvey\, North Somerset\, BS48 4AH\, United Kingdom
CATEGORIES:At Play In The Woods Events,Holiday Sessions,Toddler Session
ATTACH;FMTTYPE=image/jpeg:https://atplayinthewoods.co.uk/wp-content/uploads/2019/09/DSC_0111.jpg
ORGANIZER;CN="At Play In The Woods":MAILTO:info@atplayinthewoods.co.uk
END:VEVENT
BEGIN:VEVENT
DTSTART;TZID=Europe/London:20221028T110000
DTEND;TZID=Europe/London:20221028T123000
DTSTAMP:20260425T120113
CREATED:20220803T120034Z
LAST-MODIFIED:20220803T215956Z
UID:13008-1666954800-1666960200@atplayinthewoods.co.uk
SUMMARY:Halloween ~ Pumpkin Carving
DESCRIPTION:With all ghouls and girls present\, we make our way through the fairy’s orchard\, to the main campsite. \nWatch out for the pixies- they love to play tricks on newcomers! \nOnce gathered around the witch’s cauldron\, we will go hunting in the woods for our pumpkins\, avoiding \nthe fairy rings\, bridge trolls and goblins (little pests!). \nEvery child will Carve out your Jack O’Lantern\, making as hideous or as crazy a face as you can! \nIf all spooks and sprites behave\, the mini-monsters can bob for apples\, Wrap the Mummy or Toss The Spider. \n  \nWe have a discount if you order more than 1 Children’s ticket. It will be added to your cart on ordering.\nUse Coupon “HallowChild”\n \nWe look forward to seeing you all for messy Halloween fun! \nEach child will leave with their chosen pumpkin\, which is included in the price. \nGood hygiene practices are in place. \nSo\,  if you fancy some spooky fun\, book now\, before it’s too late.
URL:https://atplayinthewoods.co.uk/event/halloween-pumpkin-carving-3/
LOCATION:At Play In The Woods\, At Play In The Woods\, Brockley Lane\, Chelvey\, North Somerset\, BS48 4AH\, United Kingdom
CATEGORIES:At Play In The Woods Events,Holiday Sessions,Toddler Session
ATTACH;FMTTYPE=image/jpeg:https://atplayinthewoods.co.uk/wp-content/uploads/2018/10/images-1.jpg
ORGANIZER;CN="At Play In The Woods":MAILTO:info@atplayinthewoods.co.uk
END:VEVENT
BEGIN:VEVENT
DTSTART;TZID=Europe/London:20221029T103000
DTEND;TZID=Europe/London:20221029T130000
DTSTAMP:20260425T120113
CREATED:20220911T164402Z
LAST-MODIFIED:20221007T144049Z
UID:13147-1667039400-1667048400@atplayinthewoods.co.uk
SUMMARY:Rachel Ruff ~ Dens
DESCRIPTION:Content is protected.
URL:https://atplayinthewoods.co.uk/event/rachel-ruff-dens/
LOCATION:At Play In The Woods\, At Play In The Woods\, Brockley Lane\, Chelvey\, North Somerset\, BS48 4AH\, United Kingdom
CATEGORIES:At Play In The Woods Events
ORGANIZER;CN="At Play In The Woods":MAILTO:info@atplayinthewoods.co.uk
END:VEVENT
BEGIN:VEVENT
DTSTART;TZID=Europe/London:20221029T110000
DTEND;TZID=Europe/London:20221029T123000
DTSTAMP:20260425T120113
CREATED:20220731T205209Z
LAST-MODIFIED:20221023T133756Z
UID:12973-1667041200-1667046600@atplayinthewoods.co.uk
SUMMARY:Halloween - Pumpkin Carving
DESCRIPTION:With all ghouls and girls present\, we make our way through the fairy’s orchard\, to the main campsite. \nWatch out for the pixies- they love to play tricks on newcomers! \nOnce gathered around the witch’s cauldron\, we will go hunting in the woods for our pumpkins\, avoiding \nthe fairy rings\, bridge trolls and goblins (little pests!). \nEvery child will Carve out your Jack O’Lantern\, making as hideous or as crazy a face as you can! \nIf all spooks and sprites behave\, the mini-monsters can bob for apples\, Wrap the Mummy or Toss The Spider\, \n  \nWe have a discount if you order more than 1 Children’s ticket. It will be added to your cart on ordering.\nUse Coupon “HallowChild”\n \nWe look forward to seeing you all for messy Halloween fun! \nEach child will leave with their chosen pumpkin\, which is included in the price. \nGood hygiene practices are in place. \nSo\,  if you fancy some spooky fun\, book now\, before it’s too late.
URL:https://atplayinthewoods.co.uk/event/halloween-pumpkin-carving-and-hunt/
LOCATION:At Play In The Woods\, At Play In The Woods\, Brockley Lane\, Chelvey\, North Somerset\, BS48 4AH\, United Kingdom
CATEGORIES:At Play In The Woods Events,Holiday Sessions
ATTACH;FMTTYPE=image/jpeg:https://atplayinthewoods.co.uk/wp-content/uploads/2018/10/pumpkin-917432_960_720-1.jpg
END:VEVENT
BEGIN:VEVENT
DTSTART;TZID=Europe/London:20221030T100000
DTEND;TZID=Europe/London:20221030T113000
DTSTAMP:20260425T120113
CREATED:20220731T191025Z
LAST-MODIFIED:20220731T201932Z
UID:12935-1667124000-1667129400@atplayinthewoods.co.uk
SUMMARY:Halloween - Pumpkin Carving
DESCRIPTION:With all ghouls and girls present\, we make our way through the fairy’s orchard\, to the main campsite. \nWatch out for the pixies- they love to play tricks on newcomers! \nOnce gathered around the witch’s cauldron\, we will go hunting in the woods for our pumpkins\, avoiding \nthe fairy rings\, bridge trolls and goblins (little pests!). \nEvery child will Carve out your Jack O’Lantern\, making as hideous or as crazy a face as you can! \nIf all spooks and sprites behave\, the mini-monsters can bob for apples\, Wrap the Mummy or Toss The Spider. \nWe have a discount if you order more than 1 Children’s ticket. It will be added to your cart on ordering.\nUse Coupon “HallowChild”\n \nWe look forward to seeing you all for messy Halloween fun! \nEach child will leave with their chosen pumpkin\, which is included in the price. \nGood hygiene practices are in place. \nSo\,  if you fancy some spooky fun\, book now\, before it’s too late.
URL:https://atplayinthewoods.co.uk/event/halloween-pumpkin-carving/
LOCATION:At Play In The Woods\, At Play In The Woods\, Brockley Lane\, Chelvey\, North Somerset\, BS48 4AH\, United Kingdom
CATEGORIES:At Play In The Woods Events,Holiday Sessions,Toddler Session
ATTACH;FMTTYPE=image/jpeg:https://atplayinthewoods.co.uk/wp-content/uploads/2019/09/DSC_0111.jpg
END:VEVENT
BEGIN:VEVENT
DTSTART;TZID=Europe/London:20221030T121500
DTEND;TZID=Europe/London:20221030T134500
DTSTAMP:20260425T120113
CREATED:20220731T200146Z
LAST-MODIFIED:20220803T205609Z
UID:12953-1667132100-1667137500@atplayinthewoods.co.uk
SUMMARY:Halloween  ~ Pumpkin Carving
DESCRIPTION:Our spooky adventure are BACK! We begin meeting up with old friends and new at your \ntransportation- be it a car\, a witches broom or a ghost train! \nWith all ghouls and girls present\, we make our way through the fairy’s orchard\, to the main campsite. \nWatch out for the pixies- they love to play tricks on newcomers! \nOnce gathered around the witch’s cauldron\, we will go hunting in the woods for our pumpkins\, avoiding \nthe fairy rings\, bridge trolls and goblins (little pests!). \nCarve out your Jack O’Lantern\, making as hideous or as crazy a face as you can! \nIf all spooks and sprites behave\, the mini-monsters can\nbob for apples\, Wrap the Mummy or Toss The Spider. \n \nWe look forward to seeing you all for messy Halloween fun! \nEach child will leave with their chosen pumpkin\, which is included in the price. \nGood hygiene practices are in place. \nSo\,  if you fancy some spooky fun\, book now\, before it’s too late.
URL:https://atplayinthewoods.co.uk/event/halloween-pumpkin-carving-2/
LOCATION:At Play In The Woods\, At Play In The Woods\, Brockley Lane\, Chelvey\, North Somerset\, BS48 4AH\, United Kingdom
CATEGORIES:At Play In The Woods Events,Holiday Sessions,Toddler Session
ATTACH;FMTTYPE=image/jpeg:https://atplayinthewoods.co.uk/wp-content/uploads/2019/09/DSC_0108.jpg
ORGANIZER;CN="At Play In The Woods":MAILTO:info@atplayinthewoods.co.uk
END:VEVENT
BEGIN:VEVENT
DTSTART;TZID=Europe/London:20221030T141500
DTEND;TZID=Europe/London:20221030T154500
DTSTAMP:20260425T120113
CREATED:20220731T204359Z
LAST-MODIFIED:20221028T171104Z
UID:12969-1667139300-1667144700@atplayinthewoods.co.uk
SUMMARY:Halloween - Pumpkin Hunt
DESCRIPTION:With all ghouls and girls present\, we make our way through the fairy’s orchard\, to the main campsite. \nWatch out for the pixies- they love to play tricks on newcomers! \nOnce gathered around the witch’s cauldron\, we will go hunting in the woods for our pumpkins\, avoiding \nthe fairy rings\, bridge trolls and goblins (little pests!). \nEvery child will Carve out your Jack O’Lantern\, making as hideous or as crazy a face as you can! \nIf all spooks and sprites behave\, the mini-monsters can bob for apples\, Wrap the Mummy or Toss The Spider. \n  \nWe have a discount if you order more than 1 Children’s ticket. It will be added to your cart on ordering.\nUse Coupon “HallowChild”\n \nWe look forward to seeing you all for messy Halloween fun! \nEach child will leave with their chosen pumpkin\, which is included in the price. \nGood hygiene practices are in place. \nSo\,  if you fancy some spooky fun\, book now\, before it’s too late.
URL:https://atplayinthewoods.co.uk/event/pumpkin-hunt-carving/
LOCATION:At Play In The Woods\, At Play In The Woods\, Brockley Lane\, Chelvey\, North Somerset\, BS48 4AH\, United Kingdom
ATTACH;FMTTYPE=image/jpeg:https://atplayinthewoods.co.uk/wp-content/uploads/2019/09/DSC_0088.jpg
END:VEVENT
BEGIN:VEVENT
DTSTART;TZID=Europe/London:20221031T080000
DTEND;TZID=Europe/London:20221113T170000
DTSTAMP:20260425T120113
CREATED:20220803T214857Z
LAST-MODIFIED:20220803T214857Z
UID:13028-1667203200-1668358800@atplayinthewoods.co.uk
SUMMARY:Closed
DESCRIPTION:…
URL:https://atplayinthewoods.co.uk/event/closed-10/
LOCATION:North Somerset
CATEGORIES:At Play In The Woods Events
END:VEVENT
END:VCALENDAR