BEGIN:VCALENDAR
VERSION:2.0
PRODID:-//At Play In The Woods - ECPv6.15.20//NONSGML v1.0//EN
CALSCALE:GREGORIAN
METHOD:PUBLISH
X-WR-CALNAME:At Play In The Woods
X-ORIGINAL-URL:https://atplayinthewoods.co.uk
X-WR-CALDESC:Events for At Play In The Woods
REFRESH-INTERVAL;VALUE=DURATION:PT1H
X-Robots-Tag:noindex
X-PUBLISHED-TTL:PT1H
BEGIN:VTIMEZONE
TZID:Europe/London
BEGIN:DAYLIGHT
TZOFFSETFROM:+0000
TZOFFSETTO:+0100
TZNAME:BST
DTSTART:20210328T010000
END:DAYLIGHT
BEGIN:STANDARD
TZOFFSETFROM:+0100
TZOFFSETTO:+0000
TZNAME:GMT
DTSTART:20211031T010000
END:STANDARD
BEGIN:DAYLIGHT
TZOFFSETFROM:+0000
TZOFFSETTO:+0100
TZNAME:BST
DTSTART:20220327T010000
END:DAYLIGHT
BEGIN:STANDARD
TZOFFSETFROM:+0100
TZOFFSETTO:+0000
TZNAME:GMT
DTSTART:20221030T010000
END:STANDARD
BEGIN:DAYLIGHT
TZOFFSETFROM:+0000
TZOFFSETTO:+0100
TZNAME:BST
DTSTART:20230326T010000
END:DAYLIGHT
BEGIN:STANDARD
TZOFFSETFROM:+0100
TZOFFSETTO:+0000
TZNAME:GMT
DTSTART:20231029T010000
END:STANDARD
END:VTIMEZONE
BEGIN:VEVENT
DTSTART;TZID=Europe/London:20220903T103000
DTEND;TZID=Europe/London:20220903T130000
DTSTAMP:20260425T133540
CREATED:20220711T163134Z
LAST-MODIFIED:20220711T163134Z
UID:12885-1662201000-1662210000@atplayinthewoods.co.uk
SUMMARY:Kris Perryman ~ Wands.
DESCRIPTION:Content is protected.
URL:https://atplayinthewoods.co.uk/event/kris-perryman-wands/
LOCATION:At Play In The Woods\, At Play In The Woods\, Brockley Lane\, Chelvey\, North Somerset\, BS48 4AH\, United Kingdom
CATEGORIES:At Play In The Woods Events
ORGANIZER;CN="At Play In The Woods":MAILTO:info@atplayinthewoods.co.uk
END:VEVENT
BEGIN:VEVENT
DTSTART;TZID=Europe/London:20220903T140000
DTEND;TZID=Europe/London:20220903T163000
DTSTAMP:20260425T133540
CREATED:20220723T200939Z
LAST-MODIFIED:20220902T190742Z
UID:12908-1662213600-1662222600@atplayinthewoods.co.uk
SUMMARY:Greta Eliasson ~ Pirate
DESCRIPTION:Content is protected.
URL:https://atplayinthewoods.co.uk/event/greta-eliasson-pirate/
LOCATION:At Play In The Woods\, At Play In The Woods\, Brockley Lane\, Chelvey\, North Somerset\, BS48 4AH\, United Kingdom
CATEGORIES:At Play In The Woods Events
ORGANIZER;CN="At Play In The Woods":MAILTO:info@atplayinthewoods.co.uk
END:VEVENT
BEGIN:VEVENT
DTSTART;TZID=Europe/London:20220907T103000
DTEND;TZID=Europe/London:20220907T120000
DTSTAMP:20260425T133540
CREATED:20220901T164629Z
LAST-MODIFIED:20220906T091129Z
UID:13095-1662546600-1662552000@atplayinthewoods.co.uk
SUMMARY:Get back to the woods
DESCRIPTION:Join us for a morning of fun and adventure in our wonderful woodland playground\,  where we get stuck into free-range play\,\nlovely walks or maybe just relaxing by the fire! Oh\, and did we mention our incredible mud kitchen?! \nAll sessions are led by experienced leaders and will go ahead in all weathers. \nThe sessions aims to provide time and space in the week for parents and children to step back from their busy lives\, to reflect and interact with the world at nature’s pace – slow and steady. The group is very much child-led\, and often goes in different directions! Whether your little one is up for some quiet walks or burning off some energy climbing and digging\, we are sure they’ll have a great time. The group also brings together a fun\, friendly and caring group of parents\, who seem to enjoy the activities and fireside social as much as the children! \nRemember to bring a drink and a snack if you like. \nThere is no need to stay for the whole session\, if your child is getting tired\, you are free to leave whenever you like. \nWe look forward to seeing you soon.
URL:https://atplayinthewoods.co.uk/event/get-back-to-the-woods/
LOCATION:At Play In The Woods\, At Play In The Woods\, Brockley Lane\, Chelvey\, North Somerset\, BS48 4AH\, United Kingdom
CATEGORIES:At Play In The Woods Events,Toddler Session
ORGANIZER;CN="At Play In The Woods":MAILTO:info@atplayinthewoods.co.uk
END:VEVENT
BEGIN:VEVENT
DTSTART;TZID=Europe/London:20220917T103000
DTEND;TZID=Europe/London:20220917T130000
DTSTAMP:20260425T133540
CREATED:20220820T195833Z
LAST-MODIFIED:20220820T195833Z
UID:13067-1663410600-1663419600@atplayinthewoods.co.uk
SUMMARY:Bazga Ali ~ Dino Hunt
DESCRIPTION:Content is protected.
URL:https://atplayinthewoods.co.uk/event/bazga-ali-dino-hunt/
LOCATION:At Play In The Woods\, At Play In The Woods\, Brockley Lane\, Chelvey\, North Somerset\, BS48 4AH\, United Kingdom
CATEGORIES:At Play In The Woods Events
ORGANIZER;CN="At Play In The Woods":MAILTO:info@atplayinthewoods.co.uk
END:VEVENT
BEGIN:VEVENT
DTSTART;TZID=Europe/London:20220920T103000
DTEND;TZID=Europe/London:20220920T120000
DTSTAMP:20260425T133540
CREATED:20220901T175956Z
LAST-MODIFIED:20220901T175956Z
UID:13111-1663669800-1663675200@atplayinthewoods.co.uk
SUMMARY:A walk in the Woods!!
DESCRIPTION:Join us for a morning of fun and adventure in our wonderful woodland playground\,  where we get stuck into free-range play\,\nlovely walks or maybe just relaxing by the fire! Oh\, and did we mention our incredible mud kitchen?! \nAll sessions are led by experienced leaders and will go ahead in all weathers. \nThe sessions aims to provide time and space in the week for parents and children to step back from their busy lives\, to reflect and interact with the world at nature’s pace – slow and steady. The group is very much child-led\, and often goes in different directions! Whether your little one is up for some quiet walks or burning off some energy climbing and digging\, we are sure they’ll have a great time. The group also brings together a fun\, friendly and caring group of parents\, who seem to enjoy the activities and fireside social as much as the children! \nRemember to bring a drink and a snack if you like. \nThere is no need to stay for the whole session\, if your child is getting tired\, you are free to leave whenever you like. \nWe look forward to seeing you soon.
URL:https://atplayinthewoods.co.uk/event/a-walk-in-the-woods-2/
LOCATION:At Play In The Woods\, At Play In The Woods\, Brockley Lane\, Chelvey\, North Somerset\, BS48 4AH\, United Kingdom
CATEGORIES:At Play In The Woods Events,Toddler Session
ORGANIZER;CN="At Play In The Woods":MAILTO:info@atplayinthewoods.co.uk
END:VEVENT
BEGIN:VEVENT
DTSTART;TZID=Europe/London:20220924T133000
DTEND;TZID=Europe/London:20220924T160000
DTSTAMP:20260425T133540
CREATED:20220628T160526Z
LAST-MODIFIED:20220628T161017Z
UID:12836-1664026200-1664035200@atplayinthewoods.co.uk
SUMMARY:Lianne Onions ~ Dens
DESCRIPTION:Content is protected.
URL:https://atplayinthewoods.co.uk/event/lianne-onions-dens/
LOCATION:At Play In The Woods\, At Play In The Woods\, Brockley Lane\, Chelvey\, North Somerset\, BS48 4AH\, United Kingdom
CATEGORIES:At Play In The Woods Events
ORGANIZER;CN="At Play In The Woods":MAILTO:info@atplayinthewoods.co.uk
END:VEVENT
BEGIN:VEVENT
DTSTART;TZID=Europe/London:20220925T103000
DTEND;TZID=Europe/London:20220925T130000
DTSTAMP:20260425T133540
CREATED:20220819T210338Z
LAST-MODIFIED:20220819T210338Z
UID:13059-1664101800-1664110800@atplayinthewoods.co.uk
SUMMARY:Hannah Davies ~ Dens
DESCRIPTION:Content is protected.
URL:https://atplayinthewoods.co.uk/event/hannah-davies-dens/
LOCATION:At Play In The Woods\, At Play In The Woods\, Brockley Lane\, Chelvey\, North Somerset\, BS48 4AH\, United Kingdom
CATEGORIES:At Play In The Woods Events
ORGANIZER;CN="At Play In The Woods":MAILTO:info@atplayinthewoods.co.uk
END:VEVENT
BEGIN:VEVENT
DTSTART;VALUE=DATE:20220927
DTEND;VALUE=DATE:20220929
DTSTAMP:20260425T133540
CREATED:20220905T215253Z
LAST-MODIFIED:20220905T215253Z
UID:13138-1664236800-1664409599@atplayinthewoods.co.uk
SUMMARY:Closed for  booking
DESCRIPTION:c
URL:https://atplayinthewoods.co.uk/event/closed-for-booking/
LOCATION:At Play In The Woods\, At Play In The Woods\, Brockley Lane\, Chelvey\, North Somerset\, BS48 4AH\, United Kingdom
CATEGORIES:At Play In The Woods Events
END:VEVENT
END:VCALENDAR