BEGIN:VCALENDAR
VERSION:2.0
PRODID:-//At Play In The Woods - ECPv6.15.20//NONSGML v1.0//EN
CALSCALE:GREGORIAN
METHOD:PUBLISH
X-ORIGINAL-URL:https://atplayinthewoods.co.uk
X-WR-CALDESC:Events for At Play In The Woods
REFRESH-INTERVAL;VALUE=DURATION:PT1H
X-Robots-Tag:noindex
X-PUBLISHED-TTL:PT1H
BEGIN:VTIMEZONE
TZID:Europe/London
BEGIN:DAYLIGHT
TZOFFSETFROM:+0000
TZOFFSETTO:+0100
TZNAME:BST
DTSTART:20210328T010000
END:DAYLIGHT
BEGIN:STANDARD
TZOFFSETFROM:+0100
TZOFFSETTO:+0000
TZNAME:GMT
DTSTART:20211031T010000
END:STANDARD
BEGIN:DAYLIGHT
TZOFFSETFROM:+0000
TZOFFSETTO:+0100
TZNAME:BST
DTSTART:20220327T010000
END:DAYLIGHT
BEGIN:STANDARD
TZOFFSETFROM:+0100
TZOFFSETTO:+0000
TZNAME:GMT
DTSTART:20221030T010000
END:STANDARD
BEGIN:DAYLIGHT
TZOFFSETFROM:+0000
TZOFFSETTO:+0100
TZNAME:BST
DTSTART:20230326T010000
END:DAYLIGHT
BEGIN:STANDARD
TZOFFSETFROM:+0100
TZOFFSETTO:+0000
TZNAME:GMT
DTSTART:20231029T010000
END:STANDARD
END:VTIMEZONE
BEGIN:VTIMEZONE
TZID:UTC
BEGIN:STANDARD
TZOFFSETFROM:+0000
TZOFFSETTO:+0000
TZNAME:UTC
DTSTART:20210101T000000
END:STANDARD
END:VTIMEZONE
BEGIN:VEVENT
DTSTART;TZID=Europe/London:20220306T140000
DTEND;TZID=Europe/London:20220306T163000
DTSTAMP:20260425T222835
CREATED:20220215T172951Z
LAST-MODIFIED:20220301T142031Z
UID:12262-1646575200-1646584200@atplayinthewoods.co.uk
SUMMARY:Francesca Bishop (06/03) Go Wild
DESCRIPTION:Content is protected.
URL:https://atplayinthewoods.co.uk/event/francesca-bishop-06-03-go-wild/
LOCATION:At Play In The Woods\, At Play In The Woods\, Brockley Lane\, Chelvey\, North Somerset\, BS48 4AH\, United Kingdom
CATEGORIES:At Play In The Woods Events
ORGANIZER;CN="At Play In The Woods":MAILTO:info@atplayinthewoods.co.uk
END:VEVENT
BEGIN:VEVENT
DTSTART;TZID=UTC:20220309T100000
DTEND;TZID=UTC:20220309T120000
DTSTAMP:20260425T222835
CREATED:20220217T105400Z
LAST-MODIFIED:20220307T183234Z
UID:12277-1646820000-1646827200@atplayinthewoods.co.uk
SUMMARY:Toddlers at Play
DESCRIPTION:Come and join us at Brickyard Woods in Chelvey\, and let your child explore the outdoors \nWe will all meet at the car park and then when everyone is present we will make our way to the woods all together.  \nOur site is accessible for buggies with good wheels. \nWe start the session with an introduction and a safety talk\, including COVID-19 guides lines (if applicable) \nThen it’s over to you. Play with the mud kitchen\, explore the woods and see what you can find! \nThere is a lovely walk to be had\, either by yourself or with the group.  \nThere is no plan to the session\, its led by the children’s imagination. \nRemember to bring a drink and a snack if you like. \nThere is no need to stay for the whole session\, if your child is getting tired\, you are free to leave whenever you like. \nIf you have any signs of high temperature or other COVID-19 symptoms\nplease do not attend. \nWe look forward to seeing you soon\, maybe bring a friend!!
URL:https://atplayinthewoods.co.uk/event/toddlers-at-play/
LOCATION:At Play In The Woods\, At Play In The Woods\, Brockley Lane\, Chelvey\, North Somerset\, BS48 4AH\, United Kingdom
ORGANIZER;CN="At Play In The Woods":MAILTO:info@atplayinthewoods.co.uk
END:VEVENT
BEGIN:VEVENT
DTSTART;TZID=UTC:20220316T100000
DTEND;TZID=UTC:20220316T120000
DTSTAMP:20260425T222835
CREATED:20220217T105816Z
LAST-MODIFIED:20220217T105816Z
UID:12282-1647424800-1647432000@atplayinthewoods.co.uk
SUMMARY:Toddlers love to Play
DESCRIPTION:Come and join us at Brickyard Woods in Chelvey\, and let your child explore the outdoors \nWe will all meet at the car park and then when everyone is present we will make our way to the woods all together.  \nOur site is accessible for buggies with good wheels. \nWe start the session with an introduction and a safety talk\, including COVID-19 guides lines (if applicable) \nThen it’s over to you. Play with the mud kitchen\, explore the woods and see what you can find! \nThere is a lovely walk to be had\, either by yourself or with the group.  \nThere is no plan to the session\, its led by the children’s imagination. \nRemember to bring a drink and a snack if you like. \nThere is no need to stay for the whole session\, if your child is getting tired\, you are free to leave whenever you like. \nIf you have any signs of high temperature or other COVID-19 symptoms\nplease do not attend. \nWe look forward to seeing you soon\, maybe bring a friend!!
URL:https://atplayinthewoods.co.uk/event/toddlers-love-to-play/
LOCATION:At Play In The Woods\, At Play In The Woods\, Brockley Lane\, Chelvey\, North Somerset\, BS48 4AH\, United Kingdom
CATEGORIES:At Play In The Woods Events,Toddler Session
ORGANIZER;CN="At Play In The Woods":MAILTO:info@atplayinthewoods.co.uk
END:VEVENT
BEGIN:VEVENT
DTSTART;TZID=UTC:20220320T103000
DTEND;TZID=UTC:20220320T130000
DTSTAMP:20260425T222835
CREATED:20220301T164001Z
LAST-MODIFIED:20220301T164001Z
UID:12307-1647772200-1647781200@atplayinthewoods.co.uk
SUMMARY:Amy Butler ~ Dens
DESCRIPTION:Content is protected.
URL:https://atplayinthewoods.co.uk/event/amy-butler-dens/
LOCATION:At Play In The Woods\, At Play In The Woods\, Brockley Lane\, Chelvey\, North Somerset\, BS48 4AH\, United Kingdom
CATEGORIES:At Play In The Woods Events
ORGANIZER;CN="At Play In The Woods":MAILTO:info@atplayinthewoods.co.uk
END:VEVENT
BEGIN:VEVENT
DTSTART;TZID=UTC:20220323T100000
DTEND;TZID=UTC:20220323T120000
DTSTAMP:20260425T222835
CREATED:20220217T114636Z
LAST-MODIFIED:20220322T194538Z
UID:12287-1648029600-1648036800@atplayinthewoods.co.uk
SUMMARY:Toddlers atPlay
DESCRIPTION:Come and join us at Brickyard Woods in Chelvey\, and let your child explore the outdoors \nWe will all meet at the car park and then when everyone is present we will make our way to the woods all together.  \nOur site is accessible for buggies with good wheels. \nWe start the session with an introduction and a safety talk\, including COVID-19 guides lines (if applicable) \nThen it’s over to you. Play with the mud kitchen\, explore the woods and see what you can find! \nThere is a lovely walk to be had\, either by yourself or with the group.  \nThere is no plan to the session\, its led by the children’s imagination. \nRemember to bring a drink and a snack if you like. \nThere is no need to stay for the whole session\, if your child is getting tired\, you are free to leave whenever you like. \nIf you have any signs of high temperature or other COVID-19 symptoms\nplease do not attend. \nWe look forward to seeing you soon\, maybe bring a friend!!
URL:https://atplayinthewoods.co.uk/event/toddlers-atplay/
LOCATION:At Play In The Woods\, At Play In The Woods\, Brockley Lane\, Chelvey\, North Somerset\, BS48 4AH\, United Kingdom
CATEGORIES:At Play In The Woods Events,Toddler Session
ORGANIZER;CN="At Play In The Woods":MAILTO:info@atplayinthewoods.co.uk
END:VEVENT
BEGIN:VEVENT
DTSTART;TZID=Europe/London:20220326T100000
DTEND;TZID=Europe/London:20220326T123000
DTSTAMP:20260425T222835
CREATED:20220201T133352Z
LAST-MODIFIED:20220201T133352Z
UID:12221-1648288800-1648297800@atplayinthewoods.co.uk
SUMMARY:Matthews Roberts
DESCRIPTION:Content is protected.
URL:https://atplayinthewoods.co.uk/event/matthews-roberts/
LOCATION:At Play In The Woods\, At Play In The Woods\, Brockley Lane\, Chelvey\, North Somerset\, BS48 4AH\, United Kingdom
CATEGORIES:At Play In The Woods Events
ORGANIZER;CN="At Play In The Woods":MAILTO:info@atplayinthewoods.co.uk
END:VEVENT
END:VCALENDAR