BEGIN:VCALENDAR
VERSION:2.0
PRODID:-//At Play In The Woods - ECPv6.15.20//NONSGML v1.0//EN
CALSCALE:GREGORIAN
METHOD:PUBLISH
X-WR-CALNAME:At Play In The Woods
X-ORIGINAL-URL:https://atplayinthewoods.co.uk
X-WR-CALDESC:Events for At Play In The Woods
REFRESH-INTERVAL;VALUE=DURATION:PT1H
X-Robots-Tag:noindex
X-PUBLISHED-TTL:PT1H
BEGIN:VTIMEZONE
TZID:Europe/London
BEGIN:DAYLIGHT
TZOFFSETFROM:+0000
TZOFFSETTO:+0100
TZNAME:BST
DTSTART:20210328T010000
END:DAYLIGHT
BEGIN:STANDARD
TZOFFSETFROM:+0100
TZOFFSETTO:+0000
TZNAME:GMT
DTSTART:20211031T010000
END:STANDARD
BEGIN:DAYLIGHT
TZOFFSETFROM:+0000
TZOFFSETTO:+0100
TZNAME:BST
DTSTART:20220327T010000
END:DAYLIGHT
BEGIN:STANDARD
TZOFFSETFROM:+0100
TZOFFSETTO:+0000
TZNAME:GMT
DTSTART:20221030T010000
END:STANDARD
BEGIN:DAYLIGHT
TZOFFSETFROM:+0000
TZOFFSETTO:+0100
TZNAME:BST
DTSTART:20230326T010000
END:DAYLIGHT
BEGIN:STANDARD
TZOFFSETFROM:+0100
TZOFFSETTO:+0000
TZNAME:GMT
DTSTART:20231029T010000
END:STANDARD
END:VTIMEZONE
BEGIN:VEVENT
DTSTART;TZID=Europe/London:20220206T103000
DTEND;TZID=Europe/London:20220206T130000
DTSTAMP:20260425T233427
CREATED:20220113T221159Z
LAST-MODIFIED:20220120T151621Z
UID:12107-1644143400-1644152400@atplayinthewoods.co.uk
SUMMARY:Glynn Macpherson ~ Luke ~ Bespoke.
DESCRIPTION:Content is protected.
URL:https://atplayinthewoods.co.uk/event/glynn-macpherson-luke-bespoke/
LOCATION:At Play In The Woods\, At Play In The Woods\, Brockley Lane\, Chelvey\, North Somerset\, BS48 4AH\, United Kingdom
CATEGORIES:At Play In The Woods Events
END:VEVENT
BEGIN:VEVENT
DTSTART;TZID=Europe/London:20220206T140000
DTEND;TZID=Europe/London:20220206T163000
DTSTAMP:20260425T233427
CREATED:20220107T222524Z
LAST-MODIFIED:20220107T222524Z
UID:12084-1644156000-1644165000@atplayinthewoods.co.uk
SUMMARY:Adele Williams ~ Flynn ~ Pirate
DESCRIPTION:Content is protected.
URL:https://atplayinthewoods.co.uk/event/adele-williams-flynn-pirate/
LOCATION:At Play In The Woods\, At Play In The Woods\, Brockley Lane\, Chelvey\, North Somerset\, BS48 4AH\, United Kingdom
CATEGORIES:At Play In The Woods Events
END:VEVENT
BEGIN:VEVENT
DTSTART;TZID=Europe/London:20220208T100000
DTEND;TZID=Europe/London:20220208T120000
DTSTAMP:20260425T233427
CREATED:20220119T173920Z
LAST-MODIFIED:20220119T173920Z
UID:12134-1644314400-1644321600@atplayinthewoods.co.uk
SUMMARY:Toddlers at Play
DESCRIPTION:Come and join us at Brickyard Woods in Chelvey\, and let your child explore the outdoors \nWe will all meet at the car park and then when everyone is present we will make our way to the woods all together.  \nOur site is accessible for buggies with good wheels. \nWe start the session with an introduction and a safety talk\, including COVID-19 guides lines (if applicable) \nThen it’s over to you. Play with the mud kitchen\, explore the woods and see what you can find! \nAre you or your child brave enough to try the rope swing or maybe try the see-saw? \nThere is no plan to the session\, its led by the children’s imagination. \nRemember to bring a drink and a snack if you like. \nThere is no need to stay for the whole session\, if your child is getting tired\, you are free to leave whenever you like. \nIf you have any signs of high temperature or other COVID-19 symptoms\nplease do not attend. \nWe look forward to seeing you soon.
URL:https://atplayinthewoods.co.uk/event/toddlers-at-play-2/
LOCATION:At Play In The Woods\, At Play In The Woods\, Brockley Lane\, Chelvey\, North Somerset\, BS48 4AH\, United Kingdom
CATEGORIES:At Play In The Woods Events,Toddler Session
ORGANIZER;CN="At Play In The Woods":MAILTO:info@atplayinthewoods.co.uk
END:VEVENT
BEGIN:VEVENT
DTSTART;TZID=Europe/London:20220225T143000
DTEND;TZID=Europe/London:20220225T170000
DTSTAMP:20260425T233427
CREATED:20220129T201708Z
LAST-MODIFIED:20220223T223943Z
UID:12209-1645799400-1645808400@atplayinthewoods.co.uk
SUMMARY:Aimee Curley
DESCRIPTION:Content is protected.
URL:https://atplayinthewoods.co.uk/event/aimee-curley/
LOCATION:At Play In The Woods\, At Play In The Woods\, Brockley Lane\, Chelvey\, North Somerset\, BS48 4AH\, United Kingdom
CATEGORIES:At Play In The Woods Events
END:VEVENT
BEGIN:VEVENT
DTSTART;TZID=Europe/London:20220226T103000
DTEND;TZID=Europe/London:20220226T130000
DTSTAMP:20260425T233427
CREATED:20220111T161238Z
LAST-MODIFIED:20220223T224409Z
UID:12101-1645871400-1645880400@atplayinthewoods.co.uk
SUMMARY:Claire Spring ~ Bespoke ~ Chloe
DESCRIPTION:Content is protected.
URL:https://atplayinthewoods.co.uk/event/claire-spring-bespoke-chloe/
LOCATION:At Play In The Woods\, At Play In The Woods\, Brockley Lane\, Chelvey\, North Somerset\, BS48 4AH\, United Kingdom
CATEGORIES:At Play In The Woods Events
END:VEVENT
BEGIN:VEVENT
DTSTART;TZID=Europe/London:20220227T103000
DTEND;TZID=Europe/London:20220227T130000
DTSTAMP:20260425T233427
CREATED:20220124T170132Z
LAST-MODIFIED:20220124T170132Z
UID:12190-1645957800-1645966800@atplayinthewoods.co.uk
SUMMARY:Laura Hay 27th Feb Pirate Treasure
DESCRIPTION:Content is protected.
URL:https://atplayinthewoods.co.uk/event/laura-hay-27th-feb-pirate-treasure/
LOCATION:At Play In The Woods\, At Play In The Woods\, Brockley Lane\, Chelvey\, North Somerset\, BS48 4AH\, United Kingdom
CATEGORIES:At Play In The Woods Events
ORGANIZER;CN="At Play In The Woods":MAILTO:info@atplayinthewoods.co.uk
END:VEVENT
BEGIN:VEVENT
DTSTART;TZID=Europe/London:20220227T140000
DTEND;TZID=Europe/London:20220227T163000
DTSTAMP:20260425T233427
CREATED:20220207T183430Z
LAST-MODIFIED:20220224T165511Z
UID:12236-1645970400-1645979400@atplayinthewoods.co.uk
SUMMARY:Mona Marvani ~ Go Wild
DESCRIPTION:Content is protected.
URL:https://atplayinthewoods.co.uk/event/mona-marvani-go-wild/
LOCATION:At Play In The Woods\, At Play In The Woods\, Brockley Lane\, Chelvey\, North Somerset\, BS48 4AH\, United Kingdom
CATEGORIES:At Play In The Woods Events
ORGANIZER;CN="At Play In The Woods":MAILTO:info@atplayinthewoods.co.uk
END:VEVENT
END:VCALENDAR