BEGIN:VCALENDAR
VERSION:2.0
PRODID:-//At Play In The Woods - ECPv6.15.20//NONSGML v1.0//EN
CALSCALE:GREGORIAN
METHOD:PUBLISH
X-WR-CALNAME:At Play In The Woods
X-ORIGINAL-URL:https://atplayinthewoods.co.uk
X-WR-CALDESC:Events for At Play In The Woods
REFRESH-INTERVAL;VALUE=DURATION:PT1H
X-Robots-Tag:noindex
X-PUBLISHED-TTL:PT1H
BEGIN:VTIMEZONE
TZID:UTC
BEGIN:STANDARD
TZOFFSETFROM:+0000
TZOFFSETTO:+0000
TZNAME:UTC
DTSTART:20210101T000000
END:STANDARD
END:VTIMEZONE
BEGIN:VTIMEZONE
TZID:Europe/London
BEGIN:DAYLIGHT
TZOFFSETFROM:+0000
TZOFFSETTO:+0100
TZNAME:BST
DTSTART:20210328T010000
END:DAYLIGHT
BEGIN:STANDARD
TZOFFSETFROM:+0100
TZOFFSETTO:+0000
TZNAME:GMT
DTSTART:20211031T010000
END:STANDARD
BEGIN:DAYLIGHT
TZOFFSETFROM:+0000
TZOFFSETTO:+0100
TZNAME:BST
DTSTART:20220327T010000
END:DAYLIGHT
BEGIN:STANDARD
TZOFFSETFROM:+0100
TZOFFSETTO:+0000
TZNAME:GMT
DTSTART:20221030T010000
END:STANDARD
BEGIN:DAYLIGHT
TZOFFSETFROM:+0000
TZOFFSETTO:+0100
TZNAME:BST
DTSTART:20230326T010000
END:DAYLIGHT
BEGIN:STANDARD
TZOFFSETFROM:+0100
TZOFFSETTO:+0000
TZNAME:GMT
DTSTART:20231029T010000
END:STANDARD
END:VTIMEZONE
BEGIN:VEVENT
DTSTART;TZID=UTC:20220611T140000
DTEND;TZID=UTC:20220611T163000
DTSTAMP:20260425T120710
CREATED:20220429T093114Z
LAST-MODIFIED:20220527T211025Z
UID:12599-1654956000-1654965000@atplayinthewoods.co.uk
SUMMARY:Annie Bird ~ Dino Hunt
DESCRIPTION:Content is protected.
URL:https://atplayinthewoods.co.uk/event/annie-bird-dino-hunt/
LOCATION:At Play In The Woods\, At Play In The Woods\, Brockley Lane\, Chelvey\, North Somerset\, BS48 4AH\, United Kingdom
CATEGORIES:At Play In The Woods Events
ORGANIZER;CN="At Play In The Woods":MAILTO:info@atplayinthewoods.co.uk
END:VEVENT
BEGIN:VEVENT
DTSTART;TZID=Europe/London:20220611T103000
DTEND;TZID=Europe/London:20220611T130000
DTSTAMP:20260425T120710
CREATED:20220505T195948Z
LAST-MODIFIED:20220505T200349Z
UID:12617-1654943400-1654952400@atplayinthewoods.co.uk
SUMMARY:Lorraine Kawka - Dens
DESCRIPTION:Content is protected.
URL:https://atplayinthewoods.co.uk/event/lorraine-kawka-dens/
LOCATION:At Play In The Woods\, At Play In The Woods\, Brockley Lane\, Chelvey\, North Somerset\, BS48 4AH\, United Kingdom
CATEGORIES:At Play In The Woods Events,Toddler Session
ORGANIZER;CN="At Play In The Woods":MAILTO:info@atplayinthewoods.co.uk
END:VEVENT
BEGIN:VEVENT
DTSTART;TZID=UTC:20220605T103000
DTEND;TZID=UTC:20220605T130000
DTSTAMP:20260425T120710
CREATED:20220311T215739Z
LAST-MODIFIED:20220311T215739Z
UID:12368-1654425000-1654434000@atplayinthewoods.co.uk
SUMMARY:Abigail Evans ~ Go wild
DESCRIPTION:Content is protected.
URL:https://atplayinthewoods.co.uk/event/abigail-evans-go-wild/
LOCATION:At Play In The Woods\, At Play In The Woods\, Brockley Lane\, Chelvey\, North Somerset\, BS48 4AH\, United Kingdom
CATEGORIES:At Play In The Woods Events
ORGANIZER;CN="At Play In The Woods":MAILTO:info@atplayinthewoods.co.uk
END:VEVENT
BEGIN:VEVENT
DTSTART;TZID=Europe/London:20220602T100000
DTEND;TZID=Europe/London:20220602T120000
DTSTAMP:20260425T120710
CREATED:20220601T163919Z
LAST-MODIFIED:20220601T163919Z
UID:12702-1654164000-1654171200@atplayinthewoods.co.uk
SUMMARY:Half term craziness
DESCRIPTION:Join us for a crazy day in the woods.
URL:https://atplayinthewoods.co.uk/event/half-term-craziness/
LOCATION:At Play In The Woods\, At Play In The Woods\, Brockley Lane\, Chelvey\, North Somerset\, BS48 4AH\, United Kingdom
CATEGORIES:At Play In The Woods Events
END:VEVENT
BEGIN:VEVENT
DTSTART;VALUE=DATE:20220528
DTEND;VALUE=DATE:20220529
DTSTAMP:20260425T120710
CREATED:20220423T174716Z
LAST-MODIFIED:20220423T174716Z
UID:12534-1653696000-1653782399@atplayinthewoods.co.uk
SUMMARY:CLOSED
DESCRIPTION:CLOSED
URL:https://atplayinthewoods.co.uk/event/closed-8/
LOCATION:At Play In The Woods\, At Play In The Woods\, Brockley Lane\, Chelvey\, North Somerset\, BS48 4AH\, United Kingdom
CATEGORIES:At Play In The Woods Events,Holiday Sessions,Home Education,Toddler Session
ORGANIZER;CN="At Play In The Woods":MAILTO:info@atplayinthewoods.co.uk
END:VEVENT
BEGIN:VEVENT
DTSTART;TZID=UTC:20220526T100000
DTEND;TZID=UTC:20220526T120000
DTSTAMP:20260425T120710
CREATED:20220428T103711Z
LAST-MODIFIED:20220428T103711Z
UID:12578-1653559200-1653566400@atplayinthewoods.co.uk
SUMMARY:Mums and Toddlers!
DESCRIPTION:Come and join us at Brickyard Woods in Chelvey\, and let your child explore the outdoors \nWe will all meet at the car park and then when everyone is present we will make our way to the woods all together.  \nOur site is accessible for buggies with good wheels. \nWe start the session with an introduction and a safety talk\, including COVID-19 guides lines (if applicable) \nThen it’s over to you. Play with the mud kitchen\, explore the woods and see what you can find! \nThere is a lovely walk to be had\, either by yourself or with the group.  \nThere is no plan to the session\, its led by the children’s imagination. \nRemember to bring a drink and a snack if you like. \nThere is no need to stay for the whole session\, if your child is getting tired\, you are free to leave whenever you like. \nIf you have any signs of high temperature or other COVID-19 symptoms\nplease do not attend. \nWe look forward to seeing you soon\, maybe bring a friend!!
URL:https://atplayinthewoods.co.uk/event/mums-and-toddlers/
LOCATION:At Play In The Woods\, At Play In The Woods\, Brockley Lane\, Chelvey\, North Somerset\, BS48 4AH\, United Kingdom
CATEGORIES:At Play In The Woods Events,Toddler Session
ORGANIZER;CN="At Play In The Woods":MAILTO:info@atplayinthewoods.co.uk
END:VEVENT
BEGIN:VEVENT
DTSTART;TZID=UTC:20220522T140000
DTEND;TZID=UTC:20220522T163000
DTSTAMP:20260425T120710
CREATED:20220409T122405Z
LAST-MODIFIED:20220520T193121Z
UID:12482-1653228000-1653237000@atplayinthewoods.co.uk
SUMMARY:Phillip Godden ~ 22052022PM ~ Dens
DESCRIPTION:Content is protected.
URL:https://atplayinthewoods.co.uk/event/phillip-godden-22052022pm-dens/
LOCATION:At Play In The Woods\, At Play In The Woods\, Brockley Lane\, Chelvey\, North Somerset\, BS48 4AH\, United Kingdom
CATEGORIES:At Play In The Woods Events
ORGANIZER;CN="At Play In The Woods":MAILTO:info@atplayinthewoods.co.uk
END:VEVENT
BEGIN:VEVENT
DTSTART;TZID=UTC:20220522T103000
DTEND;TZID=UTC:20220522T130000
DTSTAMP:20260425T120710
CREATED:20220307T170818Z
LAST-MODIFIED:20220324T210250Z
UID:12328-1653215400-1653224400@atplayinthewoods.co.uk
SUMMARY:Jingchun Li ~ Dens
DESCRIPTION:Content is protected.
URL:https://atplayinthewoods.co.uk/event/jingchun-li-dens/
LOCATION:At Play In The Woods\, At Play In The Woods\, Brockley Lane\, Chelvey\, North Somerset\, BS48 4AH\, United Kingdom
CATEGORIES:At Play In The Woods Events
ORGANIZER;CN="At Play In The Woods":MAILTO:info@atplayinthewoods.co.uk
END:VEVENT
BEGIN:VEVENT
DTSTART;TZID=UTC:20220521T140000
DTEND;TZID=UTC:20220521T163000
DTSTAMP:20260425T120710
CREATED:20220307T172138Z
LAST-MODIFIED:20220307T172138Z
UID:12334-1653141600-1653150600@atplayinthewoods.co.uk
SUMMARY:Emily Humphreys ~ Dens
DESCRIPTION:Content is protected.
URL:https://atplayinthewoods.co.uk/event/emily-humphreys-dens/
LOCATION:At Play In The Woods\, At Play In The Woods\, Brockley Lane\, Chelvey\, North Somerset\, BS48 4AH\, United Kingdom
CATEGORIES:At Play In The Woods Events
ORGANIZER;CN="At Play In The Woods":MAILTO:info@atplayinthewoods.co.uk
END:VEVENT
BEGIN:VEVENT
DTSTART;TZID=UTC:20220521T103000
DTEND;TZID=UTC:20220521T130000
DTSTAMP:20260425T120710
CREATED:20220410T212032Z
LAST-MODIFIED:20220521T111706Z
UID:12505-1653129000-1653138000@atplayinthewoods.co.uk
SUMMARY:Sandra Lee ~ 210522AM ~ Bespoke.
DESCRIPTION:Content is protected.
URL:https://atplayinthewoods.co.uk/event/sandra-lee-210522am-bespoke/
LOCATION:At Play In The Woods\, At Play In The Woods\, Brockley Lane\, Chelvey\, North Somerset\, BS48 4AH\, United Kingdom
CATEGORIES:At Play In The Woods Events
ORGANIZER;CN="At Play In The Woods":MAILTO:info@atplayinthewoods.co.uk
END:VEVENT
BEGIN:VEVENT
DTSTART;TZID=UTC:20220515T140000
DTEND;TZID=UTC:20220515T163000
DTSTAMP:20260425T120710
CREATED:20220226T212927Z
LAST-MODIFIED:20220513T070021Z
UID:12299-1652623200-1652632200@atplayinthewoods.co.uk
SUMMARY:Anna Lewis ~ Wands
DESCRIPTION:Content is protected.
URL:https://atplayinthewoods.co.uk/event/anna-lewis-wands/
LOCATION:At Play In The Woods\, At Play In The Woods\, Brockley Lane\, Chelvey\, North Somerset\, BS48 4AH\, United Kingdom
CATEGORIES:At Play In The Woods Events
ORGANIZER;CN="At Play In The Woods":MAILTO:info@atplayinthewoods.co.uk
END:VEVENT
BEGIN:VEVENT
DTSTART;TZID=UTC:20220515T103000
DTEND;TZID=UTC:20220515T130000
DTSTAMP:20260425T120710
CREATED:20220303T095319Z
LAST-MODIFIED:20220303T095319Z
UID:12321-1652610600-1652619600@atplayinthewoods.co.uk
SUMMARY:Charlotte Hazelby ~ Bespoke
DESCRIPTION:Content is protected.
URL:https://atplayinthewoods.co.uk/event/charlotte-hazelby-bespoke/
LOCATION:At Play In The Woods\, At Play In The Woods\, Brockley Lane\, Chelvey\, North Somerset\, BS48 4AH\, United Kingdom
CATEGORIES:At Play In The Woods Events
ORGANIZER;CN="At Play In The Woods":MAILTO:info@atplayinthewoods.co.uk
END:VEVENT
BEGIN:VEVENT
DTSTART;TZID=UTC:20220511T103000
DTEND;TZID=UTC:20220511T120000
DTSTAMP:20260425T120710
CREATED:20220428T101014Z
LAST-MODIFIED:20220506T073957Z
UID:12558-1652265000-1652270400@atplayinthewoods.co.uk
SUMMARY:Toddlers who Waddle
DESCRIPTION:Come and join us at Brickyard Woods in Chelvey\, and let your child explore the outdoors \nWe will all meet at the car park and then when everyone is present we will make our way to the woods all together.  \nOur site is accessible for buggies with good wheels. \nWe start the session with an introduction and a safety talk\, including COVID-19 guides lines (if applicable) \nThen it’s over to you. Play with the mud kitchen\, explore the woods and see what you can find! \nThere is a lovely walk to be had\, either by yourself or with the group.  \nThere is no plan to the session\, its led by the children’s imagination. \nRemember to bring a drink and a snack if you like. \nThere is no need to stay for the whole session\, if your child is getting tired\, you are free to leave whenever you like. \nIf you have any signs of high temperature or other COVID-19 symptoms\nplease do not attend. \nWe look forward to seeing you soon\, maybe bring a friend!!
URL:https://atplayinthewoods.co.uk/event/toddlers-who-waddle/
LOCATION:At Play In The Woods\, At Play In The Woods\, Brockley Lane\, Chelvey\, North Somerset\, BS48 4AH\, United Kingdom
CATEGORIES:At Play In The Woods Events,Toddler Session
ORGANIZER;CN="At Play In The Woods":MAILTO:info@atplayinthewoods.co.uk
END:VEVENT
BEGIN:VEVENT
DTSTART;TZID=UTC:20220510T100000
DTEND;TZID=UTC:20220510T120000
DTSTAMP:20260425T120710
CREATED:20220428T095524Z
LAST-MODIFIED:20220510T060402Z
UID:12549-1652176800-1652184000@atplayinthewoods.co.uk
SUMMARY:It's Toddlers AtPlay
DESCRIPTION:Come and join us at Brickyard Woods in Chelvey\, and let your child explore the outdoors \nWe will all meet at the car park and then when everyone is present we will make our way to the woods all together.  \nOur site is accessible for buggies with good wheels. \nWe start the session with an introduction and a safety talk\, including COVID-19 guides lines (if applicable) \nThen it’s over to you. Play with the mud kitchen\, explore the woods and see what you can find! \nThere is a lovely walk to be had\, either by yourself or with the group.  \nThere is no plan to the session\, its led by the children’s imagination. \nRemember to bring a drink and a snack if you like. \nThere is no need to stay for the whole session\, if your child is getting tired\, you are free to leave whenever you like. \nIf you have any signs of high temperature or other COVID-19 symptoms\nplease do not attend. \nWe look forward to seeing you soon\, maybe bring a friend!!
URL:https://atplayinthewoods.co.uk/event/its-toddlers-atplay/
LOCATION:At Play In The Woods\, At Play In The Woods\, Brockley Lane\, Chelvey\, North Somerset\, BS48 4AH\, United Kingdom
CATEGORIES:At Play In The Woods Events,Toddler Session
ORGANIZER;CN="At Play In The Woods":MAILTO:info@atplayinthewoods.co.uk
END:VEVENT
BEGIN:VEVENT
DTSTART;TZID=UTC:20220508T140000
DTEND;TZID=UTC:20220508T163000
DTSTAMP:20260425T120710
CREATED:20220310T223059Z
LAST-MODIFIED:20220503T210156Z
UID:12355-1652018400-1652027400@atplayinthewoods.co.uk
SUMMARY:Addy Bridger ~ Fairy Magic.
DESCRIPTION:Content is protected.
URL:https://atplayinthewoods.co.uk/event/addy-bridger-fairy-magic/
LOCATION:At Play In The Woods\, At Play In The Woods\, Brockley Lane\, Chelvey\, North Somerset\, BS48 4AH\, United Kingdom
CATEGORIES:At Play In The Woods Events
ORGANIZER;CN="At Play In The Woods":MAILTO:info@atplayinthewoods.co.uk
END:VEVENT
BEGIN:VEVENT
DTSTART;TZID=UTC:20220507T103000
DTEND;TZID=UTC:20220507T130000
DTSTAMP:20260425T120710
CREATED:20220320T195640Z
LAST-MODIFIED:20220320T195640Z
UID:12390-1651919400-1651928400@atplayinthewoods.co.uk
SUMMARY:Jenny Strickland ~ Bespoke.
DESCRIPTION:Content is protected.
URL:https://atplayinthewoods.co.uk/event/jenny-strickland-bespoke/
LOCATION:At Play In The Woods\, At Play In The Woods\, Brockley Lane\, Chelvey\, North Somerset\, BS48 4AH\, United Kingdom
CATEGORIES:At Play In The Woods Events
ORGANIZER;CN="At Play In The Woods":MAILTO:info@atplayinthewoods.co.uk
END:VEVENT
BEGIN:VEVENT
DTSTART;TZID=Europe/London:20220501T103000
DTEND;TZID=Europe/London:20220501T130000
DTSTAMP:20260425T120710
CREATED:20220109T172330Z
LAST-MODIFIED:20220109T172330Z
UID:12091-1651401000-1651410000@atplayinthewoods.co.uk
SUMMARY:Rebecca Temple ~ Sophie ~ Fairy Wands.
DESCRIPTION:Content is protected.
URL:https://atplayinthewoods.co.uk/event/rebecca-temple-sophie-fairy-wands/
LOCATION:At Play In The Woods\, At Play In The Woods\, Brockley Lane\, Chelvey\, North Somerset\, BS48 4AH\, United Kingdom
CATEGORIES:At Play In The Woods Events
END:VEVENT
BEGIN:VEVENT
DTSTART;TZID=UTC:20220423T140000
DTEND;TZID=UTC:20220423T163000
DTSTAMP:20260425T120710
CREATED:20220315T154540Z
LAST-MODIFIED:20220315T154540Z
UID:12376-1650722400-1650731400@atplayinthewoods.co.uk
SUMMARY:Katherine Williams ~ Bespoke.
DESCRIPTION:Content is protected.
URL:https://atplayinthewoods.co.uk/event/katherine-williams-bespoke/
LOCATION:At Play In The Woods\, At Play In The Woods\, Brockley Lane\, Chelvey\, North Somerset\, BS48 4AH\, United Kingdom
CATEGORIES:At Play In The Woods Events
ORGANIZER;CN="At Play In The Woods":MAILTO:info@atplayinthewoods.co.uk
END:VEVENT
BEGIN:VEVENT
DTSTART;VALUE=DATE:20220417
DTEND;VALUE=DATE:20220418
DTSTAMP:20260425T120710
CREATED:20220326T152408Z
LAST-MODIFIED:20220417T101159Z
UID:12411-1650153600-1650239999@atplayinthewoods.co.uk
SUMMARY:Easter Bunny visit
DESCRIPTION:Have the Easter bunny come to your house and drop of an egg on Easter Sunday! \nTime slots can not be booked. Easter bunny will be out from 11am till 5pm \nClevedon/Tickenham \, Nailsea/Backwell\, Yatton/Kenn\, Portishead/Walton-in-Gordano
URL:https://atplayinthewoods.co.uk/event/easter-bunny-visit/
LOCATION:North Somerset
CATEGORIES:At Play In The Woods Events,Holiday Sessions,Home Education,Santa,Toddler Session
ATTACH;FMTTYPE=image/jpeg:https://atplayinthewoods.co.uk/wp-content/uploads/2022/03/bunny.jpg
END:VEVENT
BEGIN:VEVENT
DTSTART;TZID=UTC:20220413T110000
DTEND;TZID=UTC:20220413T123000
DTSTAMP:20260425T120710
CREATED:20220326T143523Z
LAST-MODIFIED:20220412T180131Z
UID:12401-1649847600-1649853000@atplayinthewoods.co.uk
SUMMARY:Easter Egg Hunt
DESCRIPTION:A woodland Easter egg hunt. This event is for any aged child.  Please turn up 15 minutes before the start time! Stay and Play. \nCome join us find all the eggs that have been hidden around our wonderful woodland.
URL:https://atplayinthewoods.co.uk/event/easter-egg-hunt/
LOCATION:At Play In The Woods\, At Play In The Woods\, Brockley Lane\, Chelvey\, North Somerset\, BS48 4AH\, United Kingdom
CATEGORIES:At Play In The Woods Events,Holiday Sessions,Toddler Session
ATTACH;FMTTYPE=image/jpeg:https://atplayinthewoods.co.uk/wp-content/uploads/2018/04/IMG_1808.jpg
END:VEVENT
BEGIN:VEVENT
DTSTART;TZID=UTC:20220410T140000
DTEND;TZID=UTC:20220410T163000
DTSTAMP:20260425T120710
CREATED:20220311T214137Z
LAST-MODIFIED:20220407T165124Z
UID:12363-1649599200-1649608200@atplayinthewoods.co.uk
SUMMARY:Aimee Owen ~ Pirate Treasure
DESCRIPTION:Content is protected.
URL:https://atplayinthewoods.co.uk/event/aimee-owen-pirate-treasure/
LOCATION:At Play In The Woods\, At Play In The Woods\, Brockley Lane\, Chelvey\, North Somerset\, BS48 4AH\, United Kingdom
CATEGORIES:At Play In The Woods Events
ORGANIZER;CN="At Play In The Woods":MAILTO:info@atplayinthewoods.co.uk
END:VEVENT
BEGIN:VEVENT
DTSTART;TZID=Europe/London:20220410T103000
DTEND;TZID=Europe/London:20220410T130000
DTSTAMP:20260425T120710
CREATED:20220327T201406Z
LAST-MODIFIED:20220327T201644Z
UID:12421-1649586600-1649595600@atplayinthewoods.co.uk
SUMMARY:We are
DESCRIPTION:Alan private booking
URL:https://atplayinthewoods.co.uk/event/we-are/
LOCATION:North Somerset
CATEGORIES:At Play In The Woods Events
END:VEVENT
BEGIN:VEVENT
DTSTART;VALUE=DATE:20220402
DTEND;VALUE=DATE:20220404
DTSTAMP:20260425T120710
CREATED:20220206T181052Z
LAST-MODIFIED:20220206T181052Z
UID:12228-1648857600-1649030399@atplayinthewoods.co.uk
SUMMARY:Closed for staff Training
DESCRIPTION:
URL:https://atplayinthewoods.co.uk/event/closed-for-staff-training/
LOCATION:At Play In The Woods\, At Play In The Woods\, Brockley Lane\, Chelvey\, North Somerset\, BS48 4AH\, United Kingdom
CATEGORIES:At Play In The Woods Events
END:VEVENT
BEGIN:VEVENT
DTSTART;TZID=Europe/London:20220326T100000
DTEND;TZID=Europe/London:20220326T123000
DTSTAMP:20260425T120710
CREATED:20220201T133352Z
LAST-MODIFIED:20220201T133352Z
UID:12221-1648288800-1648297800@atplayinthewoods.co.uk
SUMMARY:Matthews Roberts
DESCRIPTION:Content is protected.
URL:https://atplayinthewoods.co.uk/event/matthews-roberts/
LOCATION:At Play In The Woods\, At Play In The Woods\, Brockley Lane\, Chelvey\, North Somerset\, BS48 4AH\, United Kingdom
CATEGORIES:At Play In The Woods Events
ORGANIZER;CN="At Play In The Woods":MAILTO:info@atplayinthewoods.co.uk
END:VEVENT
BEGIN:VEVENT
DTSTART;TZID=UTC:20220323T100000
DTEND;TZID=UTC:20220323T120000
DTSTAMP:20260425T120710
CREATED:20220217T114636Z
LAST-MODIFIED:20220322T194538Z
UID:12287-1648029600-1648036800@atplayinthewoods.co.uk
SUMMARY:Toddlers atPlay
DESCRIPTION:Come and join us at Brickyard Woods in Chelvey\, and let your child explore the outdoors \nWe will all meet at the car park and then when everyone is present we will make our way to the woods all together.  \nOur site is accessible for buggies with good wheels. \nWe start the session with an introduction and a safety talk\, including COVID-19 guides lines (if applicable) \nThen it’s over to you. Play with the mud kitchen\, explore the woods and see what you can find! \nThere is a lovely walk to be had\, either by yourself or with the group.  \nThere is no plan to the session\, its led by the children’s imagination. \nRemember to bring a drink and a snack if you like. \nThere is no need to stay for the whole session\, if your child is getting tired\, you are free to leave whenever you like. \nIf you have any signs of high temperature or other COVID-19 symptoms\nplease do not attend. \nWe look forward to seeing you soon\, maybe bring a friend!!
URL:https://atplayinthewoods.co.uk/event/toddlers-atplay/
LOCATION:At Play In The Woods\, At Play In The Woods\, Brockley Lane\, Chelvey\, North Somerset\, BS48 4AH\, United Kingdom
CATEGORIES:At Play In The Woods Events,Toddler Session
ORGANIZER;CN="At Play In The Woods":MAILTO:info@atplayinthewoods.co.uk
END:VEVENT
BEGIN:VEVENT
DTSTART;TZID=UTC:20220320T103000
DTEND;TZID=UTC:20220320T130000
DTSTAMP:20260425T120710
CREATED:20220301T164001Z
LAST-MODIFIED:20220301T164001Z
UID:12307-1647772200-1647781200@atplayinthewoods.co.uk
SUMMARY:Amy Butler ~ Dens
DESCRIPTION:Content is protected.
URL:https://atplayinthewoods.co.uk/event/amy-butler-dens/
LOCATION:At Play In The Woods\, At Play In The Woods\, Brockley Lane\, Chelvey\, North Somerset\, BS48 4AH\, United Kingdom
CATEGORIES:At Play In The Woods Events
ORGANIZER;CN="At Play In The Woods":MAILTO:info@atplayinthewoods.co.uk
END:VEVENT
BEGIN:VEVENT
DTSTART;TZID=UTC:20220316T100000
DTEND;TZID=UTC:20220316T120000
DTSTAMP:20260425T120710
CREATED:20220217T105816Z
LAST-MODIFIED:20220217T105816Z
UID:12282-1647424800-1647432000@atplayinthewoods.co.uk
SUMMARY:Toddlers love to Play
DESCRIPTION:Come and join us at Brickyard Woods in Chelvey\, and let your child explore the outdoors \nWe will all meet at the car park and then when everyone is present we will make our way to the woods all together.  \nOur site is accessible for buggies with good wheels. \nWe start the session with an introduction and a safety talk\, including COVID-19 guides lines (if applicable) \nThen it’s over to you. Play with the mud kitchen\, explore the woods and see what you can find! \nThere is a lovely walk to be had\, either by yourself or with the group.  \nThere is no plan to the session\, its led by the children’s imagination. \nRemember to bring a drink and a snack if you like. \nThere is no need to stay for the whole session\, if your child is getting tired\, you are free to leave whenever you like. \nIf you have any signs of high temperature or other COVID-19 symptoms\nplease do not attend. \nWe look forward to seeing you soon\, maybe bring a friend!!
URL:https://atplayinthewoods.co.uk/event/toddlers-love-to-play/
LOCATION:At Play In The Woods\, At Play In The Woods\, Brockley Lane\, Chelvey\, North Somerset\, BS48 4AH\, United Kingdom
CATEGORIES:At Play In The Woods Events,Toddler Session
ORGANIZER;CN="At Play In The Woods":MAILTO:info@atplayinthewoods.co.uk
END:VEVENT
BEGIN:VEVENT
DTSTART;TZID=UTC:20220309T100000
DTEND;TZID=UTC:20220309T120000
DTSTAMP:20260425T120710
CREATED:20220217T105400Z
LAST-MODIFIED:20220307T183234Z
UID:12277-1646820000-1646827200@atplayinthewoods.co.uk
SUMMARY:Toddlers at Play
DESCRIPTION:Come and join us at Brickyard Woods in Chelvey\, and let your child explore the outdoors \nWe will all meet at the car park and then when everyone is present we will make our way to the woods all together.  \nOur site is accessible for buggies with good wheels. \nWe start the session with an introduction and a safety talk\, including COVID-19 guides lines (if applicable) \nThen it’s over to you. Play with the mud kitchen\, explore the woods and see what you can find! \nThere is a lovely walk to be had\, either by yourself or with the group.  \nThere is no plan to the session\, its led by the children’s imagination. \nRemember to bring a drink and a snack if you like. \nThere is no need to stay for the whole session\, if your child is getting tired\, you are free to leave whenever you like. \nIf you have any signs of high temperature or other COVID-19 symptoms\nplease do not attend. \nWe look forward to seeing you soon\, maybe bring a friend!!
URL:https://atplayinthewoods.co.uk/event/toddlers-at-play/
LOCATION:At Play In The Woods\, At Play In The Woods\, Brockley Lane\, Chelvey\, North Somerset\, BS48 4AH\, United Kingdom
ORGANIZER;CN="At Play In The Woods":MAILTO:info@atplayinthewoods.co.uk
END:VEVENT
BEGIN:VEVENT
DTSTART;TZID=Europe/London:20220306T140000
DTEND;TZID=Europe/London:20220306T163000
DTSTAMP:20260425T120710
CREATED:20220215T172951Z
LAST-MODIFIED:20220301T142031Z
UID:12262-1646575200-1646584200@atplayinthewoods.co.uk
SUMMARY:Francesca Bishop (06/03) Go Wild
DESCRIPTION:Content is protected.
URL:https://atplayinthewoods.co.uk/event/francesca-bishop-06-03-go-wild/
LOCATION:At Play In The Woods\, At Play In The Woods\, Brockley Lane\, Chelvey\, North Somerset\, BS48 4AH\, United Kingdom
CATEGORIES:At Play In The Woods Events
ORGANIZER;CN="At Play In The Woods":MAILTO:info@atplayinthewoods.co.uk
END:VEVENT
BEGIN:VEVENT
DTSTART;TZID=Europe/London:20220227T140000
DTEND;TZID=Europe/London:20220227T163000
DTSTAMP:20260425T120710
CREATED:20220207T183430Z
LAST-MODIFIED:20220224T165511Z
UID:12236-1645970400-1645979400@atplayinthewoods.co.uk
SUMMARY:Mona Marvani ~ Go Wild
DESCRIPTION:Content is protected.
URL:https://atplayinthewoods.co.uk/event/mona-marvani-go-wild/
LOCATION:At Play In The Woods\, At Play In The Woods\, Brockley Lane\, Chelvey\, North Somerset\, BS48 4AH\, United Kingdom
CATEGORIES:At Play In The Woods Events
ORGANIZER;CN="At Play In The Woods":MAILTO:info@atplayinthewoods.co.uk
END:VEVENT
END:VCALENDAR