BEGIN:VCALENDAR
VERSION:2.0
PRODID:-//At Play In The Woods - ECPv6.15.20//NONSGML v1.0//EN
CALSCALE:GREGORIAN
METHOD:PUBLISH
X-WR-CALNAME:At Play In The Woods
X-ORIGINAL-URL:https://atplayinthewoods.co.uk
X-WR-CALDESC:Events for At Play In The Woods
REFRESH-INTERVAL;VALUE=DURATION:PT1H
X-Robots-Tag:noindex
X-PUBLISHED-TTL:PT1H
BEGIN:VTIMEZONE
TZID:Europe/London
BEGIN:DAYLIGHT
TZOFFSETFROM:+0000
TZOFFSETTO:+0100
TZNAME:BST
DTSTART:20220327T010000
END:DAYLIGHT
BEGIN:STANDARD
TZOFFSETFROM:+0100
TZOFFSETTO:+0000
TZNAME:GMT
DTSTART:20221030T010000
END:STANDARD
BEGIN:DAYLIGHT
TZOFFSETFROM:+0000
TZOFFSETTO:+0100
TZNAME:BST
DTSTART:20230326T010000
END:DAYLIGHT
BEGIN:STANDARD
TZOFFSETFROM:+0100
TZOFFSETTO:+0000
TZNAME:GMT
DTSTART:20231029T010000
END:STANDARD
BEGIN:DAYLIGHT
TZOFFSETFROM:+0000
TZOFFSETTO:+0100
TZNAME:BST
DTSTART:20240331T010000
END:DAYLIGHT
BEGIN:STANDARD
TZOFFSETFROM:+0100
TZOFFSETTO:+0000
TZNAME:GMT
DTSTART:20241027T010000
END:STANDARD
BEGIN:DAYLIGHT
TZOFFSETFROM:+0000
TZOFFSETTO:+0100
TZNAME:BST
DTSTART:20250330T010000
END:DAYLIGHT
BEGIN:STANDARD
TZOFFSETFROM:+0100
TZOFFSETTO:+0000
TZNAME:GMT
DTSTART:20251026T010000
END:STANDARD
END:VTIMEZONE
BEGIN:VEVENT
DTSTART;TZID=Europe/London:20240719T180000
DTEND;TZID=Europe/London:20240719T210000
DTSTAMP:20260424T000926
CREATED:20240425T194451Z
LAST-MODIFIED:20240425T194451Z
UID:14824-1721412000-1721422800@atplayinthewoods.co.uk
SUMMARY:Leavers Disco St Nicks
DESCRIPTION:Leavers Disco for St Nicks @ Clevedon Rugby Club 6-9
URL:https://atplayinthewoods.co.uk/event/leavers-disco-st-nicks/
CATEGORIES:Disco event
END:VEVENT
BEGIN:VEVENT
DTSTART;TZID=Europe/London:20240714T103000
DTEND;TZID=Europe/London:20240714T130000
DTSTAMP:20260424T000926
CREATED:20240520T172557Z
LAST-MODIFIED:20240520T172557Z
UID:14882-1720953000-1720962000@atplayinthewoods.co.uk
SUMMARY:Melia-Dens-AM
DESCRIPTION:Content is protected.
URL:https://atplayinthewoods.co.uk/event/melia-dens-am/
LOCATION:At Play In The Woods\, At Play In The Woods\, Brockley Lane\, Chelvey\, North Somerset\, BS48 4AH\, United Kingdom
CATEGORIES:At Play In The Woods Events
ORGANIZER;CN="At Play In The Woods":MAILTO:info@atplayinthewoods.co.uk
END:VEVENT
BEGIN:VEVENT
DTSTART;TZID=Europe/London:20240713T140000
DTEND;TZID=Europe/London:20240713T163000
DTSTAMP:20260424T000926
CREATED:20240625T185037Z
LAST-MODIFIED:20240625T185037Z
UID:14936-1720879200-1720888200@atplayinthewoods.co.uk
SUMMARY:Hayward-pirate-pm
DESCRIPTION:Content is protected.
URL:https://atplayinthewoods.co.uk/event/hayward-pirate-pm/
LOCATION:At Play In The Woods\, At Play In The Woods\, Brockley Lane\, Chelvey\, North Somerset\, BS48 4AH\, United Kingdom
CATEGORIES:At Play In The Woods Events
ORGANIZER;CN="At Play In The Woods":MAILTO:info@atplayinthewoods.co.uk
END:VEVENT
BEGIN:VEVENT
DTSTART;TZID=Europe/London:20240713T103000
DTEND;TZID=Europe/London:20240713T130000
DTSTAMP:20260424T000926
CREATED:20240505T165405Z
LAST-MODIFIED:20240505T165405Z
UID:14851-1720866600-1720875600@atplayinthewoods.co.uk
SUMMARY:Parle-Pirate-AM
DESCRIPTION:Content is protected.
URL:https://atplayinthewoods.co.uk/event/parle-pirate-am/
LOCATION:At Play In The Woods\, At Play In The Woods\, Brockley Lane\, Chelvey\, North Somerset\, BS48 4AH\, United Kingdom
CATEGORIES:At Play In The Woods Events
ORGANIZER;CN="At Play In The Woods":MAILTO:info@atplayinthewoods.co.uk
END:VEVENT
BEGIN:VEVENT
DTSTART;TZID=Europe/London:20240710T180000
DTEND;TZID=Europe/London:20240710T193000
DTSTAMP:20260424T000926
CREATED:20240710T182153Z
LAST-MODIFIED:20240710T182729Z
UID:14975-1720634400-1720639800@atplayinthewoods.co.uk
SUMMARY:Shooting Evening Monday 15th July
DESCRIPTION:Content is protected.
URL:https://atplayinthewoods.co.uk/event/shooting-evening-monday-15th-july/
CATEGORIES:shotting
END:VEVENT
BEGIN:VEVENT
DTSTART;TZID=Europe/London:20240630T103000
DTEND;TZID=Europe/London:20240630T130000
DTSTAMP:20260424T000926
CREATED:20240501T171712Z
LAST-MODIFIED:20240501T173102Z
UID:14843-1719743400-1719752400@atplayinthewoods.co.uk
SUMMARY:Xerri-woods-Bespoke-AM
DESCRIPTION:Content is protected.
URL:https://atplayinthewoods.co.uk/event/xerri-woods-bespoke-am/
LOCATION:At Play In The Woods\, At Play In The Woods\, Brockley Lane\, Chelvey\, North Somerset\, BS48 4AH\, United Kingdom
CATEGORIES:At Play In The Woods Events
ORGANIZER;CN="At Play In The Woods":MAILTO:info@atplayinthewoods.co.uk
END:VEVENT
BEGIN:VEVENT
DTSTART;VALUE=DATE:20240623
DTEND;VALUE=DATE:20240624
DTSTAMP:20260424T000926
CREATED:20240516T181022Z
LAST-MODIFIED:20240609T145206Z
UID:14878-1719100800-1719187199@atplayinthewoods.co.uk
SUMMARY:Zoey birthday
DESCRIPTION:Sam not available for any functions
URL:https://atplayinthewoods.co.uk/event/sam-out-of-the-business-6/
CATEGORIES:At Play In The Woods Events
END:VEVENT
BEGIN:VEVENT
DTSTART;TZID=Europe/London:20240622T140000
DTEND;TZID=Europe/London:20240622T163000
DTSTAMP:20260424T000926
CREATED:20240523T191535Z
LAST-MODIFIED:20240523T191535Z
UID:14904-1719064800-1719073800@atplayinthewoods.co.uk
SUMMARY:King-Dens-pm
DESCRIPTION:Content is protected.
URL:https://atplayinthewoods.co.uk/event/king-dens-pm/
LOCATION:At Play In The Woods\, At Play In The Woods\, Brockley Lane\, Chelvey\, North Somerset\, BS48 4AH\, United Kingdom
CATEGORIES:At Play In The Woods Events
ORGANIZER;CN="At Play In The Woods":MAILTO:info@atplayinthewoods.co.uk
END:VEVENT
BEGIN:VEVENT
DTSTART;TZID=Europe/London:20240622T103000
DTEND;TZID=Europe/London:20240622T130000
DTSTAMP:20260424T000926
CREATED:20240516T180700Z
LAST-MODIFIED:20240516T180700Z
UID:14873-1719052200-1719061200@atplayinthewoods.co.uk
SUMMARY:Bramhall-Pirates-AM
DESCRIPTION:Content is protected.
URL:https://atplayinthewoods.co.uk/event/bramhall-pirates-am/
LOCATION:At Play In The Woods\, At Play In The Woods\, Brockley Lane\, Chelvey\, North Somerset\, BS48 4AH\, United Kingdom
CATEGORIES:At Play In The Woods Events
ORGANIZER;CN="At Play In The Woods":MAILTO:info@atplayinthewoods.co.uk
END:VEVENT
BEGIN:VEVENT
DTSTART;TZID=Europe/London:20240615T140000
DTEND;TZID=Europe/London:20240615T163000
DTSTAMP:20260424T000926
CREATED:20240201T124130Z
LAST-MODIFIED:20240201T200915Z
UID:14719-1718460000-1718469000@atplayinthewoods.co.uk
SUMMARY:Whatley-Wands-AM
DESCRIPTION:Content is protected.
URL:https://atplayinthewoods.co.uk/event/whatley-wands-am/
LOCATION:At Play In The Woods\, At Play In The Woods\, Brockley Lane\, Chelvey\, North Somerset\, BS48 4AH\, United Kingdom
CATEGORIES:At Play In The Woods Events
ORGANIZER;CN="At Play In The Woods":MAILTO:info@atplayinthewoods.co.uk
END:VEVENT
BEGIN:VEVENT
DTSTART;TZID=Europe/London:20240608T140000
DTEND;TZID=Europe/London:20240608T163000
DTSTAMP:20260424T000926
CREATED:20240425T191637Z
LAST-MODIFIED:20240425T191637Z
UID:14819-1717855200-1717864200@atplayinthewoods.co.uk
SUMMARY:Pike-dens-PM
DESCRIPTION:Content is protected.
URL:https://atplayinthewoods.co.uk/event/pike-dens-pm/
LOCATION:At Play In The Woods\, At Play In The Woods\, Brockley Lane\, Chelvey\, North Somerset\, BS48 4AH\, United Kingdom
CATEGORIES:At Play In The Woods Events
ORGANIZER;CN="At Play In The Woods":MAILTO:info@atplayinthewoods.co.uk
END:VEVENT
BEGIN:VEVENT
DTSTART;TZID=Europe/London:20240602T103000
DTEND;TZID=Europe/London:20240602T130000
DTSTAMP:20260424T000926
CREATED:20240428T120504Z
LAST-MODIFIED:20240428T120504Z
UID:14834-1717324200-1717333200@atplayinthewoods.co.uk
SUMMARY:Muchall-dino-am
DESCRIPTION:Content is protected.
URL:https://atplayinthewoods.co.uk/event/muchall-dino-am/
LOCATION:At Play In The Woods\, At Play In The Woods\, Brockley Lane\, Chelvey\, North Somerset\, BS48 4AH\, United Kingdom
CATEGORIES:At Play In The Woods Events
ORGANIZER;CN="At Play In The Woods":MAILTO:info@atplayinthewoods.co.uk
END:VEVENT
BEGIN:VEVENT
DTSTART;TZID=Europe/London:20240525T140000
DTEND;TZID=Europe/London:20240525T163000
DTSTAMP:20260424T000926
CREATED:20240406T125824Z
LAST-MODIFIED:20240406T125824Z
UID:14794-1716645600-1716654600@atplayinthewoods.co.uk
SUMMARY:Lamy-Dens-PM
DESCRIPTION:Content is protected.
URL:https://atplayinthewoods.co.uk/event/lamy-dens-pm/
LOCATION:At Play In The Woods\, At Play In The Woods\, Brockley Lane\, Chelvey\, North Somerset\, BS48 4AH\, United Kingdom
CATEGORIES:At Play In The Woods Events
ORGANIZER;CN="At Play In The Woods":MAILTO:info@atplayinthewoods.co.uk
END:VEVENT
BEGIN:VEVENT
DTSTART;TZID=Europe/London:20240519T140000
DTEND;TZID=Europe/London:20240519T163000
DTSTAMP:20260424T000926
CREATED:20240425T202821Z
LAST-MODIFIED:20240425T202821Z
UID:14826-1716127200-1716136200@atplayinthewoods.co.uk
SUMMARY:Adcock-Dens-PM
DESCRIPTION:Content is protected.
URL:https://atplayinthewoods.co.uk/event/adcock-dens-pm/
LOCATION:At Play In The Woods\, At Play In The Woods\, Brockley Lane\, Chelvey\, North Somerset\, BS48 4AH\, United Kingdom
CATEGORIES:At Play In The Woods Events
ORGANIZER;CN="At Play In The Woods":MAILTO:info@atplayinthewoods.co.uk
END:VEVENT
BEGIN:VEVENT
DTSTART;TZID=Europe/London:20240519T103000
DTEND;TZID=Europe/London:20240519T130000
DTSTAMP:20260424T000926
CREATED:20240417T184835Z
LAST-MODIFIED:20240417T184835Z
UID:14809-1716114600-1716123600@atplayinthewoods.co.uk
SUMMARY:Eastwood-Pirate-AM
DESCRIPTION:Content is protected.
URL:https://atplayinthewoods.co.uk/event/eastwood-pirate-am/
LOCATION:At Play In The Woods\, At Play In The Woods\, Brockley Lane\, Chelvey\, North Somerset\, BS48 4AH\, United Kingdom
CATEGORIES:At Play In The Woods Events
ORGANIZER;CN="At Play In The Woods":MAILTO:info@atplayinthewoods.co.uk
END:VEVENT
BEGIN:VEVENT
DTSTART;TZID=Europe/London:20240420T140000
DTEND;TZID=Europe/London:20240420T163000
DTSTAMP:20260424T000926
CREATED:20240205T162707Z
LAST-MODIFIED:20240205T162707Z
UID:14733-1713621600-1713630600@atplayinthewoods.co.uk
SUMMARY:Hutchinson-Bespoke-PM
DESCRIPTION:Content is protected.
URL:https://atplayinthewoods.co.uk/event/hutchinson-bespoke-pm/
LOCATION:At Play In The Woods\, At Play In The Woods\, Brockley Lane\, Chelvey\, North Somerset\, BS48 4AH\, United Kingdom
CATEGORIES:At Play In The Woods Events
ORGANIZER;CN="At Play In The Woods":MAILTO:info@atplayinthewoods.co.uk
END:VEVENT
BEGIN:VEVENT
DTSTART;TZID=Europe/London:20240420T103000
DTEND;TZID=Europe/London:20240420T130000
DTSTAMP:20260424T000926
CREATED:20240205T155556Z
LAST-MODIFIED:20240205T155556Z
UID:14727-1713609000-1713618000@atplayinthewoods.co.uk
SUMMARY:Tucker-Dens-AM
DESCRIPTION:Content is protected.
URL:https://atplayinthewoods.co.uk/event/tucker-dens-am/
LOCATION:At Play In The Woods\, At Play In The Woods\, Brockley Lane\, Chelvey\, North Somerset\, BS48 4AH\, United Kingdom
CATEGORIES:At Play In The Woods Events
ORGANIZER;CN="At Play In The Woods":MAILTO:info@atplayinthewoods.co.uk
END:VEVENT
BEGIN:VEVENT
DTSTART;TZID=Europe/London:20240324T103000
DTEND;TZID=Europe/London:20240324T130000
DTSTAMP:20260424T000926
CREATED:20240214T195226Z
LAST-MODIFIED:20240214T195226Z
UID:14756-1711276200-1711285200@atplayinthewoods.co.uk
SUMMARY:Bertenshaw-Dens
DESCRIPTION:Content is protected.
URL:https://atplayinthewoods.co.uk/event/bertenshaw-dens/
LOCATION:At Play In The Woods\, At Play In The Woods\, Brockley Lane\, Chelvey\, North Somerset\, BS48 4AH\, United Kingdom
CATEGORIES:At Play In The Woods Events
ORGANIZER;CN="At Play In The Woods":MAILTO:info@atplayinthewoods.co.uk
END:VEVENT
BEGIN:VEVENT
DTSTART;TZID=Europe/London:20240323T013000
DTEND;TZID=Europe/London:20240323T160000
DTSTAMP:20260424T000926
CREATED:20240212T173325Z
LAST-MODIFIED:20240212T173325Z
UID:14754-1711157400-1711209600@atplayinthewoods.co.uk
SUMMARY:Disco-Sarah Keith
DESCRIPTION:Content is protected.
URL:https://atplayinthewoods.co.uk/event/disco-sarah-keith/
CATEGORIES:Disco event
END:VEVENT
BEGIN:VEVENT
DTSTART;TZID=Europe/London:20240302T140000
DTEND;TZID=Europe/London:20240302T163000
DTSTAMP:20260424T000926
CREATED:20240207T165458Z
LAST-MODIFIED:20240207T165458Z
UID:14740-1709388000-1709397000@atplayinthewoods.co.uk
SUMMARY:Westaway-Bespoke-pm
DESCRIPTION:Content is protected.
URL:https://atplayinthewoods.co.uk/event/westaway-bespoke-pm/
LOCATION:At Play In The Woods\, At Play In The Woods\, Brockley Lane\, Chelvey\, North Somerset\, BS48 4AH\, United Kingdom
CATEGORIES:At Play In The Woods Events
ORGANIZER;CN="At Play In The Woods":MAILTO:info@atplayinthewoods.co.uk
END:VEVENT
BEGIN:VEVENT
DTSTART;TZID=Europe/London:20240302T103000
DTEND;TZID=Europe/London:20240302T130000
DTSTAMP:20260424T000926
CREATED:20240115T210921Z
LAST-MODIFIED:20240121T194432Z
UID:14704-1709375400-1709384400@atplayinthewoods.co.uk
SUMMARY:Pring-Dens-AM
DESCRIPTION:Content is protected.
URL:https://atplayinthewoods.co.uk/event/pring-dens-am/
LOCATION:At Play In The Woods\, At Play In The Woods\, Brockley Lane\, Chelvey\, North Somerset\, BS48 4AH\, United Kingdom
CATEGORIES:At Play In The Woods Events
ORGANIZER;CN="At Play In The Woods":MAILTO:info@atplayinthewoods.co.uk
END:VEVENT
BEGIN:VEVENT
DTSTART;TZID=Europe/London:20240127T103000
DTEND;TZID=Europe/London:20240127T130000
DTSTAMP:20260424T000926
CREATED:20231215T195605Z
LAST-MODIFIED:20231215T195605Z
UID:14649-1706351400-1706360400@atplayinthewoods.co.uk
SUMMARY:Janes~dino hunt.
DESCRIPTION:Content is protected.
URL:https://atplayinthewoods.co.uk/event/janesdino-hunt/
LOCATION:At Play In The Woods\, At Play In The Woods\, Brockley Lane\, Chelvey\, North Somerset\, BS48 4AH\, United Kingdom
CATEGORIES:At Play In The Woods Events
ORGANIZER;CN="At Play In The Woods":MAILTO:info@atplayinthewoods.co.uk
END:VEVENT
BEGIN:VEVENT
DTSTART;VALUE=DATE:20231202
DTEND;VALUE=DATE:20231204
DTSTAMP:20260424T000926
CREATED:20230307T195657Z
LAST-MODIFIED:20230307T195657Z
UID:13938-1701475200-1701647999@atplayinthewoods.co.uk
SUMMARY:Closed ~ Staff Training
DESCRIPTION:Closed for staff training weekend.
URL:https://atplayinthewoods.co.uk/event/closed-staff-training/
LOCATION:At Play In The Woods\, At Play In The Woods\, Brockley Lane\, Chelvey\, North Somerset\, BS48 4AH\, United Kingdom
CATEGORIES:At Play In The Woods Events
ORGANIZER;CN="At Play In The Woods":MAILTO:info@atplayinthewoods.co.uk
END:VEVENT
BEGIN:VEVENT
DTSTART;TZID=Europe/London:20231126T000000
DTEND;TZID=Europe/London:20231126T000000
DTSTAMP:20260424T000926
CREATED:20231020T142123Z
LAST-MODIFIED:20231020T143553Z
UID:14533-1700956800-1700956800@atplayinthewoods.co.uk
SUMMARY:Kathy Mould ~ Disco
DESCRIPTION:Content is protected.
URL:https://atplayinthewoods.co.uk/event/kathy-mould-disco/
CATEGORIES:Disco event
END:VEVENT
BEGIN:VEVENT
DTSTART;TZID=Europe/London:20231111T103000
DTEND;TZID=Europe/London:20231111T130000
DTSTAMP:20260424T000926
CREATED:20231013T145735Z
LAST-MODIFIED:20231013T145735Z
UID:14524-1699698600-1699707600@atplayinthewoods.co.uk
SUMMARY:Puttock~Wands~AM
DESCRIPTION:Content is protected.
URL:https://atplayinthewoods.co.uk/event/puttockwandsam/
LOCATION:At Play In The Woods\, At Play In The Woods\, Brockley Lane\, Chelvey\, North Somerset\, BS48 4AH\, United Kingdom
CATEGORIES:At Play In The Woods Events
ORGANIZER;CN="At Play In The Woods":MAILTO:info@atplayinthewoods.co.uk
END:VEVENT
BEGIN:VEVENT
DTSTART;TZID=Europe/London:20231029T120000
DTEND;TZID=Europe/London:20231029T133000
DTSTAMP:20260424T000926
CREATED:20230929T152655Z
LAST-MODIFIED:20231029T115135Z
UID:14490-1698580800-1698586200@atplayinthewoods.co.uk
SUMMARY:Halloween in the woods
DESCRIPTION:Hubble bubble\, toil and trouble… pumpkin carve and make it double!  \nEvery child will find their pumpkin partner\, carving the most hideous face or the most entertaining. You could take inspiration from goblins\, spooks\, sprites or ogres.  \nIf all mischievous creatures behave\, the mini-monsters will have a great time making a mess\, before taking the remains to feed our local wildlife. \n \nCome one\, come all\, to play with pumpkins and sprites\, \nto carve out your lanterns and light up Halloween Night. \nSpooky stories and marshmallows\, giggles and fun- Come celebrate with us until the season is done! \n 
URL:https://atplayinthewoods.co.uk/event/halloween-in-the-woods/
LOCATION:At Play In The Woods\, At Play In The Woods\, Brockley Lane\, Chelvey\, North Somerset\, BS48 4AH\, United Kingdom
CATEGORIES:At Play In The Woods Events,Holiday Sessions
ATTACH;FMTTYPE=image/jpeg:https://atplayinthewoods.co.uk/wp-content/uploads/2023/09/halloween1.jpg
ORGANIZER;CN="At Play In The Woods":MAILTO:info@atplayinthewoods.co.uk
END:VEVENT
BEGIN:VEVENT
DTSTART;TZID=Europe/London:20231028T130000
DTEND;TZID=Europe/London:20231028T143000
DTSTAMP:20260424T000926
CREATED:20230929T114144Z
LAST-MODIFIED:20230929T152214Z
UID:14469-1698498000-1698503400@atplayinthewoods.co.uk
SUMMARY:Pumpkin Carving in the woods
DESCRIPTION:Hubble bubble\, toil and trouble… pumpkin carve and make it double!  \nEvery child will find their pumpkin partner\, carving the most hideous face or the most entertaining. You could take inspiration from goblins\, spooks\, sprites or ogres.  \nIf all mischievous creatures behave\, the mini-monsters will have a great time making a mess\, before taking the remains to feed our local wildlife. \n \nCome one\, come all\, to play with pumpkins and sprites\, \nto carve out your lanterns and light up Halloween Night. \nSpooky stories and marshmallows\, giggles and fun- Come celebrate with us until the season is done! \n 
URL:https://atplayinthewoods.co.uk/event/pumpkin-carving-in-the-woods/
LOCATION:At Play In The Woods\, At Play In The Woods\, Brockley Lane\, Chelvey\, North Somerset\, BS48 4AH\, United Kingdom
CATEGORIES:At Play In The Woods Events,Holiday Sessions,Home Education
ATTACH;FMTTYPE=image/jpeg:https://atplayinthewoods.co.uk/wp-content/uploads/2023/09/halloween1.jpg
END:VEVENT
BEGIN:VEVENT
DTSTART;TZID=Europe/London:20231028T110000
DTEND;TZID=Europe/London:20231028T123000
DTSTAMP:20260424T000926
CREATED:20230929T111259Z
LAST-MODIFIED:20231026T152749Z
UID:14464-1698490800-1698496200@atplayinthewoods.co.uk
SUMMARY:Halloween Pumpkin Carving
DESCRIPTION:Hubble bubble\, toil and trouble… pumpkin carveTand make it double!  \n  \nEvery child will find their pumpkin partner\, carving the most hideous face or the most entertaining. You could take inspiration from goblins\, spooks\, sprites or ogres.  \n  \nIf all mischievous creatures behave\, the mini-monsters will have a great time making a mess\, before taking the remains to feed our local wildlife. \n  \n￼ \n  \nCome one\, come all\, to play with pumpkins and sprites\, \n  \nto carve out your lanterns and light up Halloween Night. \n  \nSpooky stories and marshmallows\, giggles and fun- Come celebrate with us until the season is done! \n  \n  \n  \n￼￼
URL:https://atplayinthewoods.co.uk/event/halloween-pumpkin-carviving/
LOCATION:At Play In The Woods\, At Play In The Woods\, Brockley Lane\, Chelvey\, North Somerset\, BS48 4AH\, United Kingdom
CATEGORIES:At Play In The Woods Events,Holiday Sessions,Home Education
ATTACH;FMTTYPE=image/jpeg:https://atplayinthewoods.co.uk/wp-content/uploads/2023/09/halloween1.jpg
ORGANIZER;CN="At Play In The Woods":MAILTO:info@atplayinthewoods.co.uk
END:VEVENT
BEGIN:VEVENT
DTSTART;TZID=Europe/London:20231015T103000
DTEND;TZID=Europe/London:20231015T130000
DTSTAMP:20260424T000926
CREATED:20230913T103656Z
LAST-MODIFIED:20230913T103656Z
UID:14427-1697365800-1697374800@atplayinthewoods.co.uk
SUMMARY:Stone ~ Dens ~ AM
DESCRIPTION:Content is protected.
URL:https://atplayinthewoods.co.uk/event/stone-dens-am/
LOCATION:At Play In The Woods\, At Play In The Woods\, Brockley Lane\, Chelvey\, North Somerset\, BS48 4AH\, United Kingdom
CATEGORIES:At Play In The Woods Events
ORGANIZER;CN="At Play In The Woods":MAILTO:info@atplayinthewoods.co.uk
END:VEVENT
BEGIN:VEVENT
DTSTART;TZID=Europe/London:20231014T140000
DTEND;TZID=Europe/London:20231014T163000
DTSTAMP:20260424T000926
CREATED:20230917T192140Z
LAST-MODIFIED:20230917T192140Z
UID:14434-1697292000-1697301000@atplayinthewoods.co.uk
SUMMARY:Reynolds~Bespoke~PM
DESCRIPTION:Content is protected.
URL:https://atplayinthewoods.co.uk/event/reynoldsbespokepm/
LOCATION:At Play In The Woods\, At Play In The Woods\, Brockley Lane\, Chelvey\, North Somerset\, BS48 4AH\, United Kingdom
CATEGORIES:At Play In The Woods Events
ORGANIZER;CN="At Play In The Woods":MAILTO:info@atplayinthewoods.co.uk
END:VEVENT
END:VCALENDAR