BEGIN:VCALENDAR
VERSION:2.0
PRODID:-//At Play In The Woods - ECPv6.15.20//NONSGML v1.0//EN
CALSCALE:GREGORIAN
METHOD:PUBLISH
X-ORIGINAL-URL:https://atplayinthewoods.co.uk
X-WR-CALDESC:Events for At Play In The Woods
REFRESH-INTERVAL;VALUE=DURATION:PT1H
X-Robots-Tag:noindex
X-PUBLISHED-TTL:PT1H
BEGIN:VTIMEZONE
TZID:Europe/London
BEGIN:DAYLIGHT
TZOFFSETFROM:+0000
TZOFFSETTO:+0100
TZNAME:BST
DTSTART:20220327T010000
END:DAYLIGHT
BEGIN:STANDARD
TZOFFSETFROM:+0100
TZOFFSETTO:+0000
TZNAME:GMT
DTSTART:20221030T010000
END:STANDARD
BEGIN:DAYLIGHT
TZOFFSETFROM:+0000
TZOFFSETTO:+0100
TZNAME:BST
DTSTART:20230326T010000
END:DAYLIGHT
BEGIN:STANDARD
TZOFFSETFROM:+0100
TZOFFSETTO:+0000
TZNAME:GMT
DTSTART:20231029T010000
END:STANDARD
BEGIN:DAYLIGHT
TZOFFSETFROM:+0000
TZOFFSETTO:+0100
TZNAME:BST
DTSTART:20240331T010000
END:DAYLIGHT
BEGIN:STANDARD
TZOFFSETFROM:+0100
TZOFFSETTO:+0000
TZNAME:GMT
DTSTART:20241027T010000
END:STANDARD
END:VTIMEZONE
BEGIN:VEVENT
DTSTART;TZID=Europe/London:20230227T080000
DTEND;TZID=Europe/London:20230227T170000
DTSTAMP:20260425T165525
CREATED:20230223T140332Z
LAST-MODIFIED:20230223T140332Z
UID:13855-1677484800-1677517200@atplayinthewoods.co.uk
SUMMARY:Private booking
DESCRIPTION:
URL:https://atplayinthewoods.co.uk/event/private-booking-4/
LOCATION:At Play In The Woods\, At Play In The Woods\, Brockley Lane\, Chelvey\, North Somerset\, BS48 4AH\, United Kingdom
CATEGORIES:At Play In The Woods Events
ORGANIZER;CN="At Play In The Woods":MAILTO:info@atplayinthewoods.co.uk
END:VEVENT
BEGIN:VEVENT
DTSTART;TZID=Europe/London:20230228T103000
DTEND;TZID=Europe/London:20230228T113000
DTSTAMP:20260425T165525
CREATED:20230118T204809Z
LAST-MODIFIED:20230119T124342Z
UID:13675-1677580200-1677583800@atplayinthewoods.co.uk
SUMMARY:Forest School for all
DESCRIPTION:Bring your children down to our Magical Woodland for fun at Forest School. \nToddler  or Home School we join together so that we can include everyone. \nParents/carers join in with the session\, as children are introduced to the wonders of the forest through play. \nCome join Sam as we adventure into the woods. We will have a fire\, talk about what we would like to do and have a play in the mud kitchen. \nWe meet in the carpark. Then when we are all ready will cross into the woods together. \nPlease be onsite before 10:30! \nWhy choose Parent and Toddler Forest School sessions?\n\nThe benefits for children (and adults) of Forest School are numerous and include: \nPositive benefits of the natural environment include lower blood pressure and reduced stress levels. \nExcellent for developing gross motor skills and core strength (climbing and walking on uneven terrain). \nProvides a unique opportunity to connect with your child without the distractions of screens\,\ngadgets and the pressures and demands of daily life. \nIncreases self confidence and self esteem in children. \nHelps children develop social skills and emotional intelligence. \nWhat to wear?\n\nAt Forest School\, we believe that there is no such thing as bad weather\, only bad clothes!\nSessions will take place in most weathers\, so come prepared wearing lots of layers\, waterproof coats and trousers\,\nwarm hats\, scarves and gloves and some waterproof wellies or walking boots. \nWe look forward to seeing you soon.
URL:https://atplayinthewoods.co.uk/event/forest-school-for-all-2/
LOCATION:At Play In The Woods\, At Play In The Woods\, Brockley Lane\, Chelvey\, North Somerset\, BS48 4AH\, United Kingdom
CATEGORIES:At Play In The Woods Events,Toddler Session
ATTACH;FMTTYPE=image/jpeg:https://atplayinthewoods.co.uk/wp-content/uploads/2020/03/61333251_293550028264377_8957997251859316736_n.jpg
ORGANIZER;CN="At Play In The Woods":MAILTO:info@atplayinthewoods.co.uk
END:VEVENT
BEGIN:VEVENT
DTSTART;TZID=Europe/London:20230306T080000
DTEND;TZID=Europe/London:20230306T170000
DTSTAMP:20260425T165525
CREATED:20230223T140438Z
LAST-MODIFIED:20230223T140438Z
UID:13858-1678089600-1678122000@atplayinthewoods.co.uk
SUMMARY:Private booking
DESCRIPTION:
URL:https://atplayinthewoods.co.uk/event/private-booking-5/
LOCATION:North Somerset
CATEGORIES:At Play In The Woods Events
END:VEVENT
BEGIN:VEVENT
DTSTART;VALUE=DATE:20230313
DTEND;VALUE=DATE:20230314
DTSTAMP:20260425T165525
CREATED:20230223T231153Z
LAST-MODIFIED:20230223T231153Z
UID:13878-1678665600-1678751999@atplayinthewoods.co.uk
SUMMARY:School Booking
DESCRIPTION:School Booking
URL:https://atplayinthewoods.co.uk/event/school-booking-3/
LOCATION:North Somerset
CATEGORIES:At Play In The Woods Events
END:VEVENT
BEGIN:VEVENT
DTSTART;TZID=Europe/London:20230318T103000
DTEND;TZID=Europe/London:20230318T130000
DTSTAMP:20260425T165525
CREATED:20230127T211657Z
LAST-MODIFIED:20230127T211657Z
UID:13767-1679135400-1679144400@atplayinthewoods.co.uk
SUMMARY:Rachel Skraba ~ Dino Hunt
DESCRIPTION:Content is protected.
URL:https://atplayinthewoods.co.uk/event/rachel-skraba-dino-hunt/
LOCATION:At Play In The Woods\, At Play In The Woods\, Brockley Lane\, Chelvey\, North Somerset\, BS48 4AH\, United Kingdom
CATEGORIES:At Play In The Woods Events
ORGANIZER;CN="At Play In The Woods":MAILTO:info@atplayinthewoods.co.uk
END:VEVENT
BEGIN:VEVENT
DTSTART;VALUE=DATE:20230325
DTEND;VALUE=DATE:20230326
DTSTAMP:20260425T165525
CREATED:20230218T193405Z
LAST-MODIFIED:20230218T193405Z
UID:13838-1679702400-1679788799@atplayinthewoods.co.uk
SUMMARY:CLOSED ALL DAY
DESCRIPTION:Closed all day
URL:https://atplayinthewoods.co.uk/event/closed-all-day-3/
LOCATION:At Play In The Woods\, At Play In The Woods\, Brockley Lane\, Chelvey\, North Somerset\, BS48 4AH\, United Kingdom
CATEGORIES:At Play In The Woods Events
END:VEVENT
BEGIN:VEVENT
DTSTART;TZID=Europe/London:20230326T103000
DTEND;TZID=Europe/London:20230326T130000
DTSTAMP:20260425T165525
CREATED:20230104T141823Z
LAST-MODIFIED:20230104T141823Z
UID:13615-1679826600-1679835600@atplayinthewoods.co.uk
SUMMARY:Martina Dodder ~ Dens
DESCRIPTION:Content is protected.
URL:https://atplayinthewoods.co.uk/event/martina-dodder-dens/
LOCATION:At Play In The Woods\, At Play In The Woods\, Brockley Lane\, Chelvey\, North Somerset\, BS48 4AH\, United Kingdom
CATEGORIES:At Play In The Woods Events
ORGANIZER;CN="At Play In The Woods":MAILTO:info@atplayinthewoods.co.uk
END:VEVENT
BEGIN:VEVENT
DTSTART;TZID=Europe/London:20230326T140000
DTEND;TZID=Europe/London:20230326T163000
DTSTAMP:20260425T165525
CREATED:20230129T163229Z
LAST-MODIFIED:20230222T160111Z
UID:13792-1679839200-1679848200@atplayinthewoods.co.uk
SUMMARY:Becky Harrison ~ Bespoke TBC
DESCRIPTION:Content is protected.
URL:https://atplayinthewoods.co.uk/event/becky-harrison-bespoke-tbc/
LOCATION:At Play In The Woods\, At Play In The Woods\, Brockley Lane\, Chelvey\, North Somerset\, BS48 4AH\, United Kingdom
CATEGORIES:At Play In The Woods Events
ORGANIZER;CN="At Play In The Woods":MAILTO:info@atplayinthewoods.co.uk
END:VEVENT
BEGIN:VEVENT
DTSTART;TZID=Europe/London:20230401T140000
DTEND;TZID=Europe/London:20230401T163000
DTSTAMP:20260425T165525
CREATED:20230302T130132Z
LAST-MODIFIED:20230318T192418Z
UID:13909-1680357600-1680366600@atplayinthewoods.co.uk
SUMMARY:James Lindley ~ Dino
DESCRIPTION:Content is protected.
URL:https://atplayinthewoods.co.uk/event/james-lindley-dino/
LOCATION:At Play In The Woods\, At Play In The Woods\, Brockley Lane\, Chelvey\, North Somerset\, BS48 4AH\, United Kingdom
CATEGORIES:At Play In The Woods Events
ORGANIZER;CN="At Play In The Woods":MAILTO:info@atplayinthewoods.co.uk
END:VEVENT
BEGIN:VEVENT
DTSTART;TZID=Europe/London:20230402T103000
DTEND;TZID=Europe/London:20230402T130000
DTSTAMP:20260425T165525
CREATED:20230108T181514Z
LAST-MODIFIED:20230108T181514Z
UID:13632-1680431400-1680440400@atplayinthewoods.co.uk
SUMMARY:Celia Martinez ~ Wands
DESCRIPTION:Content is protected.
URL:https://atplayinthewoods.co.uk/event/celia-martinez-wands/
LOCATION:At Play In The Woods\, At Play In The Woods\, Brockley Lane\, Chelvey\, North Somerset\, BS48 4AH\, United Kingdom
CATEGORIES:At Play In The Woods Events
ORGANIZER;CN="At Play In The Woods":MAILTO:info@atplayinthewoods.co.uk
END:VEVENT
BEGIN:VEVENT
DTSTART;TZID=Europe/London:20230408T110000
DTEND;TZID=Europe/London:20230408T123000
DTSTAMP:20260425T165525
CREATED:20230223T223211Z
LAST-MODIFIED:20230223T225220Z
UID:13862-1680951600-1680957000@atplayinthewoods.co.uk
SUMMARY:The Great Easter Egg Hunt!
DESCRIPTION:If you go down to the woods today…. \nYou will meet The Easter Bunny!\nHe will be hopping around the woods\, hiding eggs for everyone to find in our Great Eggy Hunt! \nWhile he hides those eggs\, the children can colour/decorate their ordinary ones\, play in our outdoor mud kitchen and toast marshmallows. \nThere will be a eggy prize for the family with the best Easter costume\n– so put on your bow ties\, tie those dress sashes and come along for a day filled with fun\, laughter\, the Great Outdoors and of course- Chocolate! \nEvery child will get an egg and the family that finds the most eggs will get our grand Easter surprise! \n  \nFrom 11:00 am  till 12:30pm\n \n 
URL:https://atplayinthewoods.co.uk/event/the-great-easter-egg-hunt/
LOCATION:At Play In The Woods\, At Play In The Woods\, Brockley Lane\, Chelvey\, North Somerset\, BS48 4AH\, United Kingdom
CATEGORIES:At Play In The Woods Events,Booksigning,Holiday Sessions,Toddler Session
ATTACH;FMTTYPE=image/jpeg:https://atplayinthewoods.co.uk/wp-content/uploads/2023/02/easter2.jpg
END:VEVENT
BEGIN:VEVENT
DTSTART;TZID=Europe/London:20230416T103000
DTEND;TZID=Europe/London:20230416T130000
DTSTAMP:20260425T165525
CREATED:20230113T194118Z
LAST-MODIFIED:20230329T114753Z
UID:13649-1681641000-1681650000@atplayinthewoods.co.uk
SUMMARY:Kate Bourne ~ Wands ~ 16/04/23 ~ AM
DESCRIPTION:Content is protected.
URL:https://atplayinthewoods.co.uk/event/kate-bourne-wands/
LOCATION:At Play In The Woods\, At Play In The Woods\, Brockley Lane\, Chelvey\, North Somerset\, BS48 4AH\, United Kingdom
CATEGORIES:At Play In The Woods Events
ORGANIZER;CN="At Play In The Woods":MAILTO:info@atplayinthewoods.co.uk
END:VEVENT
BEGIN:VEVENT
DTSTART;TZID=Europe/London:20230419T103000
DTEND;TZID=Europe/London:20230419T114500
DTSTAMP:20260425T165525
CREATED:20230412T203350Z
LAST-MODIFIED:20230412T203932Z
UID:14084-1681900200-1681904700@atplayinthewoods.co.uk
SUMMARY:Woodland Explorers 5 years & under
DESCRIPTION:New prices!\nCome to Brickyard Woods and let your child explore the wonders of our Woodland. \nPlease ensure you arrive 15 minutes before the start time to allows us to give you the all important introductions. \nThis will be child-led play\, so you can wander around the woods on your own or with us as a group\, the choice is yours. \nEnjoy time playing with your child in the mud kitchen and on the balance rope.  \nThe session will end with the all important roasting of the marshamallows around the fire.  \nPlease dress appropriately for the weather\, long trousers are advisable\, along with wellies.  \nThere is no need to worry if your child fells tired\, you are free to sit and relax around the fire at any time.  \n 
URL:https://atplayinthewoods.co.uk/event/woodland-explorers-5-years-under/
LOCATION:At Play In The Woods\, At Play In The Woods\, Brockley Lane\, Chelvey\, North Somerset\, BS48 4AH\, United Kingdom
CATEGORIES:At Play In The Woods Events,Toddler Session
ATTACH;FMTTYPE=image/jpeg:https://atplayinthewoods.co.uk/wp-content/uploads/2020/03/61333251_293550028264377_8957997251859316736_n.jpg
ORGANIZER;CN="At Play In The Woods":MAILTO:info@atplayinthewoods.co.uk
END:VEVENT
BEGIN:VEVENT
DTSTART;TZID=Europe/London:20230422T103000
DTEND;TZID=Europe/London:20230422T130000
DTSTAMP:20260425T165525
CREATED:20230307T174218Z
LAST-MODIFIED:20230412T180240Z
UID:13926-1682159400-1682168400@atplayinthewoods.co.uk
SUMMARY:Hannah Sabido ~ Wands
DESCRIPTION:Content is protected.
URL:https://atplayinthewoods.co.uk/event/hannah-sabido-wands/
LOCATION:At Play In The Woods\, At Play In The Woods\, Brockley Lane\, Chelvey\, North Somerset\, BS48 4AH\, United Kingdom
CATEGORIES:At Play In The Woods Events
ORGANIZER;CN="At Play In The Woods":MAILTO:info@atplayinthewoods.co.uk
END:VEVENT
BEGIN:VEVENT
DTSTART;VALUE=DATE:20230423
DTEND;VALUE=DATE:20230424
DTSTAMP:20260425T165525
CREATED:20230307T195500Z
LAST-MODIFIED:20230307T195500Z
UID:13936-1682208000-1682294399@atplayinthewoods.co.uk
SUMMARY:Closed ~ private booking.
DESCRIPTION:We are closed today for a private booking.
URL:https://atplayinthewoods.co.uk/event/closed-private-booking/
LOCATION:At Play In The Woods\, At Play In The Woods\, Brockley Lane\, Chelvey\, North Somerset\, BS48 4AH\, United Kingdom
CATEGORIES:At Play In The Woods Events
ORGANIZER;CN="At Play In The Woods":MAILTO:info@atplayinthewoods.co.uk
END:VEVENT
BEGIN:VEVENT
DTSTART;TZID=Europe/London:20230428T103000
DTEND;TZID=Europe/London:20230428T114500
DTSTAMP:20260425T165525
CREATED:20230412T210029Z
LAST-MODIFIED:20230412T210029Z
UID:14099-1682677800-1682682300@atplayinthewoods.co.uk
SUMMARY:Toddler Explores for 5 and Under
DESCRIPTION:New prices!\nCome to Brickyard Woods and let your child explore the wonders of our Woodland. \nPlease ensure you arrive 15 minutes before the start time to allows us to give you the all important introductions. \nThis will be child-led play\, so you can wander around the woods on your own or with us as a group\, the choice is yours. \nEnjoy time playing with your child in the mud kitchen and on the balance rope. \nThe session will end with the all important roasting of the marshmallows around the fire. \nPlease dress appropriately for the weather\, long trousers are advisable\, along with wellies. \nThere is no need to worry if your child fells tired\, you are free to sit and relax around the fire at any time.
URL:https://atplayinthewoods.co.uk/event/toddler-explores-for-5-and-under-2/
LOCATION:At Play In The Woods\, At Play In The Woods\, Brockley Lane\, Chelvey\, North Somerset\, BS48 4AH\, United Kingdom
CATEGORIES:At Play In The Woods Events,Toddler Session
ATTACH;FMTTYPE=image/jpeg:https://atplayinthewoods.co.uk/wp-content/uploads/2020/05/20200511_135629-scaled.jpg
END:VEVENT
BEGIN:VEVENT
DTSTART;TZID=Europe/London:20230429T103000
DTEND;TZID=Europe/London:20230429T130000
DTSTAMP:20260425T165525
CREATED:20230309T213736Z
LAST-MODIFIED:20230309T213736Z
UID:13942-1682764200-1682773200@atplayinthewoods.co.uk
SUMMARY:Kate Falconer ~ Dens
DESCRIPTION:Content is protected.
URL:https://atplayinthewoods.co.uk/event/kate-falconer-dens/
LOCATION:At Play In The Woods\, At Play In The Woods\, Brockley Lane\, Chelvey\, North Somerset\, BS48 4AH\, United Kingdom
CATEGORIES:At Play In The Woods Events
ORGANIZER;CN="At Play In The Woods":MAILTO:info@atplayinthewoods.co.uk
END:VEVENT
BEGIN:VEVENT
DTSTART;TZID=Europe/London:20230429T140000
DTEND;TZID=Europe/London:20230429T163000
DTSTAMP:20260425T165525
CREATED:20230307T180828Z
LAST-MODIFIED:20230413T090116Z
UID:13932-1682776800-1682785800@atplayinthewoods.co.uk
SUMMARY:Hannah MacCallum-New ~ Dens
DESCRIPTION:Content is protected.
URL:https://atplayinthewoods.co.uk/event/hannah-maccallum-new-dens/
LOCATION:At Play In The Woods\, At Play In The Woods\, Brockley Lane\, Chelvey\, North Somerset\, BS48 4AH\, United Kingdom
CATEGORIES:At Play In The Woods Events
ORGANIZER;CN="At Play In The Woods":MAILTO:info@atplayinthewoods.co.uk
END:VEVENT
BEGIN:VEVENT
DTSTART;TZID=Europe/London:20230430T110000
DTEND;TZID=Europe/London:20230430T150000
DTSTAMP:20260425T165525
CREATED:20230323T162037Z
LAST-MODIFIED:20230323T162037Z
UID:13985-1682852400-1682866800@atplayinthewoods.co.uk
SUMMARY:Private booking
DESCRIPTION:Content is protected.
URL:https://atplayinthewoods.co.uk/event/private-booking-6/
LOCATION:At Play In The Woods\, At Play In The Woods\, Brockley Lane\, Chelvey\, North Somerset\, BS48 4AH\, United Kingdom
END:VEVENT
BEGIN:VEVENT
DTSTART;TZID=Europe/London:20230502T103000
DTEND;TZID=Europe/London:20230502T233000
DTSTAMP:20260425T165526
CREATED:20230501T235807Z
LAST-MODIFIED:20230501T235914Z
UID:14187-1683023400-1683070200@atplayinthewoods.co.uk
SUMMARY:Toddler
DESCRIPTION:Come to Brickyard Woods and let your child explore the wonders of our Woodland.\nPlease ensure you arrive 15 minutes before the start time to allows us to give you the all important introductions. \nThis will be child-led play\, so you can wander around the woods on your own or with us as a group\, the choice is yours. \nEnjoy time playing with your child in the mud kitchen and on the balance rope. \nThe session will end with the all important roasting of the marshamallows around the fire. \nPlease dress appropriately for the weather\, long trousers are advisable\, along with wellies. \nThere is no need to worry if your child fells tired\, you are free to sit and relax around the fire at any time. \nBooking is advisable\, please ensure you bring your tickets\, hard copy or on mobile is fine!
URL:https://atplayinthewoods.co.uk/event/toddler/
LOCATION:North Somerset
CATEGORIES:At Play In The Woods Events
END:VEVENT
BEGIN:VEVENT
DTSTART;TZID=Europe/London:20230507T103000
DTEND;TZID=Europe/London:20230507T130000
DTSTAMP:20260425T165526
CREATED:20230225T194912Z
LAST-MODIFIED:20230505T100112Z
UID:13881-1683455400-1683464400@atplayinthewoods.co.uk
SUMMARY:Sophie  Dens
DESCRIPTION:Content is protected.
URL:https://atplayinthewoods.co.uk/event/sophie-parry-dens/
LOCATION:At Play In The Woods\, At Play In The Woods\, Brockley Lane\, Chelvey\, North Somerset\, BS48 4AH\, United Kingdom
CATEGORIES:At Play In The Woods Events
ORGANIZER;CN="At Play In The Woods":MAILTO:info@atplayinthewoods.co.uk
END:VEVENT
BEGIN:VEVENT
DTSTART;TZID=Europe/London:20230513T103000
DTEND;TZID=Europe/London:20230513T130000
DTSTAMP:20260425T165526
CREATED:20230424T150014Z
LAST-MODIFIED:20230424T150812Z
UID:14131-1683973800-1683982800@atplayinthewoods.co.uk
SUMMARY:Phipps~Wands~AM
DESCRIPTION:Content is protected.
URL:https://atplayinthewoods.co.uk/event/phippswandsam/
LOCATION:At Play In The Woods\, At Play In The Woods\, Brockley Lane\, Chelvey\, North Somerset\, BS48 4AH\, United Kingdom
CATEGORIES:At Play In The Woods Events
ORGANIZER;CN="At Play In The Woods":MAILTO:info@atplayinthewoods.co.uk
END:VEVENT
BEGIN:VEVENT
DTSTART;TZID=Europe/London:20230513T140000
DTEND;TZID=Europe/London:20230513T163000
DTSTAMP:20260425T165526
CREATED:20230322T152229Z
LAST-MODIFIED:20230506T213406Z
UID:13976-1683986400-1683995400@atplayinthewoods.co.uk
SUMMARY:Rebecca Gardner ~ Dens
DESCRIPTION:Content is protected.
URL:https://atplayinthewoods.co.uk/event/rebecca-gardner-dens/
LOCATION:At Play In The Woods\, At Play In The Woods\, Brockley Lane\, Chelvey\, North Somerset\, BS48 4AH\, United Kingdom
CATEGORIES:At Play In The Woods Events
ORGANIZER;CN="At Play In The Woods":MAILTO:info@atplayinthewoods.co.uk
END:VEVENT
BEGIN:VEVENT
DTSTART;TZID=Europe/London:20230514T103000
DTEND;TZID=Europe/London:20230514T130000
DTSTAMP:20260425T165526
CREATED:20230123T184829Z
LAST-MODIFIED:20230123T192601Z
UID:13751-1684060200-1684069200@atplayinthewoods.co.uk
SUMMARY:Jo West ~ Wands
DESCRIPTION:Content is protected.
URL:https://atplayinthewoods.co.uk/event/jo-west-wands/
LOCATION:At Play In The Woods\, At Play In The Woods\, Brockley Lane\, Chelvey\, North Somerset\, BS48 4AH\, United Kingdom
CATEGORIES:At Play In The Woods Events
ORGANIZER;CN="At Play In The Woods":MAILTO:info@atplayinthewoods.co.uk
END:VEVENT
BEGIN:VEVENT
DTSTART;TZID=Europe/London:20230514T140000
DTEND;TZID=Europe/London:20230514T163000
DTSTAMP:20260425T165526
CREATED:20230413T181524Z
LAST-MODIFIED:20230413T181731Z
UID:14111-1684072800-1684081800@atplayinthewoods.co.uk
SUMMARY:Adam Bennett - Dens 14/5
DESCRIPTION:Content is protected.
URL:https://atplayinthewoods.co.uk/event/adam-bennett-dens-20-5/
LOCATION:At Play In The Woods\, At Play In The Woods\, Brockley Lane\, Chelvey\, North Somerset\, BS48 4AH\, United Kingdom
CATEGORIES:At Play In The Woods Events
ORGANIZER;CN="At Play In The Woods":MAILTO:info@atplayinthewoods.co.uk
END:VEVENT
BEGIN:VEVENT
DTSTART;TZID=Europe/London:20230520T103000
DTEND;TZID=Europe/London:20230520T130000
DTSTAMP:20260425T165526
CREATED:20230202T161933Z
LAST-MODIFIED:20230202T161933Z
UID:13810-1684578600-1684587600@atplayinthewoods.co.uk
SUMMARY:Katey Williams-Frankling ~ Dens
DESCRIPTION:Content is protected.
URL:https://atplayinthewoods.co.uk/event/katey-williams-frankling-dens/
LOCATION:At Play In The Woods\, At Play In The Woods\, Brockley Lane\, Chelvey\, North Somerset\, BS48 4AH\, United Kingdom
CATEGORIES:At Play In The Woods Events
ORGANIZER;CN="At Play In The Woods":MAILTO:info@atplayinthewoods.co.uk
END:VEVENT
BEGIN:VEVENT
DTSTART;TZID=Europe/London:20230520T140000
DTEND;TZID=Europe/London:20230520T163000
DTSTAMP:20260425T165526
CREATED:20230119T203627Z
LAST-MODIFIED:20230206T211528Z
UID:13734-1684591200-1684600200@atplayinthewoods.co.uk
SUMMARY:Emily Humphreys ~ Wands
DESCRIPTION:Content is protected.
URL:https://atplayinthewoods.co.uk/event/emily-humphreys-wands/
LOCATION:At Play In The Woods\, At Play In The Woods\, Brockley Lane\, Chelvey\, North Somerset\, BS48 4AH\, United Kingdom
CATEGORIES:At Play In The Woods Events
ORGANIZER;CN="At Play In The Woods":MAILTO:info@atplayinthewoods.co.uk
END:VEVENT
BEGIN:VEVENT
DTSTART;TZID=Europe/London:20230521T140000
DTEND;TZID=Europe/London:20230521T163000
DTSTAMP:20260425T165526
CREATED:20230501T181959Z
LAST-MODIFIED:20230501T183010Z
UID:14183-1684677600-1684686600@atplayinthewoods.co.uk
SUMMARY:Joanna Sienkiewicz~Dens~PM
DESCRIPTION:Content is protected.
URL:https://atplayinthewoods.co.uk/event/joanna-sienkiewiczdenspm/
LOCATION:At Play In The Woods\, At Play In The Woods\, Brockley Lane\, Chelvey\, North Somerset\, BS48 4AH\, United Kingdom
CATEGORIES:At Play In The Woods Events
ORGANIZER;CN="At Play In The Woods":MAILTO:info@atplayinthewoods.co.uk
END:VEVENT
BEGIN:VEVENT
DTSTART;TZID=Europe/London:20230527T103000
DTEND;TZID=Europe/London:20230527T123000
DTSTAMP:20260425T165526
CREATED:20230527T074907Z
LAST-MODIFIED:20230527T074907Z
UID:14279-1685183400-1685190600@atplayinthewoods.co.uk
SUMMARY:Den building\,  Kate
DESCRIPTION:Content is protected.
URL:https://atplayinthewoods.co.uk/event/den-building-kate/
LOCATION:North Somerset
CATEGORIES:At Play In The Woods Events
END:VEVENT
BEGIN:VEVENT
DTSTART;TZID=Europe/London:20230611T103000
DTEND;TZID=Europe/London:20230611T130000
DTSTAMP:20260425T165526
CREATED:20230127T210313Z
LAST-MODIFIED:20230127T210313Z
UID:13762-1686479400-1686488400@atplayinthewoods.co.uk
SUMMARY:Natalie Thorne ~ Dens
DESCRIPTION:Content is protected.
URL:https://atplayinthewoods.co.uk/event/natalie-thorne-dens/
LOCATION:At Play In The Woods\, At Play In The Woods\, Brockley Lane\, Chelvey\, North Somerset\, BS48 4AH\, United Kingdom
CATEGORIES:At Play In The Woods Events
ORGANIZER;CN="At Play In The Woods":MAILTO:info@atplayinthewoods.co.uk
END:VEVENT
END:VCALENDAR