BEGIN:VCALENDAR
VERSION:2.0
PRODID:-//At Play In The Woods - ECPv6.15.20//NONSGML v1.0//EN
CALSCALE:GREGORIAN
METHOD:PUBLISH
X-WR-CALNAME:At Play In The Woods
X-ORIGINAL-URL:https://atplayinthewoods.co.uk
X-WR-CALDESC:Events for At Play In The Woods
REFRESH-INTERVAL;VALUE=DURATION:PT1H
X-Robots-Tag:noindex
X-PUBLISHED-TTL:PT1H
BEGIN:VTIMEZONE
TZID:Europe/London
BEGIN:DAYLIGHT
TZOFFSETFROM:+0000
TZOFFSETTO:+0100
TZNAME:BST
DTSTART:20250330T010000
END:DAYLIGHT
BEGIN:STANDARD
TZOFFSETFROM:+0100
TZOFFSETTO:+0000
TZNAME:GMT
DTSTART:20251026T010000
END:STANDARD
BEGIN:DAYLIGHT
TZOFFSETFROM:+0000
TZOFFSETTO:+0100
TZNAME:BST
DTSTART:20260329T010000
END:DAYLIGHT
BEGIN:STANDARD
TZOFFSETFROM:+0100
TZOFFSETTO:+0000
TZNAME:GMT
DTSTART:20261025T010000
END:STANDARD
BEGIN:DAYLIGHT
TZOFFSETFROM:+0000
TZOFFSETTO:+0100
TZNAME:BST
DTSTART:20270328T010000
END:DAYLIGHT
BEGIN:STANDARD
TZOFFSETFROM:+0100
TZOFFSETTO:+0000
TZNAME:GMT
DTSTART:20271031T010000
END:STANDARD
END:VTIMEZONE
BEGIN:VEVENT
DTSTART;VALUE=DATE:20260704
DTEND;VALUE=DATE:20260705
DTSTAMP:20260423T202049
CREATED:20260215T182408Z
LAST-MODIFIED:20260215T182429Z
UID:15603-1783123200-1783209599@atplayinthewoods.co.uk
SUMMARY:Nailsea Carnival
DESCRIPTION:Sam & Gary @ Nailsea Carnival
URL:https://atplayinthewoods.co.uk/event/nailsea-carnival/
LOCATION:North Somerset
CATEGORIES:DmEvents
END:VEVENT
BEGIN:VEVENT
DTSTART;TZID=Europe/London:20260705T103000
DTEND;TZID=Europe/London:20260705T130000
DTSTAMP:20260423T202049
CREATED:20260421T191904Z
LAST-MODIFIED:20260421T191904Z
UID:15764-1783247400-1783256400@atplayinthewoods.co.uk
SUMMARY:Hector-Dens-PM
DESCRIPTION:Content is protected.
URL:https://atplayinthewoods.co.uk/event/hector-dens-pm/
LOCATION:At Play In The Woods\, At Play In The Woods\, Brockley Lane\, Chelvey\, North Somerset\, BS48 4AH\, United Kingdom
CATEGORIES:At Play In The Woods Events
ORGANIZER;CN="At Play In The Woods":MAILTO:info@atplayinthewoods.co.uk
END:VEVENT
BEGIN:VEVENT
DTSTART;TZID=Europe/London:20260705T140000
DTEND;TZID=Europe/London:20260705T163000
DTSTAMP:20260423T202049
CREATED:20260402T151936Z
LAST-MODIFIED:20260402T151936Z
UID:15727-1783260000-1783269000@atplayinthewoods.co.uk
SUMMARY:Vernalls-Dens-PM
DESCRIPTION:Content is protected.
URL:https://atplayinthewoods.co.uk/event/vernalls-dens-pm/
LOCATION:At Play In The Woods\, At Play In The Woods\, Brockley Lane\, Chelvey\, North Somerset\, BS48 4AH\, United Kingdom
CATEGORIES:At Play In The Woods Events
ORGANIZER;CN="At Play In The Woods":MAILTO:info@atplayinthewoods.co.uk
END:VEVENT
END:VCALENDAR