BEGIN:VCALENDAR
VERSION:2.0
PRODID:-//At Play In The Woods - ECPv6.15.20//NONSGML v1.0//EN
CALSCALE:GREGORIAN
METHOD:PUBLISH
X-WR-CALNAME:At Play In The Woods
X-ORIGINAL-URL:https://atplayinthewoods.co.uk
X-WR-CALDESC:Events for At Play In The Woods
REFRESH-INTERVAL;VALUE=DURATION:PT1H
X-Robots-Tag:noindex
X-PUBLISHED-TTL:PT1H
BEGIN:VTIMEZONE
TZID:Europe/London
BEGIN:DAYLIGHT
TZOFFSETFROM:+0000
TZOFFSETTO:+0100
TZNAME:BST
DTSTART:20210328T010000
END:DAYLIGHT
BEGIN:STANDARD
TZOFFSETFROM:+0100
TZOFFSETTO:+0000
TZNAME:GMT
DTSTART:20211031T010000
END:STANDARD
BEGIN:DAYLIGHT
TZOFFSETFROM:+0000
TZOFFSETTO:+0100
TZNAME:BST
DTSTART:20220327T010000
END:DAYLIGHT
BEGIN:STANDARD
TZOFFSETFROM:+0100
TZOFFSETTO:+0000
TZNAME:GMT
DTSTART:20221030T010000
END:STANDARD
BEGIN:DAYLIGHT
TZOFFSETFROM:+0000
TZOFFSETTO:+0100
TZNAME:BST
DTSTART:20230326T010000
END:DAYLIGHT
BEGIN:STANDARD
TZOFFSETFROM:+0100
TZOFFSETTO:+0000
TZNAME:GMT
DTSTART:20231029T010000
END:STANDARD
END:VTIMEZONE
BEGIN:VTIMEZONE
TZID:UTC
BEGIN:STANDARD
TZOFFSETFROM:+0000
TZOFFSETTO:+0000
TZNAME:UTC
DTSTART:20210101T000000
END:STANDARD
END:VTIMEZONE
BEGIN:VEVENT
DTSTART;TZID=Europe/London:20220907T103000
DTEND;TZID=Europe/London:20220907T120000
DTSTAMP:20260424T091923
CREATED:20220901T164629Z
LAST-MODIFIED:20220906T091129Z
UID:13095-1662546600-1662552000@atplayinthewoods.co.uk
SUMMARY:Get back to the woods
DESCRIPTION:Join us for a morning of fun and adventure in our wonderful woodland playground\,  where we get stuck into free-range play\,\nlovely walks or maybe just relaxing by the fire! Oh\, and did we mention our incredible mud kitchen?! \nAll sessions are led by experienced leaders and will go ahead in all weathers. \nThe sessions aims to provide time and space in the week for parents and children to step back from their busy lives\, to reflect and interact with the world at nature’s pace – slow and steady. The group is very much child-led\, and often goes in different directions! Whether your little one is up for some quiet walks or burning off some energy climbing and digging\, we are sure they’ll have a great time. The group also brings together a fun\, friendly and caring group of parents\, who seem to enjoy the activities and fireside social as much as the children! \nRemember to bring a drink and a snack if you like. \nThere is no need to stay for the whole session\, if your child is getting tired\, you are free to leave whenever you like. \nWe look forward to seeing you soon.
URL:https://atplayinthewoods.co.uk/event/get-back-to-the-woods/
LOCATION:At Play In The Woods\, At Play In The Woods\, Brockley Lane\, Chelvey\, North Somerset\, BS48 4AH\, United Kingdom
CATEGORIES:At Play In The Woods Events,Toddler Session
ORGANIZER;CN="At Play In The Woods":MAILTO:info@atplayinthewoods.co.uk
END:VEVENT
BEGIN:VEVENT
DTSTART;TZID=Europe/London:20220903T140000
DTEND;TZID=Europe/London:20220903T163000
DTSTAMP:20260424T091923
CREATED:20220723T200939Z
LAST-MODIFIED:20220902T190742Z
UID:12908-1662213600-1662222600@atplayinthewoods.co.uk
SUMMARY:Greta Eliasson ~ Pirate
DESCRIPTION:Content is protected.
URL:https://atplayinthewoods.co.uk/event/greta-eliasson-pirate/
LOCATION:At Play In The Woods\, At Play In The Woods\, Brockley Lane\, Chelvey\, North Somerset\, BS48 4AH\, United Kingdom
CATEGORIES:At Play In The Woods Events
ORGANIZER;CN="At Play In The Woods":MAILTO:info@atplayinthewoods.co.uk
END:VEVENT
BEGIN:VEVENT
DTSTART;TZID=Europe/London:20220903T103000
DTEND;TZID=Europe/London:20220903T130000
DTSTAMP:20260424T091923
CREATED:20220711T163134Z
LAST-MODIFIED:20220711T163134Z
UID:12885-1662201000-1662210000@atplayinthewoods.co.uk
SUMMARY:Kris Perryman ~ Wands.
DESCRIPTION:Content is protected.
URL:https://atplayinthewoods.co.uk/event/kris-perryman-wands/
LOCATION:At Play In The Woods\, At Play In The Woods\, Brockley Lane\, Chelvey\, North Somerset\, BS48 4AH\, United Kingdom
CATEGORIES:At Play In The Woods Events
ORGANIZER;CN="At Play In The Woods":MAILTO:info@atplayinthewoods.co.uk
END:VEVENT
BEGIN:VEVENT
DTSTART;VALUE=DATE:20220826
DTEND;VALUE=DATE:20220830
DTSTAMP:20260424T091923
CREATED:20220703T175603Z
LAST-MODIFIED:20220703T175603Z
UID:12867-1661472000-1661817599@atplayinthewoods.co.uk
SUMMARY:Closed
DESCRIPTION:Closed
URL:https://atplayinthewoods.co.uk/event/closed-9/
LOCATION:North Somerset
CATEGORIES:At Play In The Woods Events
END:VEVENT
BEGIN:VEVENT
DTSTART;VALUE=DATE:20220825
DTEND;VALUE=DATE:20220826
DTSTAMP:20260424T091923
CREATED:20220621T112511Z
LAST-MODIFIED:20220815T194054Z
UID:12797-1661385600-1661471999@atplayinthewoods.co.uk
SUMMARY:Summer fun Event
DESCRIPTION:HAF Event ~ Sam
URL:https://atplayinthewoods.co.uk/event/haf-event-11/
LOCATION:North Somerset
CATEGORIES:At Play In The Woods Events
END:VEVENT
BEGIN:VEVENT
DTSTART;VALUE=DATE:20220824
DTEND;VALUE=DATE:20220825
DTSTAMP:20260424T091923
CREATED:20220621T112423Z
LAST-MODIFIED:20220815T194409Z
UID:12795-1661299200-1661385599@atplayinthewoods.co.uk
SUMMARY:Summer fun HAF Sold out
DESCRIPTION:HAF Event ~ Sam
URL:https://atplayinthewoods.co.uk/event/haf-event-10/
LOCATION:North Somerset
CATEGORIES:At Play In The Woods Events
END:VEVENT
BEGIN:VEVENT
DTSTART;VALUE=DATE:20220822
DTEND;VALUE=DATE:20220823
DTSTAMP:20260424T091923
CREATED:20220621T112340Z
LAST-MODIFIED:20220815T194146Z
UID:12793-1661126400-1661212799@atplayinthewoods.co.uk
SUMMARY:Summer fun HAF Sold out
DESCRIPTION:HAF Event ~ Sam
URL:https://atplayinthewoods.co.uk/event/haf-event-9/
LOCATION:North Somerset
CATEGORIES:At Play In The Woods Events
END:VEVENT
BEGIN:VEVENT
DTSTART;TZID=Europe/London:20220821T140000
DTEND;TZID=Europe/London:20220821T163000
DTSTAMP:20260424T091923
CREATED:20220710T181133Z
LAST-MODIFIED:20220803T212432Z
UID:12878-1661090400-1661099400@atplayinthewoods.co.uk
SUMMARY:Vicky Kent ~ Go wild (Dens)
DESCRIPTION:Content is protected.
URL:https://atplayinthewoods.co.uk/event/vicky-kent-go-wild-dens/
LOCATION:At Play In The Woods\, At Play In The Woods\, Brockley Lane\, Chelvey\, North Somerset\, BS48 4AH\, United Kingdom
CATEGORIES:At Play In The Woods Events
ORGANIZER;CN="At Play In The Woods":MAILTO:info@atplayinthewoods.co.uk
END:VEVENT
BEGIN:VEVENT
DTSTART;TZID=Europe/London:20220819T110000
DTEND;TZID=Europe/London:20220819T143000
DTSTAMP:20260424T091923
CREATED:20220729T202729Z
LAST-MODIFIED:20220729T202729Z
UID:12930-1660906800-1660919400@atplayinthewoods.co.uk
SUMMARY:To The Woods ~private booking
DESCRIPTION:Content is protected.
URL:https://atplayinthewoods.co.uk/event/to-the-woods-private-booking/
LOCATION:At Play In The Woods\, At Play In The Woods\, Brockley Lane\, Chelvey\, North Somerset\, BS48 4AH\, United Kingdom
CATEGORIES:At Play In The Woods Events
ORGANIZER;CN="At Play In The Woods":MAILTO:info@atplayinthewoods.co.uk
END:VEVENT
BEGIN:VEVENT
DTSTART;VALUE=DATE:20220818
DTEND;VALUE=DATE:20220819
DTSTAMP:20260424T091923
CREATED:20220621T112251Z
LAST-MODIFIED:20220815T194257Z
UID:12791-1660780800-1660867199@atplayinthewoods.co.uk
SUMMARY:Summer fun HAF Sold out
DESCRIPTION:HAF event ~ Sam
URL:https://atplayinthewoods.co.uk/event/haf-event-8/
LOCATION:North Somerset
CATEGORIES:At Play In The Woods Events
END:VEVENT
BEGIN:VEVENT
DTSTART;VALUE=DATE:20220817
DTEND;VALUE=DATE:20220818
DTSTAMP:20260424T091923
CREATED:20220621T112208Z
LAST-MODIFIED:20220815T194305Z
UID:12789-1660694400-1660780799@atplayinthewoods.co.uk
SUMMARY:Summer fun HAF Sold out
DESCRIPTION:Summer fun HAF Sold out
URL:https://atplayinthewoods.co.uk/event/haf-event-7/
LOCATION:North Somerset
CATEGORIES:At Play In The Woods Events
END:VEVENT
BEGIN:VEVENT
DTSTART;VALUE=DATE:20220815
DTEND;VALUE=DATE:20220816
DTSTAMP:20260424T091923
CREATED:20220621T112128Z
LAST-MODIFIED:20220815T194313Z
UID:12787-1660521600-1660607999@atplayinthewoods.co.uk
SUMMARY:Summer fun HAF Sold out
DESCRIPTION:HAF Event ~ Sam
URL:https://atplayinthewoods.co.uk/event/haf-event-6/
LOCATION:North Somerset
CATEGORIES:At Play In The Woods Events
END:VEVENT
BEGIN:VEVENT
DTSTART;VALUE=DATE:20220810
DTEND;VALUE=DATE:20220811
DTSTAMP:20260424T091923
CREATED:20220621T111954Z
LAST-MODIFIED:20220815T194321Z
UID:12785-1660089600-1660175999@atplayinthewoods.co.uk
SUMMARY:Summer fun HAF Sold out
DESCRIPTION:HAF Event ~ Sam
URL:https://atplayinthewoods.co.uk/event/haf-event-5/
LOCATION:North Somerset
CATEGORIES:At Play In The Woods Events
END:VEVENT
BEGIN:VEVENT
DTSTART;VALUE=DATE:20220808
DTEND;VALUE=DATE:20220809
DTSTAMP:20260424T091923
CREATED:20220621T111908Z
LAST-MODIFIED:20220815T194328Z
UID:12783-1659916800-1660003199@atplayinthewoods.co.uk
SUMMARY:Summer fun HAF Sold out
DESCRIPTION:HAF Event ~ Sam
URL:https://atplayinthewoods.co.uk/event/haf-event-4/
LOCATION:North Somerset
CATEGORIES:At Play In The Woods Events
END:VEVENT
BEGIN:VEVENT
DTSTART;TZID=Europe/London:20220807T140000
DTEND;TZID=Europe/London:20220807T160000
DTSTAMP:20260424T091923
CREATED:20220630T114939Z
LAST-MODIFIED:20220630T114939Z
UID:12845-1659880800-1659888000@atplayinthewoods.co.uk
SUMMARY:Louise Selby ~ Wands
DESCRIPTION:Content is protected.
URL:https://atplayinthewoods.co.uk/event/louise-selby-wands/
LOCATION:At Play In The Woods\, At Play In The Woods\, Brockley Lane\, Chelvey\, North Somerset\, BS48 4AH\, United Kingdom
CATEGORIES:At Play In The Woods Events
ORGANIZER;CN="At Play In The Woods":MAILTO:info@atplayinthewoods.co.uk
END:VEVENT
BEGIN:VEVENT
DTSTART;TZID=Europe/London:20220807T103000
DTEND;TZID=Europe/London:20220807T130000
DTSTAMP:20260424T091923
CREATED:20220609T201600Z
LAST-MODIFIED:20220720T205658Z
UID:12746-1659868200-1659877200@atplayinthewoods.co.uk
SUMMARY:Emma Barnett ~ Wands
DESCRIPTION:Content is protected.
URL:https://atplayinthewoods.co.uk/event/emma-barnett-wands/
LOCATION:At Play In The Woods\, At Play In The Woods\, Brockley Lane\, Chelvey\, North Somerset\, BS48 4AH\, United Kingdom
CATEGORIES:At Play In The Woods Events
ORGANIZER;CN="At Play In The Woods":MAILTO:info@atplayinthewoods.co.uk
END:VEVENT
BEGIN:VEVENT
DTSTART;VALUE=DATE:20220804
DTEND;VALUE=DATE:20220805
DTSTAMP:20260424T091923
CREATED:20220621T111826Z
LAST-MODIFIED:20220815T194339Z
UID:12781-1659571200-1659657599@atplayinthewoods.co.uk
SUMMARY:Summer fun HAF Sold out
DESCRIPTION:HAF Event ~ Sam
URL:https://atplayinthewoods.co.uk/event/haf-event-3/
LOCATION:North Somerset
CATEGORIES:At Play In The Woods Events
END:VEVENT
BEGIN:VEVENT
DTSTART;VALUE=DATE:20220803
DTEND;VALUE=DATE:20220804
DTSTAMP:20260424T091923
CREATED:20220621T111520Z
LAST-MODIFIED:20220621T111520Z
UID:12779-1659484800-1659571199@atplayinthewoods.co.uk
SUMMARY:HAF event
DESCRIPTION:HAF event ~ Sam
URL:https://atplayinthewoods.co.uk/event/haf-event-2/
LOCATION:North Somerset
END:VEVENT
BEGIN:VEVENT
DTSTART;VALUE=DATE:20220801
DTEND;VALUE=DATE:20220802
DTSTAMP:20260424T091923
CREATED:20220621T111433Z
LAST-MODIFIED:20220621T111433Z
UID:12777-1659312000-1659398399@atplayinthewoods.co.uk
SUMMARY:HAF event
DESCRIPTION:HAF Event ~ Sam
URL:https://atplayinthewoods.co.uk/event/haf-event/
LOCATION:North Somerset
END:VEVENT
BEGIN:VEVENT
DTSTART;TZID=Europe/London:20220723T140000
DTEND;TZID=Europe/London:20220723T160000
DTSTAMP:20260424T091923
CREATED:20220625T190923Z
LAST-MODIFIED:20220723T123316Z
UID:12815-1658584800-1658592000@atplayinthewoods.co.uk
SUMMARY:Hannah Sharratt ~ Dino ~ PM
DESCRIPTION:Content is protected.
URL:https://atplayinthewoods.co.uk/event/hannah-sharratt-dino-pm/
LOCATION:At Play In The Woods\, At Play In The Woods\, Brockley Lane\, Chelvey\, North Somerset\, BS48 4AH\, United Kingdom
CATEGORIES:At Play In The Woods Events
ORGANIZER;CN="At Play In The Woods":MAILTO:info@atplayinthewoods.co.uk
END:VEVENT
BEGIN:VEVENT
DTSTART;TZID=Europe/London:20220723T103000
DTEND;TZID=Europe/London:20220723T130000
DTSTAMP:20260424T091923
CREATED:20220613T203542Z
LAST-MODIFIED:20220716T095434Z
UID:12758-1658572200-1658581200@atplayinthewoods.co.uk
SUMMARY:Roxy Mountney ~ Fairy Magic Wands
DESCRIPTION:Content is protected.
URL:https://atplayinthewoods.co.uk/event/roxy-mountney-fairy-magic-wands/
LOCATION:At Play In The Woods\, At Play In The Woods\, Brockley Lane\, Chelvey\, North Somerset\, BS48 4AH\, United Kingdom
CATEGORIES:At Play In The Woods Events
ORGANIZER;CN="At Play In The Woods":MAILTO:info@atplayinthewoods.co.uk
END:VEVENT
BEGIN:VEVENT
DTSTART;TZID=Europe/London:20220717T103000
DTEND;TZID=Europe/London:20220717T130000
DTSTAMP:20260424T091923
CREATED:20220516T184356Z
LAST-MODIFIED:20220516T184356Z
UID:12653-1658053800-1658062800@atplayinthewoods.co.uk
SUMMARY:Claire Fear ~ Dens.
DESCRIPTION:Content is protected.
URL:https://atplayinthewoods.co.uk/event/claire-fear-dens/
LOCATION:At Play In The Woods\, At Play In The Woods\, Brockley Lane\, Chelvey\, North Somerset\, BS48 4AH\, United Kingdom
CATEGORIES:At Play In The Woods Events
ORGANIZER;CN="At Play In The Woods":MAILTO:info@atplayinthewoods.co.uk
END:VEVENT
BEGIN:VEVENT
DTSTART;TZID=Europe/London:20220716T140000
DTEND;TZID=Europe/London:20220716T163000
DTSTAMP:20260424T091923
CREATED:20220510T203734Z
LAST-MODIFIED:20220511T105832Z
UID:12640-1657980000-1657989000@atplayinthewoods.co.uk
SUMMARY:Vjaceslavs Ragels ~ Dens
DESCRIPTION:Content is protected.
URL:https://atplayinthewoods.co.uk/event/vjaceslavs-ragels-dens/
LOCATION:At Play In The Woods\, At Play In The Woods\, Brockley Lane\, Chelvey\, North Somerset\, BS48 4AH\, United Kingdom
CATEGORIES:At Play In The Woods Events
ORGANIZER;CN="At Play In The Woods":MAILTO:info@atplayinthewoods.co.uk
END:VEVENT
BEGIN:VEVENT
DTSTART;TZID=Europe/London:20220716T103000
DTEND;TZID=Europe/London:20220716T130000
DTSTAMP:20260424T091923
CREATED:20220604T203435Z
LAST-MODIFIED:20220626T083415Z
UID:12719-1657967400-1657976400@atplayinthewoods.co.uk
SUMMARY:Danni Hurst ~ Dens
DESCRIPTION:Content is protected.
URL:https://atplayinthewoods.co.uk/event/danni-hurst-dens/
LOCATION:At Play In The Woods\, At Play In The Woods\, Brockley Lane\, Chelvey\, North Somerset\, BS48 4AH\, United Kingdom
CATEGORIES:At Play In The Woods Events
ORGANIZER;CN="At Play In The Woods":MAILTO:info@atplayinthewoods.co.uk
END:VEVENT
BEGIN:VEVENT
DTSTART;TZID=Europe/London:20220710T140000
DTEND;TZID=Europe/London:20220710T163000
DTSTAMP:20260424T091923
CREATED:20220624T213157Z
LAST-MODIFIED:20220625T222538Z
UID:12812-1657461600-1657470600@atplayinthewoods.co.uk
SUMMARY:Natalie Holyoake ~ Go wild
DESCRIPTION:Content is protected.
URL:https://atplayinthewoods.co.uk/event/natalie-holyoake-go-wild/
LOCATION:At Play In The Woods\, At Play In The Woods\, Brockley Lane\, Chelvey\, North Somerset\, BS48 4AH\, United Kingdom
CATEGORIES:At Play In The Woods Events
ORGANIZER;CN="At Play In The Woods":MAILTO:info@atplayinthewoods.co.uk
END:VEVENT
BEGIN:VEVENT
DTSTART;TZID=Europe/London:20220710T103000
DTEND;TZID=Europe/London:20220710T130000
DTSTAMP:20260424T091923
CREATED:20220617T145036Z
LAST-MODIFIED:20220709T214948Z
UID:12765-1657449000-1657458000@atplayinthewoods.co.uk
SUMMARY:Laura Wells ~ Dens
DESCRIPTION:Content is protected.
URL:https://atplayinthewoods.co.uk/event/laura-wells-dens/
LOCATION:At Play In The Woods\, At Play In The Woods\, Brockley Lane\, Chelvey\, North Somerset\, BS48 4AH\, United Kingdom
CATEGORIES:At Play In The Woods Events
ORGANIZER;CN="At Play In The Woods":MAILTO:info@atplayinthewoods.co.uk
END:VEVENT
BEGIN:VEVENT
DTSTART;TZID=Europe/London:20220709T140000
DTEND;TZID=Europe/London:20220709T163000
DTSTAMP:20260424T091923
CREATED:20220518T190054Z
LAST-MODIFIED:20220707T160513Z
UID:12664-1657375200-1657384200@atplayinthewoods.co.uk
SUMMARY:Selina Naulls ~ Bespoke.
DESCRIPTION:Content is protected.
URL:https://atplayinthewoods.co.uk/event/selina-naulls-bespoke/
LOCATION:At Play In The Woods\, At Play In The Woods\, Brockley Lane\, Chelvey\, North Somerset\, BS48 4AH\, United Kingdom
CATEGORIES:At Play In The Woods Events
ORGANIZER;CN="At Play In The Woods":MAILTO:info@atplayinthewoods.co.uk
END:VEVENT
BEGIN:VEVENT
DTSTART;TZID=UTC:20220709T103000
DTEND;TZID=UTC:20220709T130000
DTSTAMP:20260424T091923
CREATED:20220404T170607Z
LAST-MODIFIED:20220404T170607Z
UID:12450-1657362600-1657371600@atplayinthewoods.co.uk
SUMMARY:Amy Phillips ~ Go Wild
DESCRIPTION:Content is protected.
URL:https://atplayinthewoods.co.uk/event/amy-phillips-go-wild/
LOCATION:At Play In The Woods\, At Play In The Woods\, Brockley Lane\, Chelvey\, North Somerset\, BS48 4AH\, United Kingdom
CATEGORIES:At Play In The Woods Events
END:VEVENT
BEGIN:VEVENT
DTSTART;TZID=Europe/London:20220706T163000
DTEND;TZID=Europe/London:20220706T183000
DTSTAMP:20260424T091923
CREATED:20220608T130228Z
LAST-MODIFIED:20220608T133905Z
UID:12727-1657125000-1657132200@atplayinthewoods.co.uk
SUMMARY:Charley James ~ Dens
DESCRIPTION:Content is protected.
URL:https://atplayinthewoods.co.uk/event/charley-james-dens/
LOCATION:At Play In The Woods\, At Play In The Woods\, Brockley Lane\, Chelvey\, North Somerset\, BS48 4AH\, United Kingdom
CATEGORIES:At Play In The Woods Events
ORGANIZER;CN="At Play In The Woods":MAILTO:info@atplayinthewoods.co.uk
END:VEVENT
BEGIN:VEVENT
DTSTART;TZID=Europe/London:20220703T140000
DTEND;TZID=Europe/London:20220703T163000
DTSTAMP:20260424T091923
CREATED:20220518T183224Z
LAST-MODIFIED:20220612T200310Z
UID:12659-1656856800-1656865800@atplayinthewoods.co.uk
SUMMARY:Julia Simmons ~ Wands
DESCRIPTION:Content is protected.
URL:https://atplayinthewoods.co.uk/event/julia-simmons-wands/
LOCATION:At Play In The Woods\, At Play In The Woods\, Brockley Lane\, Chelvey\, North Somerset\, BS48 4AH\, United Kingdom
CATEGORIES:At Play In The Woods Events
ORGANIZER;CN="At Play In The Woods":MAILTO:info@atplayinthewoods.co.uk
END:VEVENT
END:VCALENDAR