BEGIN:VCALENDAR
VERSION:2.0
PRODID:-//At Play In The Woods - ECPv6.15.20//NONSGML v1.0//EN
CALSCALE:GREGORIAN
METHOD:PUBLISH
X-WR-CALNAME:At Play In The Woods
X-ORIGINAL-URL:https://atplayinthewoods.co.uk
X-WR-CALDESC:Events for At Play In The Woods
REFRESH-INTERVAL;VALUE=DURATION:PT1H
X-Robots-Tag:noindex
X-PUBLISHED-TTL:PT1H
BEGIN:VTIMEZONE
TZID:Europe/London
BEGIN:DAYLIGHT
TZOFFSETFROM:+0000
TZOFFSETTO:+0100
TZNAME:BST
DTSTART:20200329T010000
END:DAYLIGHT
BEGIN:STANDARD
TZOFFSETFROM:+0100
TZOFFSETTO:+0000
TZNAME:GMT
DTSTART:20201025T010000
END:STANDARD
BEGIN:DAYLIGHT
TZOFFSETFROM:+0000
TZOFFSETTO:+0100
TZNAME:BST
DTSTART:20210328T010000
END:DAYLIGHT
BEGIN:STANDARD
TZOFFSETFROM:+0100
TZOFFSETTO:+0000
TZNAME:GMT
DTSTART:20211031T010000
END:STANDARD
BEGIN:DAYLIGHT
TZOFFSETFROM:+0000
TZOFFSETTO:+0100
TZNAME:BST
DTSTART:20220327T010000
END:DAYLIGHT
BEGIN:STANDARD
TZOFFSETFROM:+0100
TZOFFSETTO:+0000
TZNAME:GMT
DTSTART:20221030T010000
END:STANDARD
BEGIN:DAYLIGHT
TZOFFSETFROM:+0000
TZOFFSETTO:+0100
TZNAME:BST
DTSTART:20230326T010000
END:DAYLIGHT
BEGIN:STANDARD
TZOFFSETFROM:+0100
TZOFFSETTO:+0000
TZNAME:GMT
DTSTART:20231029T010000
END:STANDARD
END:VTIMEZONE
BEGIN:VEVENT
DTSTART;TZID=Europe/London:20220227T103000
DTEND;TZID=Europe/London:20220227T130000
DTSTAMP:20260425T141127
CREATED:20220124T170132Z
LAST-MODIFIED:20220124T170132Z
UID:12190-1645957800-1645966800@atplayinthewoods.co.uk
SUMMARY:Laura Hay 27th Feb Pirate Treasure
DESCRIPTION:Content is protected.
URL:https://atplayinthewoods.co.uk/event/laura-hay-27th-feb-pirate-treasure/
LOCATION:At Play In The Woods\, At Play In The Woods\, Brockley Lane\, Chelvey\, North Somerset\, BS48 4AH\, United Kingdom
CATEGORIES:At Play In The Woods Events
ORGANIZER;CN="At Play In The Woods":MAILTO:info@atplayinthewoods.co.uk
END:VEVENT
BEGIN:VEVENT
DTSTART;TZID=Europe/London:20220226T103000
DTEND;TZID=Europe/London:20220226T130000
DTSTAMP:20260425T141127
CREATED:20220111T161238Z
LAST-MODIFIED:20220223T224409Z
UID:12101-1645871400-1645880400@atplayinthewoods.co.uk
SUMMARY:Claire Spring ~ Bespoke ~ Chloe
DESCRIPTION:Content is protected.
URL:https://atplayinthewoods.co.uk/event/claire-spring-bespoke-chloe/
LOCATION:At Play In The Woods\, At Play In The Woods\, Brockley Lane\, Chelvey\, North Somerset\, BS48 4AH\, United Kingdom
CATEGORIES:At Play In The Woods Events
END:VEVENT
BEGIN:VEVENT
DTSTART;TZID=Europe/London:20220225T143000
DTEND;TZID=Europe/London:20220225T170000
DTSTAMP:20260425T141127
CREATED:20220129T201708Z
LAST-MODIFIED:20220223T223943Z
UID:12209-1645799400-1645808400@atplayinthewoods.co.uk
SUMMARY:Aimee Curley
DESCRIPTION:Content is protected.
URL:https://atplayinthewoods.co.uk/event/aimee-curley/
LOCATION:At Play In The Woods\, At Play In The Woods\, Brockley Lane\, Chelvey\, North Somerset\, BS48 4AH\, United Kingdom
CATEGORIES:At Play In The Woods Events
END:VEVENT
BEGIN:VEVENT
DTSTART;TZID=Europe/London:20220208T100000
DTEND;TZID=Europe/London:20220208T120000
DTSTAMP:20260425T141127
CREATED:20220119T173920Z
LAST-MODIFIED:20220119T173920Z
UID:12134-1644314400-1644321600@atplayinthewoods.co.uk
SUMMARY:Toddlers at Play
DESCRIPTION:Come and join us at Brickyard Woods in Chelvey\, and let your child explore the outdoors \nWe will all meet at the car park and then when everyone is present we will make our way to the woods all together.  \nOur site is accessible for buggies with good wheels. \nWe start the session with an introduction and a safety talk\, including COVID-19 guides lines (if applicable) \nThen it’s over to you. Play with the mud kitchen\, explore the woods and see what you can find! \nAre you or your child brave enough to try the rope swing or maybe try the see-saw? \nThere is no plan to the session\, its led by the children’s imagination. \nRemember to bring a drink and a snack if you like. \nThere is no need to stay for the whole session\, if your child is getting tired\, you are free to leave whenever you like. \nIf you have any signs of high temperature or other COVID-19 symptoms\nplease do not attend. \nWe look forward to seeing you soon.
URL:https://atplayinthewoods.co.uk/event/toddlers-at-play-2/
LOCATION:At Play In The Woods\, At Play In The Woods\, Brockley Lane\, Chelvey\, North Somerset\, BS48 4AH\, United Kingdom
CATEGORIES:At Play In The Woods Events,Toddler Session
ORGANIZER;CN="At Play In The Woods":MAILTO:info@atplayinthewoods.co.uk
END:VEVENT
BEGIN:VEVENT
DTSTART;TZID=Europe/London:20220206T140000
DTEND;TZID=Europe/London:20220206T163000
DTSTAMP:20260425T141127
CREATED:20220107T222524Z
LAST-MODIFIED:20220107T222524Z
UID:12084-1644156000-1644165000@atplayinthewoods.co.uk
SUMMARY:Adele Williams ~ Flynn ~ Pirate
DESCRIPTION:Content is protected.
URL:https://atplayinthewoods.co.uk/event/adele-williams-flynn-pirate/
LOCATION:At Play In The Woods\, At Play In The Woods\, Brockley Lane\, Chelvey\, North Somerset\, BS48 4AH\, United Kingdom
CATEGORIES:At Play In The Woods Events
END:VEVENT
BEGIN:VEVENT
DTSTART;TZID=Europe/London:20220206T103000
DTEND;TZID=Europe/London:20220206T130000
DTSTAMP:20260425T141127
CREATED:20220113T221159Z
LAST-MODIFIED:20220120T151621Z
UID:12107-1644143400-1644152400@atplayinthewoods.co.uk
SUMMARY:Glynn Macpherson ~ Luke ~ Bespoke.
DESCRIPTION:Content is protected.
URL:https://atplayinthewoods.co.uk/event/glynn-macpherson-luke-bespoke/
LOCATION:At Play In The Woods\, At Play In The Woods\, Brockley Lane\, Chelvey\, North Somerset\, BS48 4AH\, United Kingdom
CATEGORIES:At Play In The Woods Events
END:VEVENT
BEGIN:VEVENT
DTSTART;VALUE=DATE:20220130
DTEND;VALUE=DATE:20220201
DTSTAMP:20260425T141127
CREATED:20220104T170055Z
LAST-MODIFIED:20220104T170055Z
UID:12077-1643500800-1643673599@atplayinthewoods.co.uk
SUMMARY:Closed
DESCRIPTION:We are closed for maintenance.
URL:https://atplayinthewoods.co.uk/event/closed-7/
LOCATION:At Play In The Woods\, At Play In The Woods\, Brockley Lane\, Chelvey\, North Somerset\, BS48 4AH\, United Kingdom
END:VEVENT
BEGIN:VEVENT
DTSTART;TZID=Europe/London:20220129T103000
DTEND;TZID=Europe/London:20220129T130000
DTSTAMP:20260425T141127
CREATED:20220104T125237Z
LAST-MODIFIED:20220104T125237Z
UID:12067-1643452200-1643461200@atplayinthewoods.co.uk
SUMMARY:Annabel Bass ~ Dino Hunt
DESCRIPTION:Content is protected.
URL:https://atplayinthewoods.co.uk/event/annabel-bass-dino-hunt/
LOCATION:At Play In The Woods\, At Play In The Woods\, Brockley Lane\, Chelvey\, North Somerset\, BS48 4AH\, United Kingdom
CATEGORIES:At Play In The Woods Events
END:VEVENT
BEGIN:VEVENT
DTSTART;TZID=Europe/London:20220123T103000
DTEND;TZID=Europe/London:20220123T130000
DTSTAMP:20260425T141127
CREATED:20211019T214059Z
LAST-MODIFIED:20220117T213312Z
UID:11718-1642933800-1642942800@atplayinthewoods.co.uk
SUMMARY:Jannica Seccombe ~ Go wild (dens)
DESCRIPTION:Content is protected.
URL:https://atplayinthewoods.co.uk/event/jannica-seccombe-go-wild-dens/
LOCATION:At Play In The Woods\, At Play In The Woods\, Brockley Lane\, Chelvey\, North Somerset\, BS48 4AH\, United Kingdom
CATEGORIES:At Play In The Woods Events
ORGANIZER;CN="At Play In The Woods":MAILTO:info@atplayinthewoods.co.uk
END:VEVENT
BEGIN:VEVENT
DTSTART;TZID=Europe/London:20220115T103000
DTEND;TZID=Europe/London:20220115T130000
DTSTAMP:20260425T141127
CREATED:20210915T105504Z
LAST-MODIFIED:20220102T143522Z
UID:11462-1642242600-1642251600@atplayinthewoods.co.uk
SUMMARY:Laura Gregory CANCELLED
DESCRIPTION:Content is protected.
URL:https://atplayinthewoods.co.uk/event/laura-gregory/
LOCATION:At Play In The Woods\, At Play In The Woods\, Brockley Lane\, Chelvey\, North Somerset\, BS48 4AH\, United Kingdom
CATEGORIES:At Play In The Woods Events
END:VEVENT
BEGIN:VEVENT
DTSTART;TZID=Europe/London:20220109T000000
DTEND;TZID=Europe/London:20220128T233000
DTSTAMP:20260425T141127
CREATED:20220104T165931Z
LAST-MODIFIED:20220104T165931Z
UID:12075-1641686400-1643412600@atplayinthewoods.co.uk
SUMMARY:Closed
DESCRIPTION:We are closed for maintenance.
URL:https://atplayinthewoods.co.uk/event/closed-6/
LOCATION:At Play In The Woods\, At Play In The Woods\, Brockley Lane\, Chelvey\, North Somerset\, BS48 4AH\, United Kingdom
END:VEVENT
BEGIN:VEVENT
DTSTART;TZID=Europe/London:20220108T103000
DTEND;TZID=Europe/London:20220108T130000
DTSTAMP:20260425T141127
CREATED:20211109T121222Z
LAST-MODIFIED:20211213T155208Z
UID:11776-1641637800-1641646800@atplayinthewoods.co.uk
SUMMARY:Linzi Holden ~ Pirate Treasure
DESCRIPTION:Content is protected.
URL:https://atplayinthewoods.co.uk/event/linzi-holden-08-01-2022/
LOCATION:At Play In The Woods\, At Play In The Woods\, Brockley Lane\, Chelvey\, North Somerset\, BS48 4AH\, United Kingdom
CATEGORIES:At Play In The Woods Events
END:VEVENT
BEGIN:VEVENT
DTSTART;TZID=Europe/London:20220104T000000
DTEND;TZID=Europe/London:20220107T233000
DTSTAMP:20260425T141127
CREATED:20220104T165635Z
LAST-MODIFIED:20220104T165822Z
UID:12073-1641254400-1641598200@atplayinthewoods.co.uk
SUMMARY:Closed
DESCRIPTION:We are closed for maintenance.
URL:https://atplayinthewoods.co.uk/event/closed-5/
LOCATION:At Play In The Woods\, At Play In The Woods\, Brockley Lane\, Chelvey\, North Somerset\, BS48 4AH\, United Kingdom
END:VEVENT
BEGIN:VEVENT
DTSTART;TZID=Europe/London:20220102T103000
DTEND;TZID=Europe/London:20220102T130000
DTSTAMP:20260425T141127
CREATED:20211013T100550Z
LAST-MODIFIED:20211013T100550Z
UID:11684-1641119400-1641128400@atplayinthewoods.co.uk
SUMMARY:Debra Smith ~ Fairy Magic
DESCRIPTION:Content is protected.
URL:https://atplayinthewoods.co.uk/event/debra-smith-fairy-magic/
LOCATION:At Play In The Woods\, At Play In The Woods\, Brockley Lane\, Chelvey\, North Somerset\, BS48 4AH\, United Kingdom
CATEGORIES:At Play In The Woods Events
END:VEVENT
BEGIN:VEVENT
DTSTART;VALUE=DATE:20211230
DTEND;VALUE=DATE:20211231
DTSTAMP:20260425T141127
CREATED:20211125T150140Z
LAST-MODIFIED:20211125T150140Z
UID:11928-1640822400-1640908799@atplayinthewoods.co.uk
SUMMARY:CLOSED ALL DAY
DESCRIPTION:
URL:https://atplayinthewoods.co.uk/event/closed-all-day-6/
LOCATION:North Somerset
CATEGORIES:At Play In The Woods Events,Forest School Lvl 3 training session,Holiday Sessions,Home Education,Toddler Session
END:VEVENT
BEGIN:VEVENT
DTSTART;VALUE=DATE:20211228
DTEND;VALUE=DATE:20211229
DTSTAMP:20260425T141127
CREATED:20211125T145928Z
LAST-MODIFIED:20211125T145928Z
UID:11926-1640649600-1640735999@atplayinthewoods.co.uk
SUMMARY:CLOSED ALL DAY
DESCRIPTION:
URL:https://atplayinthewoods.co.uk/event/closed-all-day-5/
LOCATION:At Play In The Woods\, At Play In The Woods\, Brockley Lane\, Chelvey\, North Somerset\, BS48 4AH\, United Kingdom
CATEGORIES:At Play In The Woods Events,Holiday Sessions,Home Education,Toddler Session
END:VEVENT
BEGIN:VEVENT
DTSTART;VALUE=DATE:20211227
DTEND;VALUE=DATE:20211228
DTSTAMP:20260425T141127
CREATED:20211125T145631Z
LAST-MODIFIED:20211125T145631Z
UID:11924-1640563200-1640649599@atplayinthewoods.co.uk
SUMMARY:CLOSED ALL DAY
DESCRIPTION:
URL:https://atplayinthewoods.co.uk/event/closed-all-day-4/
LOCATION:At Play In The Woods\, At Play In The Woods\, Brockley Lane\, Chelvey\, North Somerset\, BS48 4AH\, United Kingdom
CATEGORIES:At Play In The Woods Events,Holiday Sessions,Home Education,Toddler Session
END:VEVENT
BEGIN:VEVENT
DTSTART;TZID=Europe/London:20211223T133000
DTEND;TZID=Europe/London:20211223T150000
DTSTAMP:20260425T141127
CREATED:20211109T234031Z
LAST-MODIFIED:20211202T231513Z
UID:11799-1640266200-1640271600@atplayinthewoods.co.uk
SUMMARY:Sold out\, Meet Santa and write your letter
DESCRIPTION:Come and experience a magical Christmas\, set in the beautiful surroundings that is Brickyard Woods. \nSanta\, himself\, will be taking a time out from The North Pole to come and join us for some festive fun!\nWe will be making our own festive tree ornaments\, writing those special letters to Santa with his help\, hunting for the magical post-box in the woods (dedicated Express Delivery to The North Pole! ) and toasting marshmallows over that open fire.\nEach child who writes a letter to Santa with us\, is guaranteed a personal reply from The Big Man himself and a gift. What will you ask for?\nDue to parking arrangements\, numbers will be limited\, so book now to secure your place\nIf you would like to use a face mask you are welcome to do so.\nIf you have any signs of high temperature or other COVID-19 symptoms please do not turn-up on the day and follow Government guidelines. Every child will still get a letter and a present sent to them.\nTickets are non-transferable and non-refundable.
URL:https://atplayinthewoods.co.uk/event/meet-santa-and-write-your-letter-2/
LOCATION:At Play In The Woods\, At Play In The Woods\, Brockley Lane\, Chelvey\, North Somerset\, BS48 4AH\, United Kingdom
CATEGORIES:At Play In The Woods Events,Santa,Toddler Session
ORGANIZER;CN="At Play In The Woods":MAILTO:info@atplayinthewoods.co.uk
END:VEVENT
BEGIN:VEVENT
DTSTART;TZID=Europe/London:20211223T110000
DTEND;TZID=Europe/London:20211223T123000
DTSTAMP:20260425T141127
CREATED:20211203T182752Z
LAST-MODIFIED:20211204T044404Z
UID:11982-1640257200-1640262600@atplayinthewoods.co.uk
SUMMARY:Meet Santa and write a letter
DESCRIPTION:Come and experience a magical Christmas\, set in the beautiful surroundings that is Brickyard Woods. \nSanta\, himself\, will be taking a time out from The North Pole to come and join us for some festive fun!\nWe will be making our own festive tree ornaments\, writing those special letters to Santa with his help\, hunting for the magical post-box in the woods (dedicated Express Delivery to The North Pole! ) and toasting marshmallows over that open fire.\nEach child who writes a letter to Santa with us\, is guaranteed a personal reply from The Big Man himself and a gift. What will you ask for?\nDue to parking arrangements\, numbers will be limited\, so book now to secure your place\nIf you would like to use a face mask you are welcome to do so.\nIf you have any signs of high temperature or other COVID-19 symptoms please do not turn-up on the day and follow Government guidelines. Every child will still get a letter and a present sent to them.\nTickets are non-transferable and non-refundable.
URL:https://atplayinthewoods.co.uk/event/meet-santa-and-write-a-letter/
LOCATION:At Play In The Woods\, At Play In The Woods\, Brockley Lane\, Chelvey\, North Somerset\, BS48 4AH\, United Kingdom
CATEGORIES:At Play In The Woods Events,Santa,Toddler Session
END:VEVENT
BEGIN:VEVENT
DTSTART;VALUE=DATE:20211221
DTEND;VALUE=DATE:20211222
DTSTAMP:20260425T141127
CREATED:20211125T145146Z
LAST-MODIFIED:20211125T145146Z
UID:11918-1640044800-1640131199@atplayinthewoods.co.uk
SUMMARY:CLOSED ALL DAY
DESCRIPTION:
URL:https://atplayinthewoods.co.uk/event/closed-all-day-2/
LOCATION:North Somerset
CATEGORIES:At Play In The Woods Events,Holiday Sessions,Home Education,Santa,Toddler Session
END:VEVENT
BEGIN:VEVENT
DTSTART;VALUE=DATE:20211220
DTEND;VALUE=DATE:20211221
DTSTAMP:20260425T141127
CREATED:20211125T145034Z
LAST-MODIFIED:20211125T145034Z
UID:11916-1639958400-1640044799@atplayinthewoods.co.uk
SUMMARY:CLOSED ALL DAY
DESCRIPTION:
URL:https://atplayinthewoods.co.uk/event/closed-all-day/
LOCATION:At Play In The Woods\, At Play In The Woods\, Brockley Lane\, Chelvey\, North Somerset\, BS48 4AH\, United Kingdom
END:VEVENT
BEGIN:VEVENT
DTSTART;TZID=Europe/London:20211219T123000
DTEND;TZID=Europe/London:20211219T140000
DTSTAMP:20260425T141127
CREATED:20211109T233805Z
LAST-MODIFIED:20211127T201555Z
UID:11795-1639917000-1639922400@atplayinthewoods.co.uk
SUMMARY:Sold Out! Write a letter & meet Santa
DESCRIPTION:Come and experience a magical Christmas\, set in the beautiful surroundings that is Brickyard Woods. \nSanta\, himself\, will be taking a time out from The North Pole to come and join us for some festive fun!\nWe will be making our own festive tree ornaments\, writing those special letters to Santa with his help\, hunting for the magical post-box in the woods (dedicated Express Delivery to The North Pole! ) and toasting marshmallows over that open fire.\nEach child who writes a letter to Santa with us\, is guaranteed a personal reply from The Big Man himself and a gift. What will you ask for?\nDue to parking arrangements\, numbers will be limited\, so book now to secure your place\nIf you would like to use a face mask you are welcome to do so.\nIf you have any signs of high temperature or other COVID-19 symptoms please do not turn-up on the day and follow Government guidelines. Every child will still get a letter and a present sent to them.\nTickets are non-transferable and non-refundable.
URL:https://atplayinthewoods.co.uk/event/write-a-letter-meet-santa/
LOCATION:At Play In The Woods\, At Play In The Woods\, Brockley Lane\, Chelvey\, North Somerset\, BS48 4AH\, United Kingdom
CATEGORIES:At Play In The Woods Events,Santa,Toddler Session
ORGANIZER;CN="At Play In The Woods":MAILTO:info@atplayinthewoods.co.uk
END:VEVENT
BEGIN:VEVENT
DTSTART;TZID=Europe/London:20211219T100000
DTEND;TZID=Europe/London:20211219T113000
DTSTAMP:20260425T141127
CREATED:20211109T233635Z
LAST-MODIFIED:20211213T181553Z
UID:11791-1639908000-1639913400@atplayinthewoods.co.uk
SUMMARY:sold out\, Meet Santa and write your letters
DESCRIPTION:Come and experience a magical Christmas\, set in the beautiful surroundings that is Brickyard Woods. \nSanta\, himself\, will be taking a time out from The North Pole to come and join us for some festive fun!\nWe will be making our own festive tree ornaments\, writing those special letters to Santa with his help\, hunting for the magical post-box in the woods (dedicated Express Delivery to The North Pole! ) and toasting marshmallows over that open fire.\nEach child who writes a letter to Santa with us\, is guaranteed a personal reply from The Big Man himself and a gift. What will you ask for?\nDue to parking arrangements\, numbers will be limited\, so book now to secure your place\nIf you would like to use a face mask you are welcome to do so.\nIf you have any signs of high temperature or other COVID-19 symptoms please do not turn-up on the day and follow Government guidelines. Every child will still get a letter and a present sent to them.\nTickets are non-transferable and non-refundable.
URL:https://atplayinthewoods.co.uk/event/meet-santa-and-write-your-letters-2/
LOCATION:At Play In The Woods\, At Play In The Woods\, Brockley Lane\, Chelvey\, North Somerset\, BS48 4AH\, United Kingdom
CATEGORIES:At Play In The Woods Events,Santa,Toddler Session
ORGANIZER;CN="At Play In The Woods":MAILTO:info@atplayinthewoods.co.uk
END:VEVENT
BEGIN:VEVENT
DTSTART;TZID=Europe/London:20211211T140000
DTEND;TZID=Europe/London:20211211T163000
DTSTAMP:20260425T141127
CREATED:20211123T215517Z
LAST-MODIFIED:20211123T215517Z
UID:11911-1639231200-1639240200@atplayinthewoods.co.uk
SUMMARY:Alex Hess ~ Dinosaur hunt.
DESCRIPTION:Content is protected.
URL:https://atplayinthewoods.co.uk/event/alex-hess-dinosaur-hunt/
LOCATION:At Play In The Woods\, At Play In The Woods\, Brockley Lane\, Chelvey\, North Somerset\, BS48 4AH\, United Kingdom
CATEGORIES:At Play In The Woods Events
END:VEVENT
BEGIN:VEVENT
DTSTART;TZID=Europe/London:20211205T123000
DTEND;TZID=Europe/London:20211205T140000
DTSTAMP:20260425T141127
CREATED:20211109T233454Z
LAST-MODIFIED:20211204T045334Z
UID:11788-1638707400-1638712800@atplayinthewoods.co.uk
SUMMARY:Write a letter and meet Santa
DESCRIPTION:Come and experience a magical Christmas\, set in the beautiful surroundings that is Brickyard Woods. \nSanta\, himself\, will be taking a time out from The North Pole to come and join us for some festive fun!\nWe will be making our own festive tree ornaments\, writing those special letters to Santa with his help\, hunting for the magical post-box in the woods (dedicated Express Delivery to The North Pole! ) and toasting marshmallows over that open fire.\nEach child who writes a letter to Santa with us\, is guaranteed a personal reply from The Big Man himself and a gift. What will you ask for?\nDue to parking arrangements\, numbers will be limited\, so book now to secure your place\nIf you would like to use a face mask you are welcome to do so.\nIf you have any signs of high temperature or other COVID-19 symptoms please do not turn-up on the day and follow Government guidelines. Every child will still get a letter and a present sent to them.\nTickets are non-transferable and non-refundable.
URL:https://atplayinthewoods.co.uk/event/write-a-letter-and-meet-santa/
LOCATION:At Play In The Woods\, At Play In The Woods\, Brockley Lane\, Chelvey\, North Somerset\, BS48 4AH\, United Kingdom
CATEGORIES:At Play In The Woods Events,Santa,Toddler Session
ORGANIZER;CN="At Play In The Woods":MAILTO:info@atplayinthewoods.co.uk
END:VEVENT
BEGIN:VEVENT
DTSTART;TZID=Europe/London:20211205T100000
DTEND;TZID=Europe/London:20211205T113000
DTSTAMP:20260425T141127
CREATED:20211109T233250Z
LAST-MODIFIED:20211201T213704Z
UID:11784-1638698400-1638703800@atplayinthewoods.co.uk
SUMMARY:Sold out\, Meet Santa and write your letters
DESCRIPTION:Come and experience a magical Christmas\, set in the beautiful surroundings that is Brickyard Woods. \nSanta\, himself\, will be taking a time out from The North Pole to come and join us for some festive fun!\nWe will be making our own festive tree ornaments\, writing those special letters to Santa with his help\, hunting for the magical post-box in the woods (dedicated Express Delivery to The North Pole! ) and toasting marshmallows over that open fire.\nEach child who writes a letter to Santa with us\, is guaranteed a personal reply from The Big Man himself and a gift. What will you ask for?\nDue to parking arrangements\, numbers will be limited\, so book now to secure your place\nIf you would like to use a face mask you are welcome to do so.\nIf you have any signs of high temperature or other COVID-19 symptoms please do not turn-up on the day and follow Government guidelines. Every child will still get a letter and a present sent to them.\nTickets are non-transferable and non-refundable.
URL:https://atplayinthewoods.co.uk/event/meet-santa-and-write-your-letters/
LOCATION:At Play In The Woods\, At Play In The Woods\, Brockley Lane\, Chelvey\, North Somerset\, BS48 4AH\, United Kingdom
CATEGORIES:At Play In The Woods Events,Santa,Toddler Session
ORGANIZER;CN="At Play In The Woods":MAILTO:info@atplayinthewoods.co.uk
END:VEVENT
BEGIN:VEVENT
DTSTART;TZID=Europe/London:20211128T103000
DTEND;TZID=Europe/London:20211128T120000
DTSTAMP:20260425T141127
CREATED:20211109T232327Z
LAST-MODIFIED:20211127T185104Z
UID:11780-1638095400-1638100800@atplayinthewoods.co.uk
SUMMARY:Sold out. Meet Santa and write your letter.
DESCRIPTION:Come and experience a magical Christmas\, set in the beautiful surroundings that is Brickyard Woods. \nSanta\, himself\, will be taking a time out from The North Pole to come and join us for some festive fun!\nWe will be making our own festive tree ornaments\, writing those special letters to Santa with his help\, hunting for the magical post-box in the woods (dedicated Express Delivery to The North Pole! ) and toasting marshmallows over that open fire.\nEach child who writes a letter to Santa with us\, is guaranteed a personal reply from The Big Man himself and a gift. What will you ask for?\nDue to parking arrangements\, numbers will be limited\, so book now to secure your place\nIf you would like to use a face mask you are welcome to do so.\nIf you have any signs of high temperature or other COVID-19 symptoms please do not turn-up on the day and follow Government guidelines. Every child will still get a letter and a present sent to them.\nTickets are non-transferable and non-refundable.
URL:https://atplayinthewoods.co.uk/event/meet-santa-and-write-your-letter/
LOCATION:At Play In The Woods\, At Play In The Woods\, Brockley Lane\, Chelvey\, North Somerset\, BS48 4AH\, United Kingdom
CATEGORIES:At Play In The Woods Events,Holiday Sessions,Santa
ORGANIZER;CN="At Play In The Woods":MAILTO:info@atplayinthewoods.co.uk
END:VEVENT
BEGIN:VEVENT
DTSTART;VALUE=DATE:20211119
DTEND;VALUE=DATE:20211122
DTSTAMP:20260425T141127
CREATED:20210927T065154Z
LAST-MODIFIED:20210927T065154Z
UID:11633-1637280000-1637539199@atplayinthewoods.co.uk
SUMMARY:Closed
DESCRIPTION:.
URL:https://atplayinthewoods.co.uk/event/closed-4/
LOCATION:North Somerset
CATEGORIES:At Play In The Woods Events
END:VEVENT
BEGIN:VEVENT
DTSTART;TZID=Europe/London:20211116T100000
DTEND;TZID=Europe/London:20211116T123000
DTSTAMP:20260425T141127
CREATED:20210926T124052Z
LAST-MODIFIED:20211112T232031Z
UID:11598-1637056800-1637065800@atplayinthewoods.co.uk
SUMMARY:Toddlers who play....
DESCRIPTION:Come and join us  at Chelvey\, and let your child explore the outdoors \nWe will all meet at the car park and then when everyone is present we will make our way to the woods all together. Our site is accessible for buggies with good wheels. \nWe start the session with an introduction and a safety talk\, including COVID-19 guides lines (if applicable) \nThen it’s over to you. Play with the mud kitchen\, explore the woods and see what you can find! \nAre you or your child brave enough to try the rope swing or maybe try the see-saw? \nThere is no plan to the session\, its led by the children’s imagination. \nRemember to bring a drink and a snack if you like. \nThere is no need to stay for the whole session\, if your child is getting tired\, you are free to leave \nIf you have any signs of high temperature or other COVID-19 symptoms\nplease do not attend. \nWe look forward to seeing you soon.
URL:https://atplayinthewoods.co.uk/event/toddlers-who-play/
LOCATION:At Play In The Woods\, At Play In The Woods\, Brockley Lane\, Chelvey\, North Somerset\, BS48 4AH\, United Kingdom
CATEGORIES:At Play In The Woods Events,Toddler Session
END:VEVENT
BEGIN:VEVENT
DTSTART;TZID=Europe/London:20211114T140000
DTEND;TZID=Europe/London:20211114T163000
DTSTAMP:20260425T141127
CREATED:20211024T160338Z
LAST-MODIFIED:20211025T015326Z
UID:11733-1636898400-1636907400@atplayinthewoods.co.uk
SUMMARY:Kirsty Martin ~ Dino Hunt
DESCRIPTION:Content is protected.
URL:https://atplayinthewoods.co.uk/event/kirsty-martin-dino-hunt/
LOCATION:At Play In The Woods\, At Play In The Woods\, Brockley Lane\, Chelvey\, North Somerset\, BS48 4AH\, United Kingdom
CATEGORIES:At Play In The Woods Events
END:VEVENT
END:VCALENDAR