BEGIN:VCALENDAR
VERSION:2.0
PRODID:-//At Play In The Woods - ECPv6.15.20//NONSGML v1.0//EN
CALSCALE:GREGORIAN
METHOD:PUBLISH
X-ORIGINAL-URL:https://atplayinthewoods.co.uk
X-WR-CALDESC:Events for At Play In The Woods
REFRESH-INTERVAL;VALUE=DURATION:PT1H
X-Robots-Tag:noindex
X-PUBLISHED-TTL:PT1H
BEGIN:VTIMEZONE
TZID:Europe/London
BEGIN:DAYLIGHT
TZOFFSETFROM:+0000
TZOFFSETTO:+0100
TZNAME:BST
DTSTART:20240331T010000
END:DAYLIGHT
BEGIN:STANDARD
TZOFFSETFROM:+0100
TZOFFSETTO:+0000
TZNAME:GMT
DTSTART:20241027T010000
END:STANDARD
BEGIN:DAYLIGHT
TZOFFSETFROM:+0000
TZOFFSETTO:+0100
TZNAME:BST
DTSTART:20250330T010000
END:DAYLIGHT
BEGIN:STANDARD
TZOFFSETFROM:+0100
TZOFFSETTO:+0000
TZNAME:GMT
DTSTART:20251026T010000
END:STANDARD
BEGIN:DAYLIGHT
TZOFFSETFROM:+0000
TZOFFSETTO:+0100
TZNAME:BST
DTSTART:20260329T010000
END:DAYLIGHT
BEGIN:STANDARD
TZOFFSETFROM:+0100
TZOFFSETTO:+0000
TZNAME:GMT
DTSTART:20261025T010000
END:STANDARD
BEGIN:DAYLIGHT
TZOFFSETFROM:+0000
TZOFFSETTO:+0100
TZNAME:BST
DTSTART:20270328T010000
END:DAYLIGHT
BEGIN:STANDARD
TZOFFSETFROM:+0100
TZOFFSETTO:+0000
TZNAME:GMT
DTSTART:20271031T010000
END:STANDARD
END:VTIMEZONE
BEGIN:VEVENT
DTSTART;TZID=Europe/London:20251011T103000
DTEND;TZID=Europe/London:20251011T130000
DTSTAMP:20260423T190944
CREATED:20250731T205122Z
LAST-MODIFIED:20250907T104319Z
UID:15401-1760178600-1760187600@atplayinthewoods.co.uk
SUMMARY:Sandry-bespoke-AM
DESCRIPTION:Content is protected.
URL:https://atplayinthewoods.co.uk/event/sandry-bespoke-am/
LOCATION:At Play In The Woods\, At Play In The Woods\, Brockley Lane\, Chelvey\, North Somerset\, BS48 4AH\, United Kingdom
CATEGORIES:At Play In The Woods Events
ORGANIZER;CN="At Play In The Woods":MAILTO:info@atplayinthewoods.co.uk
END:VEVENT
BEGIN:VEVENT
DTSTART;TZID=Europe/London:20251011T140000
DTEND;TZID=Europe/London:20251011T163000
DTSTAMP:20260423T190944
CREATED:20250909T152926Z
LAST-MODIFIED:20250909T152926Z
UID:15471-1760191200-1760200200@atplayinthewoods.co.uk
SUMMARY:Strinati-wands-PM
DESCRIPTION:Content is protected.
URL:https://atplayinthewoods.co.uk/event/strinati-wands-pm/
LOCATION:At Play In The Woods\, At Play In The Woods\, Brockley Lane\, Chelvey\, North Somerset\, BS48 4AH\, United Kingdom
CATEGORIES:At Play In The Woods Events
ORGANIZER;CN="At Play In The Woods":MAILTO:info@atplayinthewoods.co.uk
END:VEVENT
BEGIN:VEVENT
DTSTART;TZID=Europe/London:20251012T103000
DTEND;TZID=Europe/London:20251012T130000
DTSTAMP:20260423T190944
CREATED:20250813T223717Z
LAST-MODIFIED:20250813T223717Z
UID:15413-1760265000-1760274000@atplayinthewoods.co.uk
SUMMARY:Jones-Dens-AM
DESCRIPTION:Content is protected.
URL:https://atplayinthewoods.co.uk/event/jones-dens-am/
LOCATION:At Play In The Woods\, At Play In The Woods\, Brockley Lane\, Chelvey\, North Somerset\, BS48 4AH\, United Kingdom
CATEGORIES:At Play In The Woods Events
ORGANIZER;CN="At Play In The Woods":MAILTO:info@atplayinthewoods.co.uk
END:VEVENT
BEGIN:VEVENT
DTSTART;TZID=Europe/London:20251012T140000
DTEND;TZID=Europe/London:20251012T163000
DTSTAMP:20260423T190944
CREATED:20250731T203249Z
LAST-MODIFIED:20250731T203249Z
UID:15397-1760277600-1760286600@atplayinthewoods.co.uk
SUMMARY:Hockin-bespoke-PM
DESCRIPTION:Content is protected.
URL:https://atplayinthewoods.co.uk/event/hockin-bespoke-pm/
LOCATION:At Play In The Woods\, At Play In The Woods\, Brockley Lane\, Chelvey\, North Somerset\, BS48 4AH\, United Kingdom
CATEGORIES:At Play In The Woods Events
ORGANIZER;CN="At Play In The Woods":MAILTO:info@atplayinthewoods.co.uk
END:VEVENT
BEGIN:VEVENT
DTSTART;TZID=Europe/London:20251029T140000
DTEND;TZID=Europe/London:20251029T163000
DTSTAMP:20260423T190944
CREATED:20251001T085640Z
LAST-MODIFIED:20251001T085640Z
UID:15501-1761746400-1761755400@atplayinthewoods.co.uk
SUMMARY:Davey-Dens-PM
DESCRIPTION:Content is protected.
URL:https://atplayinthewoods.co.uk/event/davey-dens-pm/
LOCATION:At Play In The Woods\, At Play In The Woods\, Brockley Lane\, Chelvey\, North Somerset\, BS48 4AH\, United Kingdom
CATEGORIES:At Play In The Woods Events
ORGANIZER;CN="At Play In The Woods":MAILTO:info@atplayinthewoods.co.uk
END:VEVENT
BEGIN:VEVENT
DTSTART;VALUE=DATE:20251101
DTEND;VALUE=DATE:20251102
DTSTAMP:20260423T190944
CREATED:20250907T103803Z
LAST-MODIFIED:20250907T103803Z
UID:15467-1761955200-1762041599@atplayinthewoods.co.uk
SUMMARY:Private event - Harrison
DESCRIPTION:Content is protected.
URL:https://atplayinthewoods.co.uk/event/private-event-harrison/
LOCATION:North Somerset
CATEGORIES:At Play In The Woods Events,Disco event,Private event
END:VEVENT
BEGIN:VEVENT
DTSTART;TZID=Europe/London:20251108T140000
DTEND;TZID=Europe/London:20251108T163000
DTSTAMP:20260423T190944
CREATED:20250605T125544Z
LAST-MODIFIED:20250605T125544Z
UID:15301-1762610400-1762619400@atplayinthewoods.co.uk
SUMMARY:Lesworth-bespoke-pm
DESCRIPTION:Content is protected.
URL:https://atplayinthewoods.co.uk/event/lesworth-bespoke-pm/
LOCATION:At Play In The Woods\, At Play In The Woods\, Brockley Lane\, Chelvey\, North Somerset\, BS48 4AH\, United Kingdom
CATEGORIES:At Play In The Woods Events
ORGANIZER;CN="At Play In The Woods":MAILTO:info@atplayinthewoods.co.uk
END:VEVENT
BEGIN:VEVENT
DTSTART;VALUE=DATE:20251109
DTEND;VALUE=DATE:20251110
DTSTAMP:20260423T190944
CREATED:20251017T204135Z
LAST-MODIFIED:20251017T204135Z
UID:15512-1762646400-1762732799@atplayinthewoods.co.uk
SUMMARY:SAM OUT OF THE BUSINESS
DESCRIPTION:Sam is away for the day
URL:https://atplayinthewoods.co.uk/event/sam-out-of-the-business-7/
LOCATION:At Play In The Woods\, At Play In The Woods\, Brockley Lane\, Chelvey\, North Somerset\, BS48 4AH\, United Kingdom
CATEGORIES:At Play In The Woods Events,Booksigning,Disco event,DmEvents,Forest School Lvl 3 training session,Holiday Sessions,Home Education,Private event,Santa,shotting,Toddler Session
END:VEVENT
BEGIN:VEVENT
DTSTART;TZID=Europe/London:20251129T190000
DTEND;TZID=Europe/London:20251129T233000
DTSTAMP:20260423T190944
CREATED:20250226T162141Z
LAST-MODIFIED:20250226T162141Z
UID:15156-1764442800-1764459000@atplayinthewoods.co.uk
SUMMARY:Claire-Disco
DESCRIPTION:Content is protected.
URL:https://atplayinthewoods.co.uk/event/claire-disco/
LOCATION:North Somerset
CATEGORIES:DmEvents
END:VEVENT
BEGIN:VEVENT
DTSTART;VALUE=DATE:20260123
DTEND;VALUE=DATE:20260127
DTSTAMP:20260423T190944
CREATED:20260113T102927Z
LAST-MODIFIED:20260113T102928Z
UID:15559-1769126400-1769471999@atplayinthewoods.co.uk
SUMMARY:Sam out of business
DESCRIPTION:Sam out of the business
URL:https://atplayinthewoods.co.uk/event/sam-out-of-business/
LOCATION:At Play In The Woods\, At Play In The Woods\, Brockley Lane\, Chelvey\, North Somerset\, BS48 4AH\, United Kingdom
CATEGORIES:At Play In The Woods Events,Booksigning,Disco event,DmEvents,Forest School Lvl 3 training session,Holiday Sessions,Home Education,Private event,Santa,shotting,Toddler Session
ORGANIZER;CN="At Play In The Woods":MAILTO:info@atplayinthewoods.co.uk
END:VEVENT
BEGIN:VEVENT
DTSTART;TZID=Europe/London:20260207T103000
DTEND;TZID=Europe/London:20260207T130000
DTSTAMP:20260423T190944
CREATED:20251211T150954Z
LAST-MODIFIED:20260118T114653Z
UID:15537-1770460200-1770469200@atplayinthewoods.co.uk
SUMMARY:Lanherne-Wands-AM
DESCRIPTION:Content is protected.
URL:https://atplayinthewoods.co.uk/event/lanherne-wands-am/
LOCATION:At Play In The Woods\, At Play In The Woods\, Brockley Lane\, Chelvey\, North Somerset\, BS48 4AH\, United Kingdom
CATEGORIES:At Play In The Woods Events
ORGANIZER;CN="At Play In The Woods":MAILTO:info@atplayinthewoods.co.uk
END:VEVENT
BEGIN:VEVENT
DTSTART;TZID=Europe/London:20260308T103000
DTEND;TZID=Europe/London:20260308T130000
DTSTAMP:20260423T190944
CREATED:20260103T124120Z
LAST-MODIFIED:20260104T145531Z
UID:15544-1772965800-1772974800@atplayinthewoods.co.uk
SUMMARY:Dullehan-Dens-AM
DESCRIPTION:Content is protected.
URL:https://atplayinthewoods.co.uk/event/dullehan-dens-am/
LOCATION:At Play In The Woods\, At Play In The Woods\, Brockley Lane\, Chelvey\, North Somerset\, BS48 4AH\, United Kingdom
CATEGORIES:At Play In The Woods Events
END:VEVENT
BEGIN:VEVENT
DTSTART;TZID=Europe/London:20260321T103000
DTEND;TZID=Europe/London:20260321T130000
DTSTAMP:20260423T190944
CREATED:20260129T201242Z
LAST-MODIFIED:20260317T235026Z
UID:15580-1774089000-1774098000@atplayinthewoods.co.uk
SUMMARY:Topham_wands_am
DESCRIPTION:Content is protected.
URL:https://atplayinthewoods.co.uk/event/topham_wands_am/
LOCATION:At Play In The Woods\, At Play In The Woods\, Brockley Lane\, Chelvey\, North Somerset\, BS48 4AH\, United Kingdom
CATEGORIES:At Play In The Woods Events
ORGANIZER;CN="At Play In The Woods":MAILTO:info@atplayinthewoods.co.uk
END:VEVENT
BEGIN:VEVENT
DTSTART;VALUE=DATE:20260322
DTEND;VALUE=DATE:20260323
DTSTAMP:20260423T190944
CREATED:20260129T195451Z
LAST-MODIFIED:20260129T195451Z
UID:15578-1774137600-1774223999@atplayinthewoods.co.uk
SUMMARY:SAM OUT OF THE BUSINESS
DESCRIPTION:SAM OUT OF BUSINESS FOR PRIVATE EVENT
URL:https://atplayinthewoods.co.uk/event/sam-out-of-the-business-9/
LOCATION:At Play In The Woods\, At Play In The Woods\, Brockley Lane\, Chelvey\, North Somerset\, BS48 4AH\, United Kingdom
CATEGORIES:At Play In The Woods Events,Booksigning,Disco event,DmEvents,Forest School Lvl 3 training session,Holiday Sessions,Home Education,Private event,Santa,shotting,Toddler Session
ORGANIZER;CN="At Play In The Woods":MAILTO:info@atplayinthewoods.co.uk
END:VEVENT
BEGIN:VEVENT
DTSTART;VALUE=DATE:20260327
DTEND;VALUE=DATE:20260331
DTSTAMP:20260423T190944
CREATED:20260308T002120Z
LAST-MODIFIED:20260308T002120Z
UID:15616-1774569600-1774915199@atplayinthewoods.co.uk
SUMMARY:MegaConLive
DESCRIPTION:Sams away working megacon live
URL:https://atplayinthewoods.co.uk/event/megaconlive/
LOCATION:North Somerset
CATEGORIES:At Play In The Woods Events
END:VEVENT
BEGIN:VEVENT
DTSTART;TZID=Europe/London:20260404T103000
DTEND;TZID=Europe/London:20260404T130000
DTSTAMP:20260423T190944
CREATED:20260309T202046Z
LAST-MODIFIED:20260309T202046Z
UID:15625-1775298600-1775307600@atplayinthewoods.co.uk
SUMMARY:SAM OUT OF BUSINESS
DESCRIPTION:Sam out of business
URL:https://atplayinthewoods.co.uk/event/sam-out-of-business-2/
LOCATION:North Somerset
CATEGORIES:At Play In The Woods Events,Booksigning,Disco event,DmEvents,Forest School Lvl 3 training session,Holiday Sessions,Home Education,Private event,Santa,shotting,Toddler Session
END:VEVENT
BEGIN:VEVENT
DTSTART;TZID=Europe/London:20260404T140000
DTEND;TZID=Europe/London:20260404T163000
DTSTAMP:20260423T190944
CREATED:20260309T200118Z
LAST-MODIFIED:20260309T200118Z
UID:15621-1775311200-1775320200@atplayinthewoods.co.uk
SUMMARY:Ameson-Wands-pm
DESCRIPTION:Content is protected.
URL:https://atplayinthewoods.co.uk/event/ameson-wands-pm/
LOCATION:At Play In The Woods\, At Play In The Woods\, Brockley Lane\, Chelvey\, North Somerset\, BS48 4AH\, United Kingdom
CATEGORIES:At Play In The Woods Events
ORGANIZER;CN="At Play In The Woods":MAILTO:info@atplayinthewoods.co.uk
END:VEVENT
BEGIN:VEVENT
DTSTART;TZID=Europe/London:20260411T103000
DTEND;TZID=Europe/London:20260411T130000
DTSTAMP:20260423T190944
CREATED:20260309T202516Z
LAST-MODIFIED:20260309T202911Z
UID:15627-1775903400-1775912400@atplayinthewoods.co.uk
SUMMARY:SAM OUT OF THE BUSINESS
DESCRIPTION:Sam out of the business
URL:https://atplayinthewoods.co.uk/event/sam-out-of-the-business-10/
LOCATION:At Play In The Woods\, At Play In The Woods\, Brockley Lane\, Chelvey\, North Somerset\, BS48 4AH\, United Kingdom
CATEGORIES:At Play In The Woods Events,Booksigning,Disco event,DmEvents,Forest School Lvl 3 training session,Holiday Sessions,Home Education,Private event,Santa,shotting,Toddler Session
ORGANIZER;CN="At Play In The Woods":MAILTO:info@atplayinthewoods.co.uk
END:VEVENT
BEGIN:VEVENT
DTSTART;TZID=Europe/London:20260418T103000
DTEND;TZID=Europe/London:20260418T130000
DTSTAMP:20260423T190944
CREATED:20260309T203916Z
LAST-MODIFIED:20260309T203916Z
UID:15630-1776508200-1776517200@atplayinthewoods.co.uk
SUMMARY:SAM OUT OF THE BUSINESS
DESCRIPTION:Sam out of the business
URL:https://atplayinthewoods.co.uk/event/sam-out-of-the-business-11/
LOCATION:At Play In The Woods\, At Play In The Woods\, Brockley Lane\, Chelvey\, North Somerset\, BS48 4AH\, United Kingdom
CATEGORIES:At Play In The Woods Events,Booksigning,Disco event,DmEvents,Forest School Lvl 3 training session,Holiday Sessions,Home Education,Private event,Santa,shotting,Toddler Session
ORGANIZER;CN="At Play In The Woods":MAILTO:info@atplayinthewoods.co.uk
END:VEVENT
BEGIN:VEVENT
DTSTART;VALUE=DATE:20260420
DTEND;VALUE=DATE:20260429
DTSTAMP:20260423T190944
CREATED:20260127T145418Z
LAST-MODIFIED:20260127T145418Z
UID:15571-1776643200-1777420799@atplayinthewoods.co.uk
SUMMARY:Sam out of the business
DESCRIPTION:Sam on holiday 20-28 April
URL:https://atplayinthewoods.co.uk/event/sam-out-of-the-business-8/
LOCATION:North Somerset
CATEGORIES:At Play In The Woods Events,Booksigning,Disco event,DmEvents,Forest School Lvl 3 training session,Holiday Sessions,Home Education,Private event,Santa,shotting,Toddler Session
END:VEVENT
BEGIN:VEVENT
DTSTART;TZID=Europe/London:20260426T140000
DTEND;TZID=Europe/London:20260426T163000
DTSTAMP:20260423T190944
CREATED:20260330T190513Z
LAST-MODIFIED:20260410T153113Z
UID:15717-1777212000-1777221000@atplayinthewoods.co.uk
SUMMARY:Haddad-Dens-PM  Not going ahead
DESCRIPTION:Content is protected.
URL:https://atplayinthewoods.co.uk/event/haddad-dens-pm/
LOCATION:At Play In The Woods\, At Play In The Woods\, Brockley Lane\, Chelvey\, North Somerset\, BS48 4AH\, United Kingdom
ORGANIZER;CN="At Play In The Woods":MAILTO:info@atplayinthewoods.co.uk
END:VEVENT
BEGIN:VEVENT
DTSTART;TZID=Europe/London:20260502T103000
DTEND;TZID=Europe/London:20260502T130000
DTSTAMP:20260423T190944
CREATED:20260309T204157Z
LAST-MODIFIED:20260309T204157Z
UID:15632-1777717800-1777726800@atplayinthewoods.co.uk
SUMMARY:SAM OUT OF THE BUSINESS
DESCRIPTION:Sam out of the business
URL:https://atplayinthewoods.co.uk/event/sam-out-of-the-business-12/
LOCATION:At Play In The Woods\, At Play In The Woods\, Brockley Lane\, Chelvey\, North Somerset\, BS48 4AH\, United Kingdom
CATEGORIES:At Play In The Woods Events,Booksigning,Disco event,DmEvents,Forest School Lvl 3 training session,Holiday Sessions,Home Education,Private event,Santa,shotting,Toddler Session
ORGANIZER;CN="At Play In The Woods":MAILTO:info@atplayinthewoods.co.uk
END:VEVENT
BEGIN:VEVENT
DTSTART;TZID=Europe/London:20260509T140000
DTEND;TZID=Europe/London:20260509T163000
DTSTAMP:20260423T190944
CREATED:20260127T151630Z
LAST-MODIFIED:20260202T135948Z
UID:15573-1778335200-1778344200@atplayinthewoods.co.uk
SUMMARY:Cottrell-Wands-PM
DESCRIPTION:Content is protected.
URL:https://atplayinthewoods.co.uk/event/cottrell-wands-pm/
LOCATION:At Play In The Woods\, At Play In The Woods\, Brockley Lane\, Chelvey\, North Somerset\, BS48 4AH\, United Kingdom
CATEGORIES:At Play In The Woods Events
ORGANIZER;CN="At Play In The Woods":MAILTO:info@atplayinthewoods.co.uk
END:VEVENT
BEGIN:VEVENT
DTSTART;TZID=Europe/London:20260510T103000
DTEND;TZID=Europe/London:20260510T130000
DTSTAMP:20260423T190944
CREATED:20260326T165356Z
LAST-MODIFIED:20260326T165356Z
UID:15704-1778409000-1778418000@atplayinthewoods.co.uk
SUMMARY:Rowland-Dino-AM
DESCRIPTION:Content is protected.
URL:https://atplayinthewoods.co.uk/event/rowland-dino-am/
LOCATION:At Play In The Woods\, At Play In The Woods\, Brockley Lane\, Chelvey\, North Somerset\, BS48 4AH\, United Kingdom
CATEGORIES:At Play In The Woods Events
ORGANIZER;CN="At Play In The Woods":MAILTO:info@atplayinthewoods.co.uk
END:VEVENT
BEGIN:VEVENT
DTSTART;TZID=Europe/London:20260510T140000
DTEND;TZID=Europe/London:20260510T163000
DTSTAMP:20260423T190944
CREATED:20260409T103113Z
LAST-MODIFIED:20260409T103113Z
UID:15740-1778421600-1778430600@atplayinthewoods.co.uk
SUMMARY:Twigge-Wands-PM
DESCRIPTION:Content is protected.
URL:https://atplayinthewoods.co.uk/event/twigge-wands-pm-2/
LOCATION:At Play In The Woods\, At Play In The Woods\, Brockley Lane\, Chelvey\, North Somerset\, BS48 4AH\, United Kingdom
CATEGORIES:At Play In The Woods Events
ORGANIZER;CN="At Play In The Woods":MAILTO:info@atplayinthewoods.co.uk
END:VEVENT
BEGIN:VEVENT
DTSTART;TZID=Europe/London:20260516T103000
DTEND;TZID=Europe/London:20260516T130000
DTSTAMP:20260423T190944
CREATED:20260213T195943Z
LAST-MODIFIED:20260214T160656Z
UID:15595-1778927400-1778936400@atplayinthewoods.co.uk
SUMMARY:Hopkins-Wands-AM
DESCRIPTION:Content is protected.
URL:https://atplayinthewoods.co.uk/event/hopkins-wands-am/
LOCATION:At Play In The Woods\, At Play In The Woods\, Brockley Lane\, Chelvey\, North Somerset\, BS48 4AH\, United Kingdom
CATEGORIES:At Play In The Woods Events
ORGANIZER;CN="At Play In The Woods":MAILTO:info@atplayinthewoods.co.uk
END:VEVENT
BEGIN:VEVENT
DTSTART;TZID=Europe/London:20260516T140000
DTEND;TZID=Europe/London:20260516T163000
DTSTAMP:20260423T190944
CREATED:20260316T113436Z
LAST-MODIFIED:20260316T113436Z
UID:15662-1778940000-1778949000@atplayinthewoods.co.uk
SUMMARY:Vincent-Pirate-PM
DESCRIPTION:Content is protected.
URL:https://atplayinthewoods.co.uk/event/vincent-pirate-pm/
LOCATION:At Play In The Woods\, At Play In The Woods\, Brockley Lane\, Chelvey\, North Somerset\, BS48 4AH\, United Kingdom
CATEGORIES:At Play In The Woods Events
ORGANIZER;CN="At Play In The Woods":MAILTO:info@atplayinthewoods.co.uk
END:VEVENT
BEGIN:VEVENT
DTSTART;TZID=Europe/London:20260517T103000
DTEND;TZID=Europe/London:20260517T130000
DTSTAMP:20260423T190944
CREATED:20260310T205634Z
LAST-MODIFIED:20260310T205634Z
UID:15641-1779013800-1779022800@atplayinthewoods.co.uk
SUMMARY:Baker-Dens-AM
DESCRIPTION:Content is protected.
URL:https://atplayinthewoods.co.uk/event/baker-dens-am/
LOCATION:At Play In The Woods\, At Play In The Woods\, Brockley Lane\, Chelvey\, North Somerset\, BS48 4AH\, United Kingdom
CATEGORIES:At Play In The Woods Events
ORGANIZER;CN="At Play In The Woods":MAILTO:info@atplayinthewoods.co.uk
END:VEVENT
BEGIN:VEVENT
DTSTART;TZID=Europe/London:20260517T140000
DTEND;TZID=Europe/London:20260517T163000
DTSTAMP:20260423T190944
CREATED:20260219T202542Z
LAST-MODIFIED:20260219T202542Z
UID:15605-1779026400-1779035400@atplayinthewoods.co.uk
SUMMARY:Youll-Wands-PM
DESCRIPTION:Content is protected.
URL:https://atplayinthewoods.co.uk/event/youll-wands-pm/
LOCATION:At Play In The Woods\, At Play In The Woods\, Brockley Lane\, Chelvey\, North Somerset\, BS48 4AH\, United Kingdom
CATEGORIES:At Play In The Woods Events
ORGANIZER;CN="At Play In The Woods":MAILTO:info@atplayinthewoods.co.uk
END:VEVENT
BEGIN:VEVENT
DTSTART;TZID=Europe/London:20260523T103000
DTEND;TZID=Europe/London:20260523T130000
DTSTAMP:20260423T190944
CREATED:20260328T130228Z
LAST-MODIFIED:20260328T130228Z
UID:15711-1779532200-1779541200@atplayinthewoods.co.uk
SUMMARY:Ward-Wands-AM
DESCRIPTION:Content is protected.
URL:https://atplayinthewoods.co.uk/event/ward-wands-am/
LOCATION:At Play In The Woods\, At Play In The Woods\, Brockley Lane\, Chelvey\, North Somerset\, BS48 4AH\, United Kingdom
CATEGORIES:At Play In The Woods Events
ORGANIZER;CN="At Play In The Woods":MAILTO:info@atplayinthewoods.co.uk
END:VEVENT
END:VCALENDAR