BEGIN:VCALENDAR
VERSION:2.0
PRODID:-//At Play In The Woods - ECPv6.15.20//NONSGML v1.0//EN
CALSCALE:GREGORIAN
METHOD:PUBLISH
X-WR-CALNAME:At Play In The Woods
X-ORIGINAL-URL:https://atplayinthewoods.co.uk
X-WR-CALDESC:Events for At Play In The Woods
REFRESH-INTERVAL;VALUE=DURATION:PT1H
X-Robots-Tag:noindex
X-PUBLISHED-TTL:PT1H
BEGIN:VTIMEZONE
TZID:Europe/London
BEGIN:DAYLIGHT
TZOFFSETFROM:+0000
TZOFFSETTO:+0100
TZNAME:BST
DTSTART:20200329T010000
END:DAYLIGHT
BEGIN:STANDARD
TZOFFSETFROM:+0100
TZOFFSETTO:+0000
TZNAME:GMT
DTSTART:20201025T010000
END:STANDARD
BEGIN:DAYLIGHT
TZOFFSETFROM:+0000
TZOFFSETTO:+0100
TZNAME:BST
DTSTART:20210328T010000
END:DAYLIGHT
BEGIN:STANDARD
TZOFFSETFROM:+0100
TZOFFSETTO:+0000
TZNAME:GMT
DTSTART:20211031T010000
END:STANDARD
BEGIN:DAYLIGHT
TZOFFSETFROM:+0000
TZOFFSETTO:+0100
TZNAME:BST
DTSTART:20220327T010000
END:DAYLIGHT
BEGIN:STANDARD
TZOFFSETFROM:+0100
TZOFFSETTO:+0000
TZNAME:GMT
DTSTART:20221030T010000
END:STANDARD
END:VTIMEZONE
BEGIN:VEVENT
DTSTART;TZID=Europe/London:20211219T100000
DTEND;TZID=Europe/London:20211219T113000
DTSTAMP:20260423T165643
CREATED:20211109T233635Z
LAST-MODIFIED:20211213T181553Z
UID:11791-1639908000-1639913400@atplayinthewoods.co.uk
SUMMARY:sold out\, Meet Santa and write your letters
DESCRIPTION:Come and experience a magical Christmas\, set in the beautiful surroundings that is Brickyard Woods. \nSanta\, himself\, will be taking a time out from The North Pole to come and join us for some festive fun!\nWe will be making our own festive tree ornaments\, writing those special letters to Santa with his help\, hunting for the magical post-box in the woods (dedicated Express Delivery to The North Pole! ) and toasting marshmallows over that open fire.\nEach child who writes a letter to Santa with us\, is guaranteed a personal reply from The Big Man himself and a gift. What will you ask for?\nDue to parking arrangements\, numbers will be limited\, so book now to secure your place\nIf you would like to use a face mask you are welcome to do so.\nIf you have any signs of high temperature or other COVID-19 symptoms please do not turn-up on the day and follow Government guidelines. Every child will still get a letter and a present sent to them.\nTickets are non-transferable and non-refundable.
URL:https://atplayinthewoods.co.uk/event/meet-santa-and-write-your-letters-2/
LOCATION:At Play In The Woods\, At Play In The Woods\, Brockley Lane\, Chelvey\, North Somerset\, BS48 4AH\, United Kingdom
CATEGORIES:At Play In The Woods Events,Santa,Toddler Session
ORGANIZER;CN="At Play In The Woods":MAILTO:info@atplayinthewoods.co.uk
END:VEVENT
BEGIN:VEVENT
DTSTART;TZID=Europe/London:20211205T123000
DTEND;TZID=Europe/London:20211205T140000
DTSTAMP:20260423T165643
CREATED:20211109T233454Z
LAST-MODIFIED:20211204T045334Z
UID:11788-1638707400-1638712800@atplayinthewoods.co.uk
SUMMARY:Write a letter and meet Santa
DESCRIPTION:Come and experience a magical Christmas\, set in the beautiful surroundings that is Brickyard Woods. \nSanta\, himself\, will be taking a time out from The North Pole to come and join us for some festive fun!\nWe will be making our own festive tree ornaments\, writing those special letters to Santa with his help\, hunting for the magical post-box in the woods (dedicated Express Delivery to The North Pole! ) and toasting marshmallows over that open fire.\nEach child who writes a letter to Santa with us\, is guaranteed a personal reply from The Big Man himself and a gift. What will you ask for?\nDue to parking arrangements\, numbers will be limited\, so book now to secure your place\nIf you would like to use a face mask you are welcome to do so.\nIf you have any signs of high temperature or other COVID-19 symptoms please do not turn-up on the day and follow Government guidelines. Every child will still get a letter and a present sent to them.\nTickets are non-transferable and non-refundable.
URL:https://atplayinthewoods.co.uk/event/write-a-letter-and-meet-santa/
LOCATION:At Play In The Woods\, At Play In The Woods\, Brockley Lane\, Chelvey\, North Somerset\, BS48 4AH\, United Kingdom
CATEGORIES:At Play In The Woods Events,Santa,Toddler Session
ORGANIZER;CN="At Play In The Woods":MAILTO:info@atplayinthewoods.co.uk
END:VEVENT
BEGIN:VEVENT
DTSTART;TZID=Europe/London:20211205T100000
DTEND;TZID=Europe/London:20211205T113000
DTSTAMP:20260423T165643
CREATED:20211109T233250Z
LAST-MODIFIED:20211201T213704Z
UID:11784-1638698400-1638703800@atplayinthewoods.co.uk
SUMMARY:Sold out\, Meet Santa and write your letters
DESCRIPTION:Come and experience a magical Christmas\, set in the beautiful surroundings that is Brickyard Woods. \nSanta\, himself\, will be taking a time out from The North Pole to come and join us for some festive fun!\nWe will be making our own festive tree ornaments\, writing those special letters to Santa with his help\, hunting for the magical post-box in the woods (dedicated Express Delivery to The North Pole! ) and toasting marshmallows over that open fire.\nEach child who writes a letter to Santa with us\, is guaranteed a personal reply from The Big Man himself and a gift. What will you ask for?\nDue to parking arrangements\, numbers will be limited\, so book now to secure your place\nIf you would like to use a face mask you are welcome to do so.\nIf you have any signs of high temperature or other COVID-19 symptoms please do not turn-up on the day and follow Government guidelines. Every child will still get a letter and a present sent to them.\nTickets are non-transferable and non-refundable.
URL:https://atplayinthewoods.co.uk/event/meet-santa-and-write-your-letters/
LOCATION:At Play In The Woods\, At Play In The Woods\, Brockley Lane\, Chelvey\, North Somerset\, BS48 4AH\, United Kingdom
CATEGORIES:At Play In The Woods Events,Santa,Toddler Session
ORGANIZER;CN="At Play In The Woods":MAILTO:info@atplayinthewoods.co.uk
END:VEVENT
BEGIN:VEVENT
DTSTART;TZID=Europe/London:20211128T103000
DTEND;TZID=Europe/London:20211128T120000
DTSTAMP:20260423T165643
CREATED:20211109T232327Z
LAST-MODIFIED:20211127T185104Z
UID:11780-1638095400-1638100800@atplayinthewoods.co.uk
SUMMARY:Sold out. Meet Santa and write your letter.
DESCRIPTION:Come and experience a magical Christmas\, set in the beautiful surroundings that is Brickyard Woods. \nSanta\, himself\, will be taking a time out from The North Pole to come and join us for some festive fun!\nWe will be making our own festive tree ornaments\, writing those special letters to Santa with his help\, hunting for the magical post-box in the woods (dedicated Express Delivery to The North Pole! ) and toasting marshmallows over that open fire.\nEach child who writes a letter to Santa with us\, is guaranteed a personal reply from The Big Man himself and a gift. What will you ask for?\nDue to parking arrangements\, numbers will be limited\, so book now to secure your place\nIf you would like to use a face mask you are welcome to do so.\nIf you have any signs of high temperature or other COVID-19 symptoms please do not turn-up on the day and follow Government guidelines. Every child will still get a letter and a present sent to them.\nTickets are non-transferable and non-refundable.
URL:https://atplayinthewoods.co.uk/event/meet-santa-and-write-your-letter/
LOCATION:At Play In The Woods\, At Play In The Woods\, Brockley Lane\, Chelvey\, North Somerset\, BS48 4AH\, United Kingdom
CATEGORIES:At Play In The Woods Events,Holiday Sessions,Santa
ORGANIZER;CN="At Play In The Woods":MAILTO:info@atplayinthewoods.co.uk
END:VEVENT
END:VCALENDAR