BEGIN:VCALENDAR
VERSION:2.0
PRODID:-//At Play In The Woods - ECPv6.15.20//NONSGML v1.0//EN
CALSCALE:GREGORIAN
METHOD:PUBLISH
X-WR-CALNAME:At Play In The Woods
X-ORIGINAL-URL:https://atplayinthewoods.co.uk
X-WR-CALDESC:Events for At Play In The Woods
REFRESH-INTERVAL;VALUE=DURATION:PT1H
X-Robots-Tag:noindex
X-PUBLISHED-TTL:PT1H
BEGIN:VTIMEZONE
TZID:Europe/London
BEGIN:DAYLIGHT
TZOFFSETFROM:+0000
TZOFFSETTO:+0100
TZNAME:BST
DTSTART:20210328T010000
END:DAYLIGHT
BEGIN:STANDARD
TZOFFSETFROM:+0100
TZOFFSETTO:+0000
TZNAME:GMT
DTSTART:20211031T010000
END:STANDARD
BEGIN:DAYLIGHT
TZOFFSETFROM:+0000
TZOFFSETTO:+0100
TZNAME:BST
DTSTART:20220327T010000
END:DAYLIGHT
BEGIN:STANDARD
TZOFFSETFROM:+0100
TZOFFSETTO:+0000
TZNAME:GMT
DTSTART:20221030T010000
END:STANDARD
BEGIN:DAYLIGHT
TZOFFSETFROM:+0000
TZOFFSETTO:+0100
TZNAME:BST
DTSTART:20230326T010000
END:DAYLIGHT
BEGIN:STANDARD
TZOFFSETFROM:+0100
TZOFFSETTO:+0000
TZNAME:GMT
DTSTART:20231029T010000
END:STANDARD
BEGIN:DAYLIGHT
TZOFFSETFROM:+0000
TZOFFSETTO:+0100
TZNAME:BST
DTSTART:20240331T010000
END:DAYLIGHT
BEGIN:STANDARD
TZOFFSETFROM:+0100
TZOFFSETTO:+0000
TZNAME:GMT
DTSTART:20241027T010000
END:STANDARD
BEGIN:DAYLIGHT
TZOFFSETFROM:+0000
TZOFFSETTO:+0100
TZNAME:BST
DTSTART:20250330T010000
END:DAYLIGHT
BEGIN:STANDARD
TZOFFSETFROM:+0100
TZOFFSETTO:+0000
TZNAME:GMT
DTSTART:20251026T010000
END:STANDARD
BEGIN:DAYLIGHT
TZOFFSETFROM:+0000
TZOFFSETTO:+0100
TZNAME:BST
DTSTART:20260329T010000
END:DAYLIGHT
BEGIN:STANDARD
TZOFFSETFROM:+0100
TZOFFSETTO:+0000
TZNAME:GMT
DTSTART:20261025T010000
END:STANDARD
BEGIN:DAYLIGHT
TZOFFSETFROM:+0000
TZOFFSETTO:+0100
TZNAME:BST
DTSTART:20270328T010000
END:DAYLIGHT
BEGIN:STANDARD
TZOFFSETFROM:+0100
TZOFFSETTO:+0000
TZNAME:GMT
DTSTART:20271031T010000
END:STANDARD
END:VTIMEZONE
BEGIN:VEVENT
DTSTART;TZID=Europe/London:20260418T103000
DTEND;TZID=Europe/London:20260418T130000
DTSTAMP:20260421T233420
CREATED:20260309T203916Z
LAST-MODIFIED:20260309T203916Z
UID:15630-1776508200-1776517200@atplayinthewoods.co.uk
SUMMARY:SAM OUT OF THE BUSINESS
DESCRIPTION:Sam out of the business
URL:https://atplayinthewoods.co.uk/event/sam-out-of-the-business-11/
LOCATION:At Play In The Woods\, At Play In The Woods\, Brockley Lane\, Chelvey\, North Somerset\, BS48 4AH\, United Kingdom
CATEGORIES:At Play In The Woods Events,Booksigning,Disco event,DmEvents,Forest School Lvl 3 training session,Holiday Sessions,Home Education,Private event,Santa,shotting,Toddler Session
ORGANIZER;CN="At Play In The Woods":MAILTO:info@atplayinthewoods.co.uk
END:VEVENT
BEGIN:VEVENT
DTSTART;TZID=Europe/London:20260411T103000
DTEND;TZID=Europe/London:20260411T130000
DTSTAMP:20260421T233420
CREATED:20260309T202516Z
LAST-MODIFIED:20260309T202911Z
UID:15627-1775903400-1775912400@atplayinthewoods.co.uk
SUMMARY:SAM OUT OF THE BUSINESS
DESCRIPTION:Sam out of the business
URL:https://atplayinthewoods.co.uk/event/sam-out-of-the-business-10/
LOCATION:At Play In The Woods\, At Play In The Woods\, Brockley Lane\, Chelvey\, North Somerset\, BS48 4AH\, United Kingdom
CATEGORIES:At Play In The Woods Events,Booksigning,Disco event,DmEvents,Forest School Lvl 3 training session,Holiday Sessions,Home Education,Private event,Santa,shotting,Toddler Session
ORGANIZER;CN="At Play In The Woods":MAILTO:info@atplayinthewoods.co.uk
END:VEVENT
BEGIN:VEVENT
DTSTART;TZID=Europe/London:20260404T103000
DTEND;TZID=Europe/London:20260404T130000
DTSTAMP:20260421T233420
CREATED:20260309T202046Z
LAST-MODIFIED:20260309T202046Z
UID:15625-1775298600-1775307600@atplayinthewoods.co.uk
SUMMARY:SAM OUT OF BUSINESS
DESCRIPTION:Sam out of business
URL:https://atplayinthewoods.co.uk/event/sam-out-of-business-2/
LOCATION:North Somerset
CATEGORIES:At Play In The Woods Events,Booksigning,Disco event,DmEvents,Forest School Lvl 3 training session,Holiday Sessions,Home Education,Private event,Santa,shotting,Toddler Session
END:VEVENT
BEGIN:VEVENT
DTSTART;VALUE=DATE:20260322
DTEND;VALUE=DATE:20260323
DTSTAMP:20260421T233420
CREATED:20260129T195451Z
LAST-MODIFIED:20260129T195451Z
UID:15578-1774137600-1774223999@atplayinthewoods.co.uk
SUMMARY:SAM OUT OF THE BUSINESS
DESCRIPTION:SAM OUT OF BUSINESS FOR PRIVATE EVENT
URL:https://atplayinthewoods.co.uk/event/sam-out-of-the-business-9/
LOCATION:At Play In The Woods\, At Play In The Woods\, Brockley Lane\, Chelvey\, North Somerset\, BS48 4AH\, United Kingdom
CATEGORIES:At Play In The Woods Events,Booksigning,Disco event,DmEvents,Forest School Lvl 3 training session,Holiday Sessions,Home Education,Private event,Santa,shotting,Toddler Session
ORGANIZER;CN="At Play In The Woods":MAILTO:info@atplayinthewoods.co.uk
END:VEVENT
BEGIN:VEVENT
DTSTART;VALUE=DATE:20260123
DTEND;VALUE=DATE:20260127
DTSTAMP:20260421T233420
CREATED:20260113T102927Z
LAST-MODIFIED:20260113T102928Z
UID:15559-1769126400-1769471999@atplayinthewoods.co.uk
SUMMARY:Sam out of business
DESCRIPTION:Sam out of the business
URL:https://atplayinthewoods.co.uk/event/sam-out-of-business/
LOCATION:At Play In The Woods\, At Play In The Woods\, Brockley Lane\, Chelvey\, North Somerset\, BS48 4AH\, United Kingdom
CATEGORIES:At Play In The Woods Events,Booksigning,Disco event,DmEvents,Forest School Lvl 3 training session,Holiday Sessions,Home Education,Private event,Santa,shotting,Toddler Session
ORGANIZER;CN="At Play In The Woods":MAILTO:info@atplayinthewoods.co.uk
END:VEVENT
BEGIN:VEVENT
DTSTART;VALUE=DATE:20251109
DTEND;VALUE=DATE:20251110
DTSTAMP:20260421T233420
CREATED:20251017T204135Z
LAST-MODIFIED:20251017T204135Z
UID:15512-1762646400-1762732799@atplayinthewoods.co.uk
SUMMARY:SAM OUT OF THE BUSINESS
DESCRIPTION:Sam is away for the day
URL:https://atplayinthewoods.co.uk/event/sam-out-of-the-business-7/
LOCATION:At Play In The Woods\, At Play In The Woods\, Brockley Lane\, Chelvey\, North Somerset\, BS48 4AH\, United Kingdom
CATEGORIES:At Play In The Woods Events,Booksigning,Disco event,DmEvents,Forest School Lvl 3 training session,Holiday Sessions,Home Education,Private event,Santa,shotting,Toddler Session
END:VEVENT
BEGIN:VEVENT
DTSTART;VALUE=DATE:20251101
DTEND;VALUE=DATE:20251102
DTSTAMP:20260421T233420
CREATED:20250907T103803Z
LAST-MODIFIED:20250907T103803Z
UID:15467-1761955200-1762041599@atplayinthewoods.co.uk
SUMMARY:Private event - Harrison
DESCRIPTION:Content is protected.
URL:https://atplayinthewoods.co.uk/event/private-event-harrison/
LOCATION:North Somerset
CATEGORIES:At Play In The Woods Events,Disco event,Private event
END:VEVENT
BEGIN:VEVENT
DTSTART;TZID=Europe/London:20250705T190000
DTEND;TZID=Europe/London:20250705T233000
DTSTAMP:20260421T233420
CREATED:20240905T165350Z
LAST-MODIFIED:20240905T165350Z
UID:15042-1751742000-1751758200@atplayinthewoods.co.uk
SUMMARY:Robinson-disco
DESCRIPTION:Disco for Lorna & Kevin Robinson Clevedon Rugby Club
URL:https://atplayinthewoods.co.uk/event/robinson-disco/
LOCATION:North Somerset
CATEGORIES:Disco event
END:VEVENT
BEGIN:VEVENT
DTSTART;TZID=Europe/London:20241207T110000
DTEND;TZID=Europe/London:20241207T130000
DTSTAMP:20260421T233420
CREATED:20241020T125654Z
LAST-MODIFIED:20241020T125654Z
UID:15074-1733569200-1733576400@atplayinthewoods.co.uk
SUMMARY:Kids Party Secret Garden Nursery
DESCRIPTION:Content is protected.
URL:https://atplayinthewoods.co.uk/event/kids-party-secret-garden-nursery/
LOCATION:North Somerset
CATEGORIES:Disco event
END:VEVENT
BEGIN:VEVENT
DTSTART;TZID=Europe/London:20241124T140000
DTEND;TZID=Europe/London:20241124T160000
DTSTAMP:20260421T233420
CREATED:20241015T203601Z
LAST-MODIFIED:20241015T203601Z
UID:15072-1732456800-1732464000@atplayinthewoods.co.uk
SUMMARY:Kids christmas disco
DESCRIPTION:Content is protected.
URL:https://atplayinthewoods.co.uk/event/kids-christmas-disco/
LOCATION:North Somerset
CATEGORIES:Disco event
END:VEVENT
BEGIN:VEVENT
DTSTART;TZID=Europe/London:20241102T140000
DTEND;TZID=Europe/London:20241102T163000
DTSTAMP:20260421T233420
CREATED:20241013T131739Z
LAST-MODIFIED:20241013T131739Z
UID:15060-1730556000-1730565000@atplayinthewoods.co.uk
SUMMARY:Harrison Disco
DESCRIPTION:Content is protected.
URL:https://atplayinthewoods.co.uk/event/harrison-disco/
LOCATION:North Somerset
CATEGORIES:Disco event
END:VEVENT
BEGIN:VEVENT
DTSTART;TZID=Europe/London:20240719T180000
DTEND;TZID=Europe/London:20240719T210000
DTSTAMP:20260421T233420
CREATED:20240425T194451Z
LAST-MODIFIED:20240425T194451Z
UID:14824-1721412000-1721422800@atplayinthewoods.co.uk
SUMMARY:Leavers Disco St Nicks
DESCRIPTION:Leavers Disco for St Nicks @ Clevedon Rugby Club 6-9
URL:https://atplayinthewoods.co.uk/event/leavers-disco-st-nicks/
LOCATION:North Somerset
CATEGORIES:Disco event
END:VEVENT
BEGIN:VEVENT
DTSTART;TZID=Europe/London:20240323T013000
DTEND;TZID=Europe/London:20240323T160000
DTSTAMP:20260421T233420
CREATED:20240212T173325Z
LAST-MODIFIED:20240212T173325Z
UID:14754-1711157400-1711209600@atplayinthewoods.co.uk
SUMMARY:Disco-Sarah Keith
DESCRIPTION:Content is protected.
URL:https://atplayinthewoods.co.uk/event/disco-sarah-keith/
LOCATION:North Somerset
CATEGORIES:Disco event
END:VEVENT
BEGIN:VEVENT
DTSTART;TZID=Europe/London:20231126T000000
DTEND;TZID=Europe/London:20231126T000000
DTSTAMP:20260421T233420
CREATED:20231020T142123Z
LAST-MODIFIED:20231020T143553Z
UID:14533-1700956800-1700956800@atplayinthewoods.co.uk
SUMMARY:Kathy Mould ~ Disco
DESCRIPTION:Content is protected.
URL:https://atplayinthewoods.co.uk/event/kathy-mould-disco/
LOCATION:North Somerset
CATEGORIES:Disco event
END:VEVENT
BEGIN:VEVENT
DTSTART;TZID=Europe/London:20230708T123000
DTEND;TZID=Europe/London:20230708T143000
DTSTAMP:20260421T233420
CREATED:20230419T154306Z
LAST-MODIFIED:20230419T154628Z
UID:14127-1688819400-1688826600@atplayinthewoods.co.uk
SUMMARY:Pillinger - Disco
DESCRIPTION:Content is protected.
URL:https://atplayinthewoods.co.uk/event/pillinger-disco/
LOCATION:North Somerset
CATEGORIES:Disco event
END:VEVENT
BEGIN:VEVENT
DTSTART;TZID=Europe/London:20230129T140000
DTEND;TZID=Europe/London:20230129T160000
DTSTAMP:20260421T233420
CREATED:20230105T173941Z
LAST-MODIFIED:20230105T173941Z
UID:13606-1675000800-1675008000@atplayinthewoods.co.uk
SUMMARY:Neil Edge ~ Disco
DESCRIPTION:Content is protected.
URL:https://atplayinthewoods.co.uk/event/neil-edge-disco/
LOCATION:North Somerset
CATEGORIES:Disco event
END:VEVENT
BEGIN:VEVENT
DTSTART;TZID=Europe/London:20221217T143000
DTEND;TZID=Europe/London:20221217T163000
DTSTAMP:20260421T233420
CREATED:20220922T204328Z
LAST-MODIFIED:20220922T204328Z
UID:13206-1671287400-1671294600@atplayinthewoods.co.uk
SUMMARY:Damian Cooper ~ Disco
DESCRIPTION:Content is protected.
URL:https://atplayinthewoods.co.uk/event/damian-cooper-disco/
LOCATION:North Somerset
CATEGORIES:Disco event
END:VEVENT
BEGIN:VEVENT
DTSTART;TZID=Europe/London:20220617T190000
DTEND;TZID=Europe/London:20220618T190000
DTSTAMP:20260421T233420
CREATED:20220523T180710Z
LAST-MODIFIED:20220523T180710Z
UID:12687-1655492400-1655578800@atplayinthewoods.co.uk
SUMMARY:Clevedon Skittle Club Disco
DESCRIPTION:Disco at The Consti\, Clevedon
URL:https://atplayinthewoods.co.uk/event/clevedon-skittle-club-disco/
LOCATION:North Somerset
CATEGORIES:Disco event
END:VEVENT
END:VCALENDAR