BEGIN:VCALENDAR
VERSION:2.0
PRODID:-//At Play In The Woods - ECPv6.15.20//NONSGML v1.0//EN
CALSCALE:GREGORIAN
METHOD:PUBLISH
X-ORIGINAL-URL:https://atplayinthewoods.co.uk
X-WR-CALDESC:Events for At Play In The Woods
REFRESH-INTERVAL;VALUE=DURATION:PT1H
X-Robots-Tag:noindex
X-PUBLISHED-TTL:PT1H
BEGIN:VTIMEZONE
TZID:Europe/London
BEGIN:DAYLIGHT
TZOFFSETFROM:+0000
TZOFFSETTO:+0100
TZNAME:BST
DTSTART:20230326T010000
END:DAYLIGHT
BEGIN:STANDARD
TZOFFSETFROM:+0100
TZOFFSETTO:+0000
TZNAME:GMT
DTSTART:20231029T010000
END:STANDARD
BEGIN:DAYLIGHT
TZOFFSETFROM:+0000
TZOFFSETTO:+0100
TZNAME:BST
DTSTART:20240331T010000
END:DAYLIGHT
BEGIN:STANDARD
TZOFFSETFROM:+0100
TZOFFSETTO:+0000
TZNAME:GMT
DTSTART:20241027T010000
END:STANDARD
BEGIN:DAYLIGHT
TZOFFSETFROM:+0000
TZOFFSETTO:+0100
TZNAME:BST
DTSTART:20250330T010000
END:DAYLIGHT
BEGIN:STANDARD
TZOFFSETFROM:+0100
TZOFFSETTO:+0000
TZNAME:GMT
DTSTART:20251026T010000
END:STANDARD
BEGIN:DAYLIGHT
TZOFFSETFROM:+0000
TZOFFSETTO:+0100
TZNAME:BST
DTSTART:20260329T010000
END:DAYLIGHT
BEGIN:STANDARD
TZOFFSETFROM:+0100
TZOFFSETTO:+0000
TZNAME:GMT
DTSTART:20261025T010000
END:STANDARD
END:VTIMEZONE
BEGIN:VEVENT
DTSTART;TZID=Europe/London:20250719T140000
DTEND;TZID=Europe/London:20250719T163000
DTSTAMP:20260423T182228
CREATED:20250519T163727Z
LAST-MODIFIED:20250519T163727Z
UID:15288-1752933600-1752942600@atplayinthewoods.co.uk
SUMMARY:Clement-Dens-PM
DESCRIPTION:Content is protected.
URL:https://atplayinthewoods.co.uk/event/clement-dens-pm/
LOCATION:At Play In The Woods\, At Play In The Woods\, Brockley Lane\, Chelvey\, North Somerset\, BS48 4AH\, United Kingdom
CATEGORIES:At Play In The Woods Events
ORGANIZER;CN="At Play In The Woods":MAILTO:info@atplayinthewoods.co.uk
END:VEVENT
BEGIN:VEVENT
DTSTART;TZID=Europe/London:20250719T103000
DTEND;TZID=Europe/London:20250719T130000
DTSTAMP:20260423T182228
CREATED:20250605T134457Z
LAST-MODIFIED:20250605T134457Z
UID:15306-1752921000-1752930000@atplayinthewoods.co.uk
SUMMARY:Haydock-wands-AM
DESCRIPTION:Content is protected.
URL:https://atplayinthewoods.co.uk/event/haydock-wands-am/
LOCATION:At Play In The Woods\, At Play In The Woods\, Brockley Lane\, Chelvey\, North Somerset\, BS48 4AH\, United Kingdom
CATEGORIES:At Play In The Woods Events
ORGANIZER;CN="At Play In The Woods":MAILTO:info@atplayinthewoods.co.uk
END:VEVENT
BEGIN:VEVENT
DTSTART;TZID=Europe/London:20250713T140000
DTEND;TZID=Europe/London:20250713T163000
DTSTAMP:20260423T182228
CREATED:20250418T172612Z
LAST-MODIFIED:20250418T172612Z
UID:15226-1752415200-1752424200@atplayinthewoods.co.uk
SUMMARY:Jewell-Pirate-PM
DESCRIPTION:Content is protected.
URL:https://atplayinthewoods.co.uk/event/jewell-pirate-pm/
LOCATION:At Play In The Woods\, At Play In The Woods\, Brockley Lane\, Chelvey\, North Somerset\, BS48 4AH\, United Kingdom
CATEGORIES:At Play In The Woods Events
ORGANIZER;CN="At Play In The Woods":MAILTO:info@atplayinthewoods.co.uk
END:VEVENT
BEGIN:VEVENT
DTSTART;TZID=Europe/London:20250713T103000
DTEND;TZID=Europe/London:20250713T130000
DTSTAMP:20260423T182228
CREATED:20250504T190209Z
LAST-MODIFIED:20250504T190209Z
UID:15254-1752402600-1752411600@atplayinthewoods.co.uk
SUMMARY:Melia-Dens-AM
DESCRIPTION:Content is protected.
URL:https://atplayinthewoods.co.uk/event/melia-dens-am-2/
LOCATION:At Play In The Woods\, At Play In The Woods\, Brockley Lane\, Chelvey\, North Somerset\, BS48 4AH\, United Kingdom
CATEGORIES:At Play In The Woods Events
ORGANIZER;CN="At Play In The Woods":MAILTO:info@atplayinthewoods.co.uk
END:VEVENT
BEGIN:VEVENT
DTSTART;TZID=Europe/London:20250712T140000
DTEND;TZID=Europe/London:20250712T163000
DTSTAMP:20260423T182228
CREATED:20250303T111527Z
LAST-MODIFIED:20250315T171939Z
UID:15168-1752328800-1752337800@atplayinthewoods.co.uk
SUMMARY:Quiblier-Pirate-pm
DESCRIPTION:Content is protected.
URL:https://atplayinthewoods.co.uk/event/quiblier-pirate-pm/
LOCATION:At Play In The Woods\, At Play In The Woods\, Brockley Lane\, Chelvey\, North Somerset\, BS48 4AH\, United Kingdom
CATEGORIES:At Play In The Woods Events
ORGANIZER;CN="At Play In The Woods":MAILTO:info@atplayinthewoods.co.uk
END:VEVENT
BEGIN:VEVENT
DTSTART;TZID=Europe/London:20250615T103000
DTEND;TZID=Europe/London:20250615T130000
DTSTAMP:20260423T182228
CREATED:20250511T142040Z
LAST-MODIFIED:20250511T142040Z
UID:15258-1749983400-1749992400@atplayinthewoods.co.uk
SUMMARY:Tsafouti-dens-AM
DESCRIPTION:Content is protected.
URL:https://atplayinthewoods.co.uk/event/tsafouti-dens-am/
LOCATION:At Play In The Woods\, At Play In The Woods\, Brockley Lane\, Chelvey\, North Somerset\, BS48 4AH\, United Kingdom
CATEGORIES:At Play In The Woods Events
ORGANIZER;CN="At Play In The Woods":MAILTO:info@atplayinthewoods.co.uk
END:VEVENT
BEGIN:VEVENT
DTSTART;TZID=Europe/London:20250614T103000
DTEND;TZID=Europe/London:20250614T130000
DTSTAMP:20260423T182228
CREATED:20241101T214437Z
LAST-MODIFIED:20241101T214437Z
UID:15079-1749897000-1749906000@atplayinthewoods.co.uk
SUMMARY:Vallace-Dens-am
DESCRIPTION:Content is protected.
URL:https://atplayinthewoods.co.uk/event/vallace-dens-am/
LOCATION:At Play In The Woods\, At Play In The Woods\, Brockley Lane\, Chelvey\, North Somerset\, BS48 4AH\, United Kingdom
CATEGORIES:At Play In The Woods Events
ORGANIZER;CN="At Play In The Woods":MAILTO:info@atplayinthewoods.co.uk
END:VEVENT
BEGIN:VEVENT
DTSTART;TZID=Europe/London:20250607T140000
DTEND;TZID=Europe/London:20250607T163000
DTSTAMP:20260423T182228
CREATED:20250512T170712Z
LAST-MODIFIED:20250512T172500Z
UID:15270-1749304800-1749313800@atplayinthewoods.co.uk
SUMMARY:Ward-Wands-PM
DESCRIPTION:Content is protected.
URL:https://atplayinthewoods.co.uk/event/ward-wands-pm/
LOCATION:At Play In The Woods\, At Play In The Woods\, Brockley Lane\, Chelvey\, North Somerset\, BS48 4AH\, United Kingdom
CATEGORIES:At Play In The Woods Events
ORGANIZER;CN="At Play In The Woods":MAILTO:info@atplayinthewoods.co.uk
END:VEVENT
BEGIN:VEVENT
DTSTART;TZID=Europe/London:20250524T140000
DTEND;TZID=Europe/London:20250524T163000
DTSTAMP:20260423T182228
CREATED:20250404T124147Z
LAST-MODIFIED:20250404T124147Z
UID:15194-1748095200-1748104200@atplayinthewoods.co.uk
SUMMARY:Sant-Pirate-PM
DESCRIPTION:Content is protected.
URL:https://atplayinthewoods.co.uk/event/sant-pirate-pm/
LOCATION:At Play In The Woods\, At Play In The Woods\, Brockley Lane\, Chelvey\, North Somerset\, BS48 4AH\, United Kingdom
CATEGORIES:At Play In The Woods Events
ORGANIZER;CN="At Play In The Woods":MAILTO:info@atplayinthewoods.co.uk
END:VEVENT
BEGIN:VEVENT
DTSTART;TZID=Europe/London:20250524T103000
DTEND;TZID=Europe/London:20250524T130000
DTSTAMP:20260423T182228
CREATED:20230921T170929Z
LAST-MODIFIED:20240523T163820Z
UID:14447-1748082600-1748091600@atplayinthewoods.co.uk
SUMMARY:Cismas~Bespoke~AM
DESCRIPTION:Content is protected.
URL:https://atplayinthewoods.co.uk/event/cismasbespokeam/
LOCATION:At Play In The Woods\, At Play In The Woods\, Brockley Lane\, Chelvey\, North Somerset\, BS48 4AH\, United Kingdom
CATEGORIES:At Play In The Woods Events
ORGANIZER;CN="At Play In The Woods":MAILTO:info@atplayinthewoods.co.uk
END:VEVENT
BEGIN:VEVENT
DTSTART;TZID=Europe/London:20250517T103000
DTEND;TZID=Europe/London:20250517T130000
DTSTAMP:20260423T182228
CREATED:20250418T164602Z
LAST-MODIFIED:20250418T164602Z
UID:15221-1747477800-1747486800@atplayinthewoods.co.uk
SUMMARY:Cottrell-Wands-AM
DESCRIPTION:Content is protected.
URL:https://atplayinthewoods.co.uk/event/cottrell-wands-am/
LOCATION:At Play In The Woods\, At Play In The Woods\, Brockley Lane\, Chelvey\, North Somerset\, BS48 4AH\, United Kingdom
CATEGORIES:At Play In The Woods Events
ORGANIZER;CN="At Play In The Woods":MAILTO:info@atplayinthewoods.co.uk
END:VEVENT
BEGIN:VEVENT
DTSTART;TZID=Europe/London:20250510T103000
DTEND;TZID=Europe/London:20250510T130000
DTSTAMP:20260423T182228
CREATED:20250303T105538Z
LAST-MODIFIED:20250303T105538Z
UID:15163-1746873000-1746882000@atplayinthewoods.co.uk
SUMMARY:Edwards-Pirate-AM
DESCRIPTION:Content is protected.
URL:https://atplayinthewoods.co.uk/event/edwards-pirate-am/
LOCATION:At Play In The Woods\, At Play In The Woods\, Brockley Lane\, Chelvey\, North Somerset\, BS48 4AH\, United Kingdom
CATEGORIES:At Play In The Woods Events
ORGANIZER;CN="At Play In The Woods":MAILTO:info@atplayinthewoods.co.uk
END:VEVENT
BEGIN:VEVENT
DTSTART;TZID=Europe/London:20250503T103000
DTEND;TZID=Europe/London:20250503T130000
DTSTAMP:20260423T182228
CREATED:20241229T142807Z
LAST-MODIFIED:20241229T142807Z
UID:15107-1746268200-1746277200@atplayinthewoods.co.uk
SUMMARY:McCluskey-bespoke-am
DESCRIPTION:Content is protected.
URL:https://atplayinthewoods.co.uk/event/mccluskey-bespoke-am/
LOCATION:At Play In The Woods\, At Play In The Woods\, Brockley Lane\, Chelvey\, North Somerset\, BS48 4AH\, United Kingdom
CATEGORIES:At Play In The Woods Events
ORGANIZER;CN="At Play In The Woods":MAILTO:info@atplayinthewoods.co.uk
END:VEVENT
BEGIN:VEVENT
DTSTART;TZID=Europe/London:20250426T140000
DTEND;TZID=Europe/London:20250426T163000
DTSTAMP:20260423T182228
CREATED:20250303T154352Z
LAST-MODIFIED:20250303T154352Z
UID:15172-1745676000-1745685000@atplayinthewoods.co.uk
SUMMARY:Pinto-Dens-PM
DESCRIPTION:Content is protected.
URL:https://atplayinthewoods.co.uk/event/pinto-dens-pm/
LOCATION:At Play In The Woods\, At Play In The Woods\, Brockley Lane\, Chelvey\, North Somerset\, BS48 4AH\, United Kingdom
CATEGORIES:At Play In The Woods Events
ORGANIZER;CN="At Play In The Woods":MAILTO:info@atplayinthewoods.co.uk
END:VEVENT
BEGIN:VEVENT
DTSTART;TZID=Europe/London:20250426T103000
DTEND;TZID=Europe/London:20250426T130000
DTSTAMP:20260423T182228
CREATED:20250108T171859Z
LAST-MODIFIED:20250108T171859Z
UID:15127-1745663400-1745672400@atplayinthewoods.co.uk
SUMMARY:Morgan-bespoke-am
DESCRIPTION:Content is protected.
URL:https://atplayinthewoods.co.uk/event/morgan-bespoke-am/
LOCATION:At Play In The Woods\, At Play In The Woods\, Brockley Lane\, Chelvey\, North Somerset\, BS48 4AH\, United Kingdom
CATEGORIES:At Play In The Woods Events
ORGANIZER;CN="At Play In The Woods":MAILTO:info@atplayinthewoods.co.uk
END:VEVENT
BEGIN:VEVENT
DTSTART;TZID=Europe/London:20250405T103000
DTEND;TZID=Europe/London:20250405T130000
DTSTAMP:20260423T182228
CREATED:20250124T145620Z
LAST-MODIFIED:20250124T145620Z
UID:15144-1743849000-1743858000@atplayinthewoods.co.uk
SUMMARY:Smith-Dens-AM
DESCRIPTION:Content is protected.
URL:https://atplayinthewoods.co.uk/event/smith-dens-am/
LOCATION:At Play In The Woods\, At Play In The Woods\, Brockley Lane\, Chelvey\, North Somerset\, BS48 4AH\, United Kingdom
CATEGORIES:At Play In The Woods Events
ORGANIZER;CN="At Play In The Woods":MAILTO:info@atplayinthewoods.co.uk
END:VEVENT
BEGIN:VEVENT
DTSTART;TZID=Europe/London:20250208T103000
DTEND;TZID=Europe/London:20250208T130000
DTSTAMP:20260423T182228
CREATED:20250121T171345Z
LAST-MODIFIED:20250121T171345Z
UID:15133-1739010600-1739019600@atplayinthewoods.co.uk
SUMMARY:Bennett-Dens-AM
DESCRIPTION:Content is protected.
URL:https://atplayinthewoods.co.uk/event/bennett-dens-am/
LOCATION:At Play In The Woods\, At Play In The Woods\, Brockley Lane\, Chelvey\, North Somerset\, BS48 4AH\, United Kingdom
CATEGORIES:At Play In The Woods Events
ORGANIZER;CN="At Play In The Woods":MAILTO:info@atplayinthewoods.co.uk
END:VEVENT
BEGIN:VEVENT
DTSTART;TZID=Europe/London:20241228T103000
DTEND;TZID=Europe/London:20241228T130000
DTSTAMP:20260423T182228
CREATED:20240814T172343Z
LAST-MODIFIED:20240814T172343Z
UID:15028-1735381800-1735390800@atplayinthewoods.co.uk
SUMMARY:Dredge-Wands-AM
DESCRIPTION:Content is protected.
URL:https://atplayinthewoods.co.uk/event/dredge-wands-am/
LOCATION:At Play In The Woods\, At Play In The Woods\, Brockley Lane\, Chelvey\, North Somerset\, BS48 4AH\, United Kingdom
CATEGORIES:At Play In The Woods Events
ORGANIZER;CN="At Play In The Woods":MAILTO:info@atplayinthewoods.co.uk
END:VEVENT
BEGIN:VEVENT
DTSTART;TZID=Europe/London:20241123T140000
DTEND;TZID=Europe/London:20241123T163000
DTSTAMP:20260423T182228
CREATED:20241107T211631Z
LAST-MODIFIED:20241107T211631Z
UID:15086-1732370400-1732379400@atplayinthewoods.co.uk
SUMMARY:Staniewska-wands-PM
DESCRIPTION:Content is protected.
URL:https://atplayinthewoods.co.uk/event/staniewska-wands-pm/
LOCATION:At Play In The Woods\, At Play In The Woods\, Brockley Lane\, Chelvey\, North Somerset\, BS48 4AH\, United Kingdom
CATEGORIES:At Play In The Woods Events
ORGANIZER;CN="At Play In The Woods":MAILTO:info@atplayinthewoods.co.uk
END:VEVENT
BEGIN:VEVENT
DTSTART;TZID=Europe/London:20241116T103000
DTEND;TZID=Europe/London:20241116T130000
DTSTAMP:20260423T182228
CREATED:20240922T125116Z
LAST-MODIFIED:20240922T125116Z
UID:15051-1731753000-1731762000@atplayinthewoods.co.uk
SUMMARY:Harber-Dens-AM
DESCRIPTION:Content is protected.
URL:https://atplayinthewoods.co.uk/event/harber-dens-am/
LOCATION:At Play In The Woods\, At Play In The Woods\, Brockley Lane\, Chelvey\, North Somerset\, BS48 4AH\, United Kingdom
CATEGORIES:At Play In The Woods Events
ORGANIZER;CN="At Play In The Woods":MAILTO:info@atplayinthewoods.co.uk
END:VEVENT
BEGIN:VEVENT
DTSTART;TZID=Europe/London:20240928T140000
DTEND;TZID=Europe/London:20240928T163000
DTSTAMP:20260423T182228
CREATED:20240818T134724Z
LAST-MODIFIED:20240818T160834Z
UID:15032-1727532000-1727541000@atplayinthewoods.co.uk
SUMMARY:Reed-Wands-pm
DESCRIPTION:Content is protected.
URL:https://atplayinthewoods.co.uk/event/reed-wands-pm/
LOCATION:At Play In The Woods\, At Play In The Woods\, Brockley Lane\, Chelvey\, North Somerset\, BS48 4AH\, United Kingdom
CATEGORIES:At Play In The Woods Events
ORGANIZER;CN="At Play In The Woods":MAILTO:info@atplayinthewoods.co.uk
END:VEVENT
BEGIN:VEVENT
DTSTART;TZID=Europe/London:20240829T113000
DTEND;TZID=Europe/London:20240829T140000
DTSTAMP:20260423T182228
CREATED:20240813T192017Z
LAST-MODIFIED:20240813T194712Z
UID:15000-1724931000-1724940000@atplayinthewoods.co.uk
SUMMARY:Fun Day in the woods -St Nicks' parent group reception 2023
DESCRIPTION:Content is protected.
URL:https://atplayinthewoods.co.uk/event/fun-day-in-the-woods/
LOCATION:At Play In The Woods\, At Play In The Woods\, Brockley Lane\, Chelvey\, North Somerset\, BS48 4AH\, United Kingdom
CATEGORIES:At Play In The Woods Events
END:VEVENT
BEGIN:VEVENT
DTSTART;TZID=Europe/London:20240811T103000
DTEND;TZID=Europe/London:20240811T130000
DTSTAMP:20260423T182228
CREATED:20240520T174354Z
LAST-MODIFIED:20240530T105426Z
UID:14891-1723372200-1723381200@atplayinthewoods.co.uk
SUMMARY:Oliver-Dino-am
DESCRIPTION:Content is protected.
URL:https://atplayinthewoods.co.uk/event/oliver-dino-am/
LOCATION:At Play In The Woods\, At Play In The Woods\, Brockley Lane\, Chelvey\, North Somerset\, BS48 4AH\, United Kingdom
CATEGORIES:At Play In The Woods Events
ORGANIZER;CN="At Play In The Woods":MAILTO:info@atplayinthewoods.co.uk
END:VEVENT
BEGIN:VEVENT
DTSTART;TZID=Europe/London:20240803T093000
DTEND;TZID=Europe/London:20240803T113000
DTSTAMP:20260423T182228
CREATED:20240224T202744Z
LAST-MODIFIED:20240224T202908Z
UID:14773-1722677400-1722684600@atplayinthewoods.co.uk
SUMMARY:Lucy Shipway
DESCRIPTION:Content is protected.
URL:https://atplayinthewoods.co.uk/event/lucy-shipway/
LOCATION:At Play In The Woods\, At Play In The Woods\, Brockley Lane\, Chelvey\, North Somerset\, BS48 4AH\, United Kingdom
CATEGORIES:At Play In The Woods Events
END:VEVENT
BEGIN:VEVENT
DTSTART;TZID=Europe/London:20240720T140000
DTEND;TZID=Europe/London:20240720T163000
DTSTAMP:20260423T182228
CREATED:20240625T200029Z
LAST-MODIFIED:20240625T200301Z
UID:14941-1721484000-1721493000@atplayinthewoods.co.uk
SUMMARY:Lam-Dino-PM
DESCRIPTION:Content is protected.
URL:https://atplayinthewoods.co.uk/event/lam-dino-pm/
LOCATION:At Play In The Woods\, At Play In The Woods\, Brockley Lane\, Chelvey\, North Somerset\, BS48 4AH\, United Kingdom
CATEGORIES:At Play In The Woods Events
ORGANIZER;CN="At Play In The Woods":MAILTO:info@atplayinthewoods.co.uk
END:VEVENT
BEGIN:VEVENT
DTSTART;TZID=Europe/London:20240720T103000
DTEND;TZID=Europe/London:20240720T130000
DTSTAMP:20260423T182228
CREATED:20230331T102352Z
LAST-MODIFIED:20240403T164952Z
UID:14044-1721471400-1721480400@atplayinthewoods.co.uk
SUMMARY:Kate Hart~Pirate~AM
DESCRIPTION:Content is protected.
URL:https://atplayinthewoods.co.uk/event/kate-hartpirate15-7am/
LOCATION:At Play In The Woods\, At Play In The Woods\, Brockley Lane\, Chelvey\, North Somerset\, BS48 4AH\, United Kingdom
CATEGORIES:At Play In The Woods Events
ORGANIZER;CN="At Play In The Woods":MAILTO:info@atplayinthewoods.co.uk
END:VEVENT
BEGIN:VEVENT
DTSTART;TZID=Europe/London:20240714T103000
DTEND;TZID=Europe/London:20240714T130000
DTSTAMP:20260423T182228
CREATED:20240520T172557Z
LAST-MODIFIED:20240520T172557Z
UID:14882-1720953000-1720962000@atplayinthewoods.co.uk
SUMMARY:Melia-Dens-AM
DESCRIPTION:Content is protected.
URL:https://atplayinthewoods.co.uk/event/melia-dens-am/
LOCATION:At Play In The Woods\, At Play In The Woods\, Brockley Lane\, Chelvey\, North Somerset\, BS48 4AH\, United Kingdom
CATEGORIES:At Play In The Woods Events
ORGANIZER;CN="At Play In The Woods":MAILTO:info@atplayinthewoods.co.uk
END:VEVENT
BEGIN:VEVENT
DTSTART;TZID=Europe/London:20240713T140000
DTEND;TZID=Europe/London:20240713T163000
DTSTAMP:20260423T182228
CREATED:20240625T185037Z
LAST-MODIFIED:20240625T185037Z
UID:14936-1720879200-1720888200@atplayinthewoods.co.uk
SUMMARY:Hayward-pirate-pm
DESCRIPTION:Content is protected.
URL:https://atplayinthewoods.co.uk/event/hayward-pirate-pm/
LOCATION:At Play In The Woods\, At Play In The Woods\, Brockley Lane\, Chelvey\, North Somerset\, BS48 4AH\, United Kingdom
CATEGORIES:At Play In The Woods Events
ORGANIZER;CN="At Play In The Woods":MAILTO:info@atplayinthewoods.co.uk
END:VEVENT
BEGIN:VEVENT
DTSTART;TZID=Europe/London:20240713T103000
DTEND;TZID=Europe/London:20240713T130000
DTSTAMP:20260423T182228
CREATED:20240505T165405Z
LAST-MODIFIED:20240505T165405Z
UID:14851-1720866600-1720875600@atplayinthewoods.co.uk
SUMMARY:Parle-Pirate-AM
DESCRIPTION:Content is protected.
URL:https://atplayinthewoods.co.uk/event/parle-pirate-am/
LOCATION:At Play In The Woods\, At Play In The Woods\, Brockley Lane\, Chelvey\, North Somerset\, BS48 4AH\, United Kingdom
CATEGORIES:At Play In The Woods Events
ORGANIZER;CN="At Play In The Woods":MAILTO:info@atplayinthewoods.co.uk
END:VEVENT
BEGIN:VEVENT
DTSTART;TZID=Europe/London:20240630T103000
DTEND;TZID=Europe/London:20240630T130000
DTSTAMP:20260423T182228
CREATED:20240501T171712Z
LAST-MODIFIED:20240501T173102Z
UID:14843-1719743400-1719752400@atplayinthewoods.co.uk
SUMMARY:Xerri-woods-Bespoke-AM
DESCRIPTION:Content is protected.
URL:https://atplayinthewoods.co.uk/event/xerri-woods-bespoke-am/
LOCATION:At Play In The Woods\, At Play In The Woods\, Brockley Lane\, Chelvey\, North Somerset\, BS48 4AH\, United Kingdom
CATEGORIES:At Play In The Woods Events
ORGANIZER;CN="At Play In The Woods":MAILTO:info@atplayinthewoods.co.uk
END:VEVENT
END:VCALENDAR